{"text_format":"1","workbook":"xlsx","n_sheets":4,"sheets":["matriz puntaje","matriz evaluación","comité evaluador","ranking acta"],"not_rendered":{"charts":0,"images":0,"macros":1,"external_links":2,"defined_names":0,"comments":0,"pivot_tables":0},"unopened":[],"bounds":{"document_bytes":16777216,"sheet_cells":100000,"rows_first":2000,"rows_last":500,"rows_between":2000,"halvings":0,"cell_chars":16384,"cell_head_chars":4096},"cells_cut":0,"cells_raw":0,"read":"whole","date_system":"1900"}

{"sheet":"matriz puntaje","index":0,"n_rows":20,"n_cols":4,"rows_kept":20,"cut":false,"hidden":false,"merged":[[15,0,19,0],[15,3,19,3],[11,0,14,0],[11,3,14,3],[0,0,0,3],[2,0,5,0],[2,3,5,3],[6,0,10,0],[6,3,10,3]]}
["FERIAS"]
["Criterio de Selección ","Clasificación","Puntaje","Ponderación"]
["Comité Evaluador","Muy buena",4,0.5]
[null,"Buena",3]
[null,"Suficiente",2]
[null,"Insuficiente",1]
["Permanencia Exportadora","Exportadora Continua (años 2017, 2018 y 2019)",5,0.25]
[null,"Exportadora Intermitente (al menos dos años entre 2017 y 2019)",4]
[null,"Nuevo exportador (solo año 2021)",3]
[null,"Exportador solo un año (año 2019 o 2020)",2]
[null,"Sin exportaciones",1]
["Tamaño empresa","Mediana",4,0.2]
[null,"Pequeña",3]
[null,"Micro",2]
[null,"Grande",1]
["Test de Gestión Sostenible","Puntaje total entre 9 y 12",5,0.05]
[null,"Puntaje total entre 5 y 8",4]
[null,"Puntaje total entre 1 y 4",3]
[null,"Puntaje total cero",2]
[null,"Sin test realizado",1]

{"sheet":"matriz evaluación","index":1,"n_rows":204,"n_cols":14,"rows_kept":204,"cut":false,"hidden":false,"merged":[[1,5,1,12],[2,13,3,13],[0,0,0,1],[1,0,3,0],[1,1,3,1],[1,2,3,2],[1,3,3,3],[1,4,3,4]]}
["PLANILLA EVALUACIÓN"]
["ID","Nombre del Postulante","Rut","Fecha de Postulación","Hora de Postulación","CRITERIOS DE SELECCIÓN"]
[null,null,null,null,null,"Criterio",0.2,"Criterio",0.25,"Criterio",0.05,"Criterio",0.5,"PUNTAJE FINAL"]
[null,null,null,null,null,"Tamaño Empresa","Puntaje","Permanencia Exportadora","Puntaje","Test de Gestión Sostenible","Puntaje",null,"Puntaje"]
[1,null,null,null,null,null,{"$f":"IFERROR(VLOOKUP(F5,'matriz puntaje'!$B$12:$C$15,2,FALSE),\"\")","v":""},null,{"$f":"IFERROR(VLOOKUP(H5,'matriz puntaje'!$B$7:$C$11,2,FALSE),\"\")","v":""},null,{"$f":"IFERROR(VLOOKUP(J5,'matriz puntaje'!$B$16:$C$20,2,FALSE),\"\")","v":""},{"$f":"IFERROR(VLOOKUP(A5,'comité evaluador'!$A$3:$P$202,16,FALSE),\"\")","v":""},{"$f":"L5","v":""},{"$f":"IFERROR((G5*$G$3+I5*$I$3+M5*$M$3+$K$3*K5),\"\")","v":""}]
[2,null,null,null,null,null,{"$f":"IFERROR(VLOOKUP(F6,'matriz puntaje'!$B$12:$C$15,2,FALSE),\"\")","v":""},null,{"$f":"IFERROR(VLOOKUP(H6,'matriz puntaje'!$B$7:$C$11,2,FALSE),\"\")","v":""},null,{"$f":"IFERROR(VLOOKUP(J6,'matriz puntaje'!$B$16:$C$20,2,FALSE),\"\")","v":""},{"$f":"IFERROR(VLOOKUP(A6,'comité evaluador'!$A$3:$P$202,16,FALSE),\"\")","v":""},{"$f":"L6","v":""},{"$f":"IFERROR((G6*$G$3+I6*$I$3+M6*$M$3+$K$3*K6),\"\")","v":""}]
[3,null,null,null,null,null,{"$f":"IFERROR(VLOOKUP(F7,'matriz puntaje'!$B$12:$C$15,2,FALSE),\"\")","v":""},null,{"$f":"IFERROR(VLOOKUP(H7,'matriz puntaje'!$B$7:$C$11,2,FALSE),\"\")","v":""},null,{"$f":"IFERROR(VLOOKUP(J7,'matriz puntaje'!$B$16:$C$20,2,FALSE),\"\")","v":""},{"$f":"IFERROR(VLOOKUP(A7,'comité evaluador'!$A$3:$P$202,16,FALSE),\"\")","v":""},"",""]
[4,null,null,null,null,null,{"$f":"IFERROR(VLOOKUP(F8,'matriz puntaje'!$B$12:$C$15,2,FALSE),\"\")","v":""},null,{"$f":"IFERROR(VLOOKUP(H8,'matriz puntaje'!$B$7:$C$11,2,FALSE),\"\")","v":""},null,{"$f":"IFERROR(VLOOKUP(J8,'matriz puntaje'!$B$16:$C$20,2,FALSE),\"\")","v":""},{"$f":"IFERROR(VLOOKUP(A8,'comité evaluador'!$A$3:$P$202,16,FALSE),\"\")","v":""},"",""]
[5,null,null,null,null,null,{"$f":"IFERROR(VLOOKUP(F9,'matriz puntaje'!$B$12:$C$15,2,FALSE),\"\")","v":""},null,{"$f":"IFERROR(VLOOKUP(H9,'matriz puntaje'!$B$7:$C$11,2,FALSE),\"\")","v":""},null,{"$f":"IFERROR(VLOOKUP(J9,'matriz puntaje'!$B$16:$C$20,2,FALSE),\"\")","v":""},{"$f":"IFERROR(VLOOKUP(A9,'comité evaluador'!$A$3:$P$202,16,FALSE),\"\")","v":""},"",""]
[6,null,null,null,null,null,{"$f":"IFERROR(VLOOKUP(F10,'matriz puntaje'!$B$12:$C$15,2,FALSE),\"\")","v":""},null,{"$f":"IFERROR(VLOOKUP(H10,'matriz puntaje'!$B$7:$C$11,2,FALSE),\"\")","v":""},null,{"$f":"IFERROR(VLOOKUP(J10,'matriz puntaje'!$B$16:$C$20,2,FALSE),\"\")","v":""},{"$f":"IFERROR(VLOOKUP(A10,'comité evaluador'!$A$3:$P$202,16,FALSE),\"\")","v":""},"",""]
[7,null,null,null,null,null,{"$f":"IFERROR(VLOOKUP(F11,'matriz puntaje'!$B$12:$C$15,2,FALSE),\"\")","v":""},null,{"$f":"IFERROR(VLOOKUP(H11,'matriz puntaje'!$B$7:$C$11,2,FALSE),\"\")","v":""},null,{"$f":"IFERROR(VLOOKUP(J11,'matriz puntaje'!$B$16:$C$20,2,FALSE),\"\")","v":""},{"$f":"IFERROR(VLOOKUP(A11,'comité evaluador'!$A$3:$P$202,16,FALSE),\"\")","v":""},"",""]
[8,null,null,null,null,null,{"$f":"IFERROR(VLOOKUP(F12,'matriz puntaje'!$B$12:$C$15,2,FALSE),\"\")","v":""},null,{"$f":"IFERROR(VLOOKUP(H12,'matriz puntaje'!$B$7:$C$11,2,FALSE),\"\")","v":""},null,{"$f":"IFERROR(VLOOKUP(J12,'matriz puntaje'!$B$16:$C$20,2,FALSE),\"\")","v":""},{"$f":"IFERROR(VLOOKUP(A12,'comité evaluador'!$A$3:$P$202,16,FALSE),\"\")","v":""},"",""]
[9,null,null,null,null,null,{"$f":"IFERROR(VLOOKUP(F13,'matriz puntaje'!$B$12:$C$15,2,FALSE),\"\")","v":""},null,{"$f":"IFERROR(VLOOKUP(H13,'matriz puntaje'!$B$7:$C$11,2,FALSE),\"\")","v":""},null,{"$f":"IFERROR(VLOOKUP(J13,'matriz puntaje'!$B$16:$C$20,2,FALSE),\"\")","v":""},{"$f":"IFERROR(VLOOKUP(A13,'comité evaluador'!$A$3:$P$202,16,FALSE),\"\")","v":""},"",""]
[10,null,null,null,null,null,{"$f":"IFERROR(VLOOKUP(F14,'matriz puntaje'!$B$12:$C$15,2,FALSE),\"\")","v":""},null,{"$f":"IFERROR(VLOOKUP(H14,'matriz puntaje'!$B$7:$C$11,2,FALSE),\"\")","v":""},null,{"$f":"IFERROR(VLOOKUP(J14,'matriz puntaje'!$B$16:$C$20,2,FALSE),\"\")","v":""},{"$f":"IFERROR(VLOOKUP(A14,'comité evaluador'!$A$3:$P$202,16,FALSE),\"\")","v":""},"",""]
[11,null,null,null,null,null,{"$f":"IFERROR(VLOOKUP(F15,'matriz puntaje'!$B$12:$C$15,2,FALSE),\"\")","v":""},null,{"$f":"IFERROR(VLOOKUP(H15,'matriz puntaje'!$B$7:$C$11,2,FALSE),\"\")","v":""},null,{"$f":"IFERROR(VLOOKUP(J15,'matriz puntaje'!$B$16:$C$20,2,FALSE),\"\")","v":""},{"$f":"IFERROR(VLOOKUP(A15,'comité evaluador'!$A$3:$P$202,16,FALSE),\"\")","v":""},"",""]
[12,null,null,null,null,null,{"$f":"IFERROR(VLOOKUP(F16,'matriz puntaje'!$B$12:$C$15,2,FALSE),\"\")","v":""},null,{"$f":"IFERROR(VLOOKUP(H16,'matriz puntaje'!$B$7:$C$11,2,FALSE),\"\")","v":""},null,{"$f":"IFERROR(VLOOKUP(J16,'matriz puntaje'!$B$16:$C$20,2,FALSE),\"\")","v":""},{"$f":"IFERROR(VLOOKUP(A16,'comité evaluador'!$A$3:$P$202,16,FALSE),\"\")","v":""},"",""]
[13,null,null,null,null,null,{"$f":"IFERROR(VLOOKUP(F17,'matriz puntaje'!$B$12:$C$15,2,FALSE),\"\")","v":""},null,{"$f":"IFERROR(VLOOKUP(H17,'matriz puntaje'!$B$7:$C$11,2,FALSE),\"\")","v":""},null,{"$f":"IFERROR(VLOOKUP(J17,'matriz puntaje'!$B$16:$C$20,2,FALSE),\"\")","v":""},{"$f":"IFERROR(VLOOKUP(A17,'comité evaluador'!$A$3:$P$202,16,FALSE),\"\")","v":""},"",""]
[14,null,null,null,null,null,{"$f":"IFERROR(VLOOKUP(F18,'matriz puntaje'!$B$12:$C$15,2,FALSE),\"\")","v":""},null,{"$f":"IFERROR(VLOOKUP(H18,'matriz puntaje'!$B$7:$C$11,2,FALSE),\"\")","v":""},null,{"$f":"IFERROR(VLOOKUP(J18,'matriz puntaje'!$B$16:$C$20,2,FALSE),\"\")","v":""},{"$f":"IFERROR(VLOOKUP(A18,'comité evaluador'!$A$3:$P$202,16,FALSE),\"\")","v":""},"",""]
[15,null,null,null,null,null,{"$f":"IFERROR(VLOOKUP(F19,'matriz puntaje'!$B$12:$C$15,2,FALSE),\"\")","v":""},null,{"$f":"IFERROR(VLOOKUP(H19,'matriz puntaje'!$B$7:$C$11,2,FALSE),\"\")","v":""},null,{"$f":"IFERROR(VLOOKUP(J19,'matriz puntaje'!$B$16:$C$20,2,FALSE),\"\")","v":""},{"$f":"IFERROR(VLOOKUP(A19,'comité evaluador'!$A$3:$P$202,16,FALSE),\"\")","v":""},"",""]
[16,null,null,null,null,null,{"$f":"IFERROR(VLOOKUP(F20,'matriz puntaje'!$B$12:$C$15,2,FALSE),\"\")","v":""},null,{"$f":"IFERROR(VLOOKUP(H20,'matriz puntaje'!$B$7:$C$11,2,FALSE),\"\")","v":""},null,{"$f":"IFERROR(VLOOKUP(J20,'matriz puntaje'!$B$16:$C$20,2,FALSE),\"\")","v":""},{"$f":"IFERROR(VLOOKUP(A20,'comité evaluador'!$A$3:$P$202,16,FALSE),\"\")","v":""},"",""]
[17,null,null,null,null,null,{"$f":"IFERROR(VLOOKUP(F21,'matriz puntaje'!$B$12:$C$15,2,FALSE),\"\")","v":""},null,{"$f":"IFERROR(VLOOKUP(H21,'matriz puntaje'!$B$7:$C$11,2,FALSE),\"\")","v":""},null,{"$f":"IFERROR(VLOOKUP(J21,'matriz puntaje'!$B$16:$C$20,2,FALSE),\"\")","v":""},{"$f":"IFERROR(VLOOKUP(A21,'comité evaluador'!$A$3:$P$202,16,FALSE),\"\")","v":""},"",""]
[18,null,null,null,null,null,{"$f":"IFERROR(VLOOKUP(F22,'matriz puntaje'!$B$12:$C$15,2,FALSE),\"\")","v":""},null,{"$f":"IFERROR(VLOOKUP(H22,'matriz puntaje'!$B$7:$C$11,2,FALSE),\"\")","v":""},null,{"$f":"IFERROR(VLOOKUP(J22,'matriz puntaje'!$B$16:$C$20,2,FALSE),\"\")","v":""},{"$f":"IFERROR(VLOOKUP(A22,'comité evaluador'!$A$3:$P$202,16,FALSE),\"\")","v":""},"",""]
[19,null,null,null,null,null,{"$f":"IFERROR(VLOOKUP(F23,'matriz puntaje'!$B$12:$C$15,2,FALSE),\"\")","v":""},null,{"$f":"IFERROR(VLOOKUP(H23,'matriz puntaje'!$B$7:$C$11,2,FALSE),\"\")","v":""},null,{"$f":"IFERROR(VLOOKUP(J23,'matriz puntaje'!$B$16:$C$20,2,FALSE),\"\")","v":""},{"$f":"IFERROR(VLOOKUP(A23,'comité evaluador'!$A$3:$P$202,16,FALSE),\"\")","v":""},"",""]
[20,null,null,null,null,null,{"$f":"IFERROR(VLOOKUP(F24,'matriz puntaje'!$B$12:$C$15,2,FALSE),\"\")","v":""},null,{"$f":"IFERROR(VLOOKUP(H24,'matriz puntaje'!$B$7:$C$11,2,FALSE),\"\")","v":""},null,{"$f":"IFERROR(VLOOKUP(J24,'matriz puntaje'!$B$16:$C$20,2,FALSE),\"\")","v":""},{"$f":"IFERROR(VLOOKUP(A24,'comité evaluador'!$A$3:$P$202,16,FALSE),\"\")","v":""},"",""]
[21,null,null,null,null,null,{"$f":"IFERROR(VLOOKUP(F25,'matriz puntaje'!$B$12:$C$15,2,FALSE),\"\")","v":""},null,{"$f":"IFERROR(VLOOKUP(H25,'matriz puntaje'!$B$7:$C$11,2,FALSE),\"\")","v":""},null,{"$f":"IFERROR(VLOOKUP(J25,'matriz puntaje'!$B$16:$C$20,2,FALSE),\"\")","v":""},{"$f":"IFERROR(VLOOKUP(A25,'comité evaluador'!$A$3:$P$202,16,FALSE),\"\")","v":""},"",""]
[22,null,null,null,null,null,{"$f":"IFERROR(VLOOKUP(F26,'matriz puntaje'!$B$12:$C$15,2,FALSE),\"\")","v":""},null,{"$f":"IFERROR(VLOOKUP(H26,'matriz puntaje'!$B$7:$C$11,2,FALSE),\"\")","v":""},null,{"$f":"IFERROR(VLOOKUP(J26,'matriz puntaje'!$B$16:$C$20,2,FALSE),\"\")","v":""},{"$f":"IFERROR(VLOOKUP(A26,'comité evaluador'!$A$3:$P$202,16,FALSE),\"\")","v":""},"",""]
[23,null,null,null,null,null,{"$f":"IFERROR(VLOOKUP(F27,'matriz puntaje'!$B$12:$C$15,2,FALSE),\"\")","v":""},null,{"$f":"IFERROR(VLOOKUP(H27,'matriz puntaje'!$B$7:$C$11,2,FALSE),\"\")","v":""},null,{"$f":"IFERROR(VLOOKUP(J27,'matriz puntaje'!$B$16:$C$20,2,FALSE),\"\")","v":""},{"$f":"IFERROR(VLOOKUP(A27,'comité evaluador'!$A$3:$P$202,16,FALSE),\"\")","v":""},"",""]
[24,null,null,null,null,null,{"$f":"IFERROR(VLOOKUP(F28,'matriz puntaje'!$B$12:$C$15,2,FALSE),\"\")","v":""},null,{"$f":"IFERROR(VLOOKUP(H28,'matriz puntaje'!$B$7:$C$11,2,FALSE),\"\")","v":""},null,{"$f":"IFERROR(VLOOKUP(J28,'matriz puntaje'!$B$16:$C$20,2,FALSE),\"\")","v":""},{"$f":"IFERROR(VLOOKUP(A28,'comité evaluador'!$A$3:$P$202,16,FALSE),\"\")","v":""},"",""]
[25,null,null,null,null,null,{"$f":"IFERROR(VLOOKUP(F29,'matriz puntaje'!$B$12:$C$15,2,FALSE),\"\")","v":""},null,{"$f":"IFERROR(VLOOKUP(H29,'matriz puntaje'!$B$7:$C$11,2,FALSE),\"\")","v":""},null,{"$f":"IFERROR(VLOOKUP(J29,'matriz puntaje'!$B$16:$C$20,2,FALSE),\"\")","v":""},{"$f":"IFERROR(VLOOKUP(A29,'comité evaluador'!$A$3:$P$202,16,FALSE),\"\")","v":""},"",""]
[26,null,null,null,null,null,{"$f":"IFERROR(VLOOKUP(F30,'matriz puntaje'!$B$12:$C$15,2,FALSE),\"\")","v":""},null,{"$f":"IFERROR(VLOOKUP(H30,'matriz puntaje'!$B$7:$C$11,2,FALSE),\"\")","v":""},null,{"$f":"IFERROR(VLOOKUP(J30,'matriz puntaje'!$B$16:$C$20,2,FALSE),\"\")","v":""},{"$f":"IFERROR(VLOOKUP(A30,'comité evaluador'!$A$3:$P$202,16,FALSE),\"\")","v":""},"",""]
[27,null,null,null,null,null,{"$f":"IFERROR(VLOOKUP(F31,'matriz puntaje'!$B$12:$C$15,2,FALSE),\"\")","v":""},null,{"$f":"IFERROR(VLOOKUP(H31,'matriz puntaje'!$B$7:$C$11,2,FALSE),\"\")","v":""},null,{"$f":"IFERROR(VLOOKUP(J31,'matriz puntaje'!$B$16:$C$20,2,FALSE),\"\")","v":""},{"$f":"IFERROR(VLOOKUP(A31,'comité evaluador'!$A$3:$P$202,16,FALSE),\"\")","v":""},"",""]
[28,null,null,null,null,null,{"$f":"IFERROR(VLOOKUP(F32,'matriz puntaje'!$B$12:$C$15,2,FALSE),\"\")","v":""},null,{"$f":"IFERROR(VLOOKUP(H32,'matriz puntaje'!$B$7:$C$11,2,FALSE),\"\")","v":""},null,{"$f":"IFERROR(VLOOKUP(J32,'matriz puntaje'!$B$16:$C$20,2,FALSE),\"\")","v":""},{"$f":"IFERROR(VLOOKUP(A32,'comité evaluador'!$A$3:$P$202,16,FALSE),\"\")","v":""},"",""]
[29,null,null,null,null,null,{"$f":"IFERROR(VLOOKUP(F33,'matriz puntaje'!$B$12:$C$15,2,FALSE),\"\")","v":""},null,{"$f":"IFERROR(VLOOKUP(H33,'matriz puntaje'!$B$7:$C$11,2,FALSE),\"\")","v":""},null,{"$f":"IFERROR(VLOOKUP(J33,'matriz puntaje'!$B$16:$C$20,2,FALSE),\"\")","v":""},{"$f":"IFERROR(VLOOKUP(A33,'comité evaluador'!$A$3:$P$202,16,FALSE),\"\")","v":""},"",""]
[30,null,null,null,null,null,{"$f":"IFERROR(VLOOKUP(F34,'matriz puntaje'!$B$12:$C$15,2,FALSE),\"\")","v":""},null,{"$f":"IFERROR(VLOOKUP(H34,'matriz puntaje'!$B$7:$C$11,2,FALSE),\"\")","v":""},null,{"$f":"IFERROR(VLOOKUP(J34,'matriz puntaje'!$B$16:$C$20,2,FALSE),\"\")","v":""},{"$f":"IFERROR(VLOOKUP(A34,'comité evaluador'!$A$3:$P$202,16,FALSE),\"\")","v":""},"",""]
[31,null,null,null,null,null,{"$f":"IFERROR(VLOOKUP(F35,'matriz puntaje'!$B$12:$C$15,2,FALSE),\"\")","v":""},null,{"$f":"IFERROR(VLOOKUP(H35,'matriz puntaje'!$B$7:$C$11,2,FALSE),\"\")","v":""},null,{"$f":"IFERROR(VLOOKUP(J35,'matriz puntaje'!$B$16:$C$20,2,FALSE),\"\")","v":""},{"$f":"IFERROR(VLOOKUP(A35,'comité evaluador'!$A$3:$P$202,16,FALSE),\"\")","v":""},"",""]
[32,null,null,null,null,null,{"$f":"IFERROR(VLOOKUP(F36,'matriz puntaje'!$B$12:$C$15,2,FALSE),\"\")","v":""},null,{"$f":"IFERROR(VLOOKUP(H36,'matriz puntaje'!$B$7:$C$11,2,FALSE),\"\")","v":""},null,{"$f":"IFERROR(VLOOKUP(J36,'matriz puntaje'!$B$16:$C$20,2,FALSE),\"\")","v":""},{"$f":"IFERROR(VLOOKUP(A36,'comité evaluador'!$A$3:$P$202,16,FALSE),\"\")","v":""},"",""]
[33,null,null,null,null,null,{"$f":"IFERROR(VLOOKUP(F37,'matriz puntaje'!$B$12:$C$15,2,FALSE),\"\")","v":""},null,{"$f":"IFERROR(VLOOKUP(H37,'matriz puntaje'!$B$7:$C$11,2,FALSE),\"\")","v":""},null,{"$f":"IFERROR(VLOOKUP(J37,'matriz puntaje'!$B$16:$C$20,2,FALSE),\"\")","v":""},{"$f":"IFERROR(VLOOKUP(A37,'comité evaluador'!$A$3:$P$202,16,FALSE),\"\")","v":""},"",""]
[34,null,null,null,null,null,{"$f":"IFERROR(VLOOKUP(F38,'matriz puntaje'!$B$12:$C$15,2,FALSE),\"\")","v":""},null,{"$f":"IFERROR(VLOOKUP(H38,'matriz puntaje'!$B$7:$C$11,2,FALSE),\"\")","v":""},null,{"$f":"IFERROR(VLOOKUP(J38,'matriz puntaje'!$B$16:$C$20,2,FALSE),\"\")","v":""},{"$f":"IFERROR(VLOOKUP(A38,'comité evaluador'!$A$3:$P$202,16,FALSE),\"\")","v":""},"",""]
[35,null,null,null,null,null,{"$f":"IFERROR(VLOOKUP(F39,'matriz puntaje'!$B$12:$C$15,2,FALSE),\"\")","v":""},null,{"$f":"IFERROR(VLOOKUP(H39,'matriz puntaje'!$B$7:$C$11,2,FALSE),\"\")","v":""},null,{"$f":"IFERROR(VLOOKUP(J39,'matriz puntaje'!$B$16:$C$20,2,FALSE),\"\")","v":""},{"$f":"IFERROR(VLOOKUP(A39,'comité evaluador'!$A$3:$P$202,16,FALSE),\"\")","v":""},"",""]
[36,null,null,null,null,null,{"$f":"IFERROR(VLOOKUP(F40,'matriz puntaje'!$B$12:$C$15,2,FALSE),\"\")","v":""},null,{"$f":"IFERROR(VLOOKUP(H40,'matriz puntaje'!$B$7:$C$11,2,FALSE),\"\")","v":""},null,{"$f":"IFERROR(VLOOKUP(J40,'matriz puntaje'!$B$16:$C$20,2,FALSE),\"\")","v":""},{"$f":"IFERROR(VLOOKUP(A40,'comité evaluador'!$A$3:$P$202,16,FALSE),\"\")","v":""},"",""]
[37,null,null,null,null,null,{"$f":"IFERROR(VLOOKUP(F41,'matriz puntaje'!$B$12:$C$15,2,FALSE),\"\")","v":""},null,{"$f":"IFERROR(VLOOKUP(H41,'matriz puntaje'!$B$7:$C$11,2,FALSE),\"\")","v":""},null,{"$f":"IFERROR(VLOOKUP(J41,'matriz puntaje'!$B$16:$C$20,2,FALSE),\"\")","v":""},{"$f":"IFERROR(VLOOKUP(A41,'comité evaluador'!$A$3:$P$202,16,FALSE),\"\")","v":""},"",""]
[38,null,null,null,null,null,{"$f":"IFERROR(VLOOKUP(F42,'matriz puntaje'!$B$12:$C$15,2,FALSE),\"\")","v":""},null,{"$f":"IFERROR(VLOOKUP(H42,'matriz puntaje'!$B$7:$C$11,2,FALSE),\"\")","v":""},null,{"$f":"IFERROR(VLOOKUP(J42,'matriz puntaje'!$B$16:$C$20,2,FALSE),\"\")","v":""},{"$f":"IFERROR(VLOOKUP(A42,'comité evaluador'!$A$3:$P$202,16,FALSE),\"\")","v":""},"",""]
[39,null,null,null,null,null,{"$f":"IFERROR(VLOOKUP(F43,'matriz puntaje'!$B$12:$C$15,2,FALSE),\"\")","v":""},null,{"$f":"IFERROR(VLOOKUP(H43,'matriz puntaje'!$B$7:$C$11,2,FALSE),\"\")","v":""},null,{"$f":"IFERROR(VLOOKUP(J43,'matriz puntaje'!$B$16:$C$20,2,FALSE),\"\")","v":""},{"$f":"IFERROR(VLOOKUP(A43,'comité evaluador'!$A$3:$P$202,16,FALSE),\"\")","v":""},"",""]
[40,null,null,null,null,null,{"$f":"IFERROR(VLOOKUP(F44,'matriz puntaje'!$B$12:$C$15,2,FALSE),\"\")","v":""},null,{"$f":"IFERROR(VLOOKUP(H44,'matriz puntaje'!$B$7:$C$11,2,FALSE),\"\")","v":""},null,{"$f":"IFERROR(VLOOKUP(J44,'matriz puntaje'!$B$16:$C$20,2,FALSE),\"\")","v":""},{"$f":"IFERROR(VLOOKUP(A44,'comité evaluador'!$A$3:$P$202,16,FALSE),\"\")","v":""},"",""]
[41,null,null,null,null,null,{"$f":"IFERROR(VLOOKUP(F45,'matriz puntaje'!$B$12:$C$15,2,FALSE),\"\")","v":""},null,{"$f":"IFERROR(VLOOKUP(H45,'matriz puntaje'!$B$7:$C$11,2,FALSE),\"\")","v":""},null,{"$f":"IFERROR(VLOOKUP(J45,'matriz puntaje'!$B$16:$C$20,2,FALSE),\"\")","v":""},{"$f":"IFERROR(VLOOKUP(A45,'comité evaluador'!$A$3:$P$202,16,FALSE),\"\")","v":""},"",""]
[42,null,null,null,null,null,{"$f":"IFERROR(VLOOKUP(F46,'matriz puntaje'!$B$12:$C$15,2,FALSE),\"\")","v":""},null,{"$f":"IFERROR(VLOOKUP(H46,'matriz puntaje'!$B$7:$C$11,2,FALSE),\"\")","v":""},null,{"$f":"IFERROR(VLOOKUP(J46,'matriz puntaje'!$B$16:$C$20,2,FALSE),\"\")","v":""},{"$f":"IFERROR(VLOOKUP(A46,'comité evaluador'!$A$3:$P$202,16,FALSE),\"\")","v":""},"",""]
[43,null,null,null,null,null,{"$f":"IFERROR(VLOOKUP(F47,'matriz puntaje'!$B$12:$C$15,2,FALSE),\"\")","v":""},null,{"$f":"IFERROR(VLOOKUP(H47,'matriz puntaje'!$B$7:$C$11,2,FALSE),\"\")","v":""},null,{"$f":"IFERROR(VLOOKUP(J47,'matriz puntaje'!$B$16:$C$20,2,FALSE),\"\")","v":""},{"$f":"IFERROR(VLOOKUP(A47,'comité evaluador'!$A$3:$P$202,16,FALSE),\"\")","v":""},"",""]
[44,null,null,null,null,null,{"$f":"IFERROR(VLOOKUP(F48,'matriz puntaje'!$B$12:$C$15,2,FALSE),\"\")","v":""},null,{"$f":"IFERROR(VLOOKUP(H48,'matriz puntaje'!$B$7:$C$11,2,FALSE),\"\")","v":""},null,{"$f":"IFERROR(VLOOKUP(J48,'matriz puntaje'!$B$16:$C$20,2,FALSE),\"\")","v":""},{"$f":"IFERROR(VLOOKUP(A48,'comité evaluador'!$A$3:$P$202,16,FALSE),\"\")","v":""},"",""]
[45,null,null,null,null,null,{"$f":"IFERROR(VLOOKUP(F49,'matriz puntaje'!$B$12:$C$15,2,FALSE),\"\")","v":""},null,{"$f":"IFERROR(VLOOKUP(H49,'matriz puntaje'!$B$7:$C$11,2,FALSE),\"\")","v":""},null,{"$f":"IFERROR(VLOOKUP(J49,'matriz puntaje'!$B$16:$C$20,2,FALSE),\"\")","v":""},{"$f":"IFERROR(VLOOKUP(A49,'comité evaluador'!$A$3:$P$202,16,FALSE),\"\")","v":""},"",""]
[46,null,null,null,null,null,{"$f":"IFERROR(VLOOKUP(F50,'matriz puntaje'!$B$12:$C$15,2,FALSE),\"\")","v":""},null,{"$f":"IFERROR(VLOOKUP(H50,'matriz puntaje'!$B$7:$C$11,2,FALSE),\"\")","v":""},null,{"$f":"IFERROR(VLOOKUP(J50,'matriz puntaje'!$B$16:$C$20,2,FALSE),\"\")","v":""},{"$f":"IFERROR(VLOOKUP(A50,'comité evaluador'!$A$3:$P$202,16,FALSE),\"\")","v":""},"",""]
[47,null,null,null,null,null,{"$f":"IFERROR(VLOOKUP(F51,'matriz puntaje'!$B$12:$C$15,2,FALSE),\"\")","v":""},null,{"$f":"IFERROR(VLOOKUP(H51,'matriz puntaje'!$B$7:$C$11,2,FALSE),\"\")","v":""},null,{"$f":"IFERROR(VLOOKUP(J51,'matriz puntaje'!$B$16:$C$20,2,FALSE),\"\")","v":""},{"$f":"IFERROR(VLOOKUP(A51,'comité evaluador'!$A$3:$P$202,16,FALSE),\"\")","v":""},"",""]
[48,null,null,null,null,null,{"$f":"IFERROR(VLOOKUP(F52,'matriz puntaje'!$B$12:$C$15,2,FALSE),\"\")","v":""},null,{"$f":"IFERROR(VLOOKUP(H52,'matriz puntaje'!$B$7:$C$11,2,FALSE),\"\")","v":""},null,{"$f":"IFERROR(VLOOKUP(J52,'matriz puntaje'!$B$16:$C$20,2,FALSE),\"\")","v":""},{"$f":"IFERROR(VLOOKUP(A52,'comité evaluador'!$A$3:$P$202,16,FALSE),\"\")","v":""},"",""]
[49,null,null,null,null,null,{"$f":"IFERROR(VLOOKUP(F53,'matriz puntaje'!$B$12:$C$15,2,FALSE),\"\")","v":""},null,{"$f":"IFERROR(VLOOKUP(H53,'matriz puntaje'!$B$7:$C$11,2,FALSE),\"\")","v":""},null,{"$f":"IFERROR(VLOOKUP(J53,'matriz puntaje'!$B$16:$C$20,2,FALSE),\"\")","v":""},{"$f":"IFERROR(VLOOKUP(A53,'comité evaluador'!$A$3:$P$202,16,FALSE),\"\")","v":""},"",""]
[50,null,null,null,null,null,{"$f":"IFERROR(VLOOKUP(F54,'matriz puntaje'!$B$12:$C$15,2,FALSE),\"\")","v":""},null,{"$f":"IFERROR(VLOOKUP(H54,'matriz puntaje'!$B$7:$C$11,2,FALSE),\"\")","v":""},null,{"$f":"IFERROR(VLOOKUP(J54,'matriz puntaje'!$B$16:$C$20,2,FALSE),\"\")","v":""},{"$f":"IFERROR(VLOOKUP(A54,'comité evaluador'!$A$3:$P$202,16,FALSE),\"\")","v":""},"",""]
[51,null,null,null,null,null,{"$f":"IFERROR(VLOOKUP(F55,'matriz puntaje'!$B$12:$C$15,2,FALSE),\"\")","v":""},null,{"$f":"IFERROR(VLOOKUP(H55,'matriz puntaje'!$B$7:$C$11,2,FALSE),\"\")","v":""},null,{"$f":"IFERROR(VLOOKUP(J55,'matriz puntaje'!$B$16:$C$20,2,FALSE),\"\")","v":""},{"$f":"IFERROR(VLOOKUP(A55,'comité evaluador'!$A$3:$P$202,16,FALSE),\"\")","v":""},"",""]
[52,null,null,null,null,null,{"$f":"IFERROR(VLOOKUP(F56,'matriz puntaje'!$B$12:$C$15,2,FALSE),\"\")","v":""},null,{"$f":"IFERROR(VLOOKUP(H56,'matriz puntaje'!$B$7:$C$11,2,FALSE),\"\")","v":""},null,{"$f":"IFERROR(VLOOKUP(J56,'matriz puntaje'!$B$16:$C$20,2,FALSE),\"\")","v":""},{"$f":"IFERROR(VLOOKUP(A56,'comité evaluador'!$A$3:$P$202,16,FALSE),\"\")","v":""},"",""]
[53,null,null,null,null,null,{"$f":"IFERROR(VLOOKUP(F57,'matriz puntaje'!$B$12:$C$15,2,FALSE),\"\")","v":""},null,{"$f":"IFERROR(VLOOKUP(H57,'matriz puntaje'!$B$7:$C$11,2,FALSE),\"\")","v":""},null,{"$f":"IFERROR(VLOOKUP(J57,'matriz puntaje'!$B$16:$C$20,2,FALSE),\"\")","v":""},{"$f":"IFERROR(VLOOKUP(A57,'comité evaluador'!$A$3:$P$202,16,FALSE),\"\")","v":""},"",""]
[54,null,null,null,null,null,{"$f":"IFERROR(VLOOKUP(F58,'matriz puntaje'!$B$12:$C$15,2,FALSE),\"\")","v":""},null,{"$f":"IFERROR(VLOOKUP(H58,'matriz puntaje'!$B$7:$C$11,2,FALSE),\"\")","v":""},null,{"$f":"IFERROR(VLOOKUP(J58,'matriz puntaje'!$B$16:$C$20,2,FALSE),\"\")","v":""},{"$f":"IFERROR(VLOOKUP(A58,'comité evaluador'!$A$3:$P$202,16,FALSE),\"\")","v":""},"",""]
[55,null,null,null,null,null,{"$f":"IFERROR(VLOOKUP(F59,'matriz puntaje'!$B$12:$C$15,2,FALSE),\"\")","v":""},null,{"$f":"IFERROR(VLOOKUP(H59,'matriz puntaje'!$B$7:$C$11,2,FALSE),\"\")","v":""},null,{"$f":"IFERROR(VLOOKUP(J59,'matriz puntaje'!$B$16:$C$20,2,FALSE),\"\")","v":""},{"$f":"IFERROR(VLOOKUP(A59,'comité evaluador'!$A$3:$P$202,16,FALSE),\"\")","v":""},"",""]
[56,null,null,null,null,null,{"$f":"IFERROR(VLOOKUP(F60,'matriz puntaje'!$B$12:$C$15,2,FALSE),\"\")","v":""},null,{"$f":"IFERROR(VLOOKUP(H60,'matriz puntaje'!$B$7:$C$11,2,FALSE),\"\")","v":""},null,{"$f":"IFERROR(VLOOKUP(J60,'matriz puntaje'!$B$16:$C$20,2,FALSE),\"\")","v":""},{"$f":"IFERROR(VLOOKUP(A60,'comité evaluador'!$A$3:$P$202,16,FALSE),\"\")","v":""},"",""]
[57,null,null,null,null,null,{"$f":"IFERROR(VLOOKUP(F61,'matriz puntaje'!$B$12:$C$15,2,FALSE),\"\")","v":""},null,{"$f":"IFERROR(VLOOKUP(H61,'matriz puntaje'!$B$7:$C$11,2,FALSE),\"\")","v":""},null,{"$f":"IFERROR(VLOOKUP(J61,'matriz puntaje'!$B$16:$C$20,2,FALSE),\"\")","v":""},{"$f":"IFERROR(VLOOKUP(A61,'comité evaluador'!$A$3:$P$202,16,FALSE),\"\")","v":""},"",""]
[58,null,null,null,null,null,{"$f":"IFERROR(VLOOKUP(F62,'matriz puntaje'!$B$12:$C$15,2,FALSE),\"\")","v":""},null,{"$f":"IFERROR(VLOOKUP(H62,'matriz puntaje'!$B$7:$C$11,2,FALSE),\"\")","v":""},null,{"$f":"IFERROR(VLOOKUP(J62,'matriz puntaje'!$B$16:$C$20,2,FALSE),\"\")","v":""},{"$f":"IFERROR(VLOOKUP(A62,'comité evaluador'!$A$3:$P$202,16,FALSE),\"\")","v":""},"",""]
[59,null,null,null,null,null,{"$f":"IFERROR(VLOOKUP(F63,'matriz puntaje'!$B$12:$C$15,2,FALSE),\"\")","v":""},null,{"$f":"IFERROR(VLOOKUP(H63,'matriz puntaje'!$B$7:$C$11,2,FALSE),\"\")","v":""},null,{"$f":"IFERROR(VLOOKUP(J63,'matriz puntaje'!$B$16:$C$20,2,FALSE),\"\")","v":""},{"$f":"IFERROR(VLOOKUP(A63,'comité evaluador'!$A$3:$P$202,16,FALSE),\"\")","v":""},"",""]
[60,null,null,null,null,null,{"$f":"IFERROR(VLOOKUP(F64,'matriz puntaje'!$B$12:$C$15,2,FALSE),\"\")","v":""},null,{"$f":"IFERROR(VLOOKUP(H64,'matriz puntaje'!$B$7:$C$11,2,FALSE),\"\")","v":""},null,{"$f":"IFERROR(VLOOKUP(J64,'matriz puntaje'!$B$16:$C$20,2,FALSE),\"\")","v":""},{"$f":"IFERROR(VLOOKUP(A64,'comité evaluador'!$A$3:$P$202,16,FALSE),\"\")","v":""},"",""]
[61,null,null,null,null,null,{"$f":"IFERROR(VLOOKUP(F65,'matriz puntaje'!$B$12:$C$15,2,FALSE),\"\")","v":""},null,{"$f":"IFERROR(VLOOKUP(H65,'matriz puntaje'!$B$7:$C$11,2,FALSE),\"\")","v":""},null,{"$f":"IFERROR(VLOOKUP(J65,'matriz puntaje'!$B$16:$C$20,2,FALSE),\"\")","v":""},{"$f":"IFERROR(VLOOKUP(A65,'comité evaluador'!$A$3:$P$202,16,FALSE),\"\")","v":""},"",""]
[62,null,null,null,null,null,{"$f":"IFERROR(VLOOKUP(F66,'matriz puntaje'!$B$12:$C$15,2,FALSE),\"\")","v":""},null,{"$f":"IFERROR(VLOOKUP(H66,'matriz puntaje'!$B$7:$C$11,2,FALSE),\"\")","v":""},null,{"$f":"IFERROR(VLOOKUP(J66,'matriz puntaje'!$B$16:$C$20,2,FALSE),\"\")","v":""},{"$f":"IFERROR(VLOOKUP(A66,'comité evaluador'!$A$3:$P$202,16,FALSE),\"\")","v":""},"",""]
[63,null,null,null,null,null,{"$f":"IFERROR(VLOOKUP(F67,'matriz puntaje'!$B$12:$C$15,2,FALSE),\"\")","v":""},null,{"$f":"IFERROR(VLOOKUP(H67,'matriz puntaje'!$B$7:$C$11,2,FALSE),\"\")","v":""},null,{"$f":"IFERROR(VLOOKUP(J67,'matriz puntaje'!$B$16:$C$20,2,FALSE),\"\")","v":""},{"$f":"IFERROR(VLOOKUP(A67,'comité evaluador'!$A$3:$P$202,16,FALSE),\"\")","v":""},"",""]
[64,null,null,null,null,null,{"$f":"IFERROR(VLOOKUP(F68,'matriz puntaje'!$B$12:$C$15,2,FALSE),\"\")","v":""},null,{"$f":"IFERROR(VLOOKUP(H68,'matriz puntaje'!$B$7:$C$11,2,FALSE),\"\")","v":""},null,{"$f":"IFERROR(VLOOKUP(J68,'matriz puntaje'!$B$16:$C$20,2,FALSE),\"\")","v":""},{"$f":"IFERROR(VLOOKUP(A68,'comité evaluador'!$A$3:$P$202,16,FALSE),\"\")","v":""},"",""]
[65,null,null,null,null,null,{"$f":"IFERROR(VLOOKUP(F69,'matriz puntaje'!$B$12:$C$15,2,FALSE),\"\")","v":""},null,{"$f":"IFERROR(VLOOKUP(H69,'matriz puntaje'!$B$7:$C$11,2,FALSE),\"\")","v":""},null,{"$f":"IFERROR(VLOOKUP(J69,'matriz puntaje'!$B$16:$C$20,2,FALSE),\"\")","v":""},{"$f":"IFERROR(VLOOKUP(A69,'comité evaluador'!$A$3:$P$202,16,FALSE),\"\")","v":""},"",""]
[66,null,null,null,null,null,{"$f":"IFERROR(VLOOKUP(F70,'matriz puntaje'!$B$12:$C$15,2,FALSE),\"\")","v":""},null,{"$f":"IFERROR(VLOOKUP(H70,'matriz puntaje'!$B$7:$C$11,2,FALSE),\"\")","v":""},null,{"$f":"IFERROR(VLOOKUP(J70,'matriz puntaje'!$B$16:$C$20,2,FALSE),\"\")","v":""},{"$f":"IFERROR(VLOOKUP(A70,'comité evaluador'!$A$3:$P$202,16,FALSE),\"\")","v":""},{"$f":"L70","v":""},{"$f":"IFERROR((G70*$G$3+I70*$I$3+M70*$M$3+$K$3*K70),\"\")","v":""}]
[67,null,null,null,null,null,{"$f":"IFERROR(VLOOKUP(F71,'matriz puntaje'!$B$12:$C$15,2,FALSE),\"\")","v":""},null,{"$f":"IFERROR(VLOOKUP(H71,'matriz puntaje'!$B$7:$C$11,2,FALSE),\"\")","v":""},null,{"$f":"IFERROR(VLOOKUP(J71,'matriz puntaje'!$B$16:$C$20,2,FALSE),\"\")","v":""},{"$f":"IFERROR(VLOOKUP(A71,'comité evaluador'!$A$3:$P$202,16,FALSE),\"\")","v":""},"",""]
[68,null,null,null,null,null,{"$f":"IFERROR(VLOOKUP(F72,'matriz puntaje'!$B$12:$C$15,2,FALSE),\"\")","v":""},null,{"$f":"IFERROR(VLOOKUP(H72,'matriz puntaje'!$B$7:$C$11,2,FALSE),\"\")","v":""},null,{"$f":"IFERROR(VLOOKUP(J72,'matriz puntaje'!$B$16:$C$20,2,FALSE),\"\")","v":""},{"$f":"IFERROR(VLOOKUP(A72,'comité evaluador'!$A$3:$P$202,16,FALSE),\"\")","v":""},"",""]
[69,null,null,null,null,null,{"$f":"IFERROR(VLOOKUP(F73,'matriz puntaje'!$B$12:$C$15,2,FALSE),\"\")","v":""},null,{"$f":"IFERROR(VLOOKUP(H73,'matriz puntaje'!$B$7:$C$11,2,FALSE),\"\")","v":""},null,{"$f":"IFERROR(VLOOKUP(J73,'matriz puntaje'!$B$16:$C$20,2,FALSE),\"\")","v":""},{"$f":"IFERROR(VLOOKUP(A73,'comité evaluador'!$A$3:$P$202,16,FALSE),\"\")","v":""},"",""]
[70,null,null,null,null,null,{"$f":"IFERROR(VLOOKUP(F74,'matriz puntaje'!$B$12:$C$15,2,FALSE),\"\")","v":""},null,{"$f":"IFERROR(VLOOKUP(H74,'matriz puntaje'!$B$7:$C$11,2,FALSE),\"\")","v":""},null,{"$f":"IFERROR(VLOOKUP(J74,'matriz puntaje'!$B$16:$C$20,2,FALSE),\"\")","v":""},{"$f":"IFERROR(VLOOKUP(A74,'comité evaluador'!$A$3:$P$202,16,FALSE),\"\")","v":""},"",""]
[71,null,null,null,null,null,{"$f":"IFERROR(VLOOKUP(F75,'matriz puntaje'!$B$12:$C$15,2,FALSE),\"\")","v":""},null,{"$f":"IFERROR(VLOOKUP(H75,'matriz puntaje'!$B$7:$C$11,2,FALSE),\"\")","v":""},null,{"$f":"IFERROR(VLOOKUP(J75,'matriz puntaje'!$B$16:$C$20,2,FALSE),\"\")","v":""},{"$f":"IFERROR(VLOOKUP(A75,'comité evaluador'!$A$3:$P$202,16,FALSE),\"\")","v":""},"",""]
[72,null,null,null,null,null,{"$f":"IFERROR(VLOOKUP(F76,'matriz puntaje'!$B$12:$C$15,2,FALSE),\"\")","v":""},null,{"$f":"IFERROR(VLOOKUP(H76,'matriz puntaje'!$B$7:$C$11,2,FALSE),\"\")","v":""},null,{"$f":"IFERROR(VLOOKUP(J76,'matriz puntaje'!$B$16:$C$20,2,FALSE),\"\")","v":""},{"$f":"IFERROR(VLOOKUP(A76,'comité evaluador'!$A$3:$P$202,16,FALSE),\"\")","v":""},"",""]
[73,null,null,null,null,null,{"$f":"IFERROR(VLOOKUP(F77,'matriz puntaje'!$B$12:$C$15,2,FALSE),\"\")","v":""},null,{"$f":"IFERROR(VLOOKUP(H77,'matriz puntaje'!$B$7:$C$11,2,FALSE),\"\")","v":""},null,{"$f":"IFERROR(VLOOKUP(J77,'matriz puntaje'!$B$16:$C$20,2,FALSE),\"\")","v":""},{"$f":"IFERROR(VLOOKUP(A77,'comité evaluador'!$A$3:$P$202,16,FALSE),\"\")","v":""},"",""]
[74,null,null,null,null,null,{"$f":"IFERROR(VLOOKUP(F78,'matriz puntaje'!$B$12:$C$15,2,FALSE),\"\")","v":""},null,{"$f":"IFERROR(VLOOKUP(H78,'matriz puntaje'!$B$7:$C$11,2,FALSE),\"\")","v":""},null,{"$f":"IFERROR(VLOOKUP(J78,'matriz puntaje'!$B$16:$C$20,2,FALSE),\"\")","v":""},{"$f":"IFERROR(VLOOKUP(A78,'comité evaluador'!$A$3:$P$202,16,FALSE),\"\")","v":""},"",""]
[75,null,null,null,null,null,{"$f":"IFERROR(VLOOKUP(F79,'matriz puntaje'!$B$12:$C$15,2,FALSE),\"\")","v":""},null,{"$f":"IFERROR(VLOOKUP(H79,'matriz puntaje'!$B$7:$C$11,2,FALSE),\"\")","v":""},null,{"$f":"IFERROR(VLOOKUP(J79,'matriz puntaje'!$B$16:$C$20,2,FALSE),\"\")","v":""},{"$f":"IFERROR(VLOOKUP(A79,'comité evaluador'!$A$3:$P$202,16,FALSE),\"\")","v":""},"",""]
[76,null,null,null,null,null,{"$f":"IFERROR(VLOOKUP(F80,'matriz puntaje'!$B$12:$C$15,2,FALSE),\"\")","v":""},null,{"$f":"IFERROR(VLOOKUP(H80,'matriz puntaje'!$B$7:$C$11,2,FALSE),\"\")","v":""},null,{"$f":"IFERROR(VLOOKUP(J80,'matriz puntaje'!$B$16:$C$20,2,FALSE),\"\")","v":""},{"$f":"IFERROR(VLOOKUP(A80,'comité evaluador'!$A$3:$P$202,16,FALSE),\"\")","v":""},"",""]
[77,null,null,null,null,null,{"$f":"IFERROR(VLOOKUP(F81,'matriz puntaje'!$B$12:$C$15,2,FALSE),\"\")","v":""},null,{"$f":"IFERROR(VLOOKUP(H81,'matriz puntaje'!$B$7:$C$11,2,FALSE),\"\")","v":""},null,{"$f":"IFERROR(VLOOKUP(J81,'matriz puntaje'!$B$16:$C$20,2,FALSE),\"\")","v":""},{"$f":"IFERROR(VLOOKUP(A81,'comité evaluador'!$A$3:$P$202,16,FALSE),\"\")","v":""},"",""]
[78,null,null,null,null,null,{"$f":"IFERROR(VLOOKUP(F82,'matriz puntaje'!$B$12:$C$15,2,FALSE),\"\")","v":""},null,{"$f":"IFERROR(VLOOKUP(H82,'matriz puntaje'!$B$7:$C$11,2,FALSE),\"\")","v":""},null,{"$f":"IFERROR(VLOOKUP(J82,'matriz puntaje'!$B$16:$C$20,2,FALSE),\"\")","v":""},{"$f":"IFERROR(VLOOKUP(A82,'comité evaluador'!$A$3:$P$202,16,FALSE),\"\")","v":""},"",""]
[79,null,null,null,null,null,{"$f":"IFERROR(VLOOKUP(F83,'matriz puntaje'!$B$12:$C$15,2,FALSE),\"\")","v":""},null,{"$f":"IFERROR(VLOOKUP(H83,'matriz puntaje'!$B$7:$C$11,2,FALSE),\"\")","v":""},null,{"$f":"IFERROR(VLOOKUP(J83,'matriz puntaje'!$B$16:$C$20,2,FALSE),\"\")","v":""},{"$f":"IFERROR(VLOOKUP(A83,'comité evaluador'!$A$3:$P$202,16,FALSE),\"\")","v":""},"",""]
[80,null,null,null,null,null,{"$f":"IFERROR(VLOOKUP(F84,'matriz puntaje'!$B$12:$C$15,2,FALSE),\"\")","v":""},null,{"$f":"IFERROR(VLOOKUP(H84,'matriz puntaje'!$B$7:$C$11,2,FALSE),\"\")","v":""},null,{"$f":"IFERROR(VLOOKUP(J84,'matriz puntaje'!$B$16:$C$20,2,FALSE),\"\")","v":""},{"$f":"IFERROR(VLOOKUP(A84,'comité evaluador'!$A$3:$P$202,16,FALSE),\"\")","v":""},"",""]
[81,null,null,null,null,null,{"$f":"IFERROR(VLOOKUP(F85,'matriz puntaje'!$B$12:$C$15,2,FALSE),\"\")","v":""},null,{"$f":"IFERROR(VLOOKUP(H85,'matriz puntaje'!$B$7:$C$11,2,FALSE),\"\")","v":""},null,{"$f":"IFERROR(VLOOKUP(J85,'matriz puntaje'!$B$16:$C$20,2,FALSE),\"\")","v":""},{"$f":"IFERROR(VLOOKUP(A85,'comité evaluador'!$A$3:$P$202,16,FALSE),\"\")","v":""},"",""]
[82,null,null,null,null,null,{"$f":"IFERROR(VLOOKUP(F86,'matriz puntaje'!$B$12:$C$15,2,FALSE),\"\")","v":""},null,{"$f":"IFERROR(VLOOKUP(H86,'matriz puntaje'!$B$7:$C$11,2,FALSE),\"\")","v":""},null,{"$f":"IFERROR(VLOOKUP(J86,'matriz puntaje'!$B$16:$C$20,2,FALSE),\"\")","v":""},{"$f":"IFERROR(VLOOKUP(A86,'comité evaluador'!$A$3:$P$202,16,FALSE),\"\")","v":""},"",""]
[83,null,null,null,null,null,{"$f":"IFERROR(VLOOKUP(F87,'matriz puntaje'!$B$12:$C$15,2,FALSE),\"\")","v":""},null,{"$f":"IFERROR(VLOOKUP(H87,'matriz puntaje'!$B$7:$C$11,2,FALSE),\"\")","v":""},null,{"$f":"IFERROR(VLOOKUP(J87,'matriz puntaje'!$B$16:$C$20,2,FALSE),\"\")","v":""},{"$f":"IFERROR(VLOOKUP(A87,'comité evaluador'!$A$3:$P$202,16,FALSE),\"\")","v":""},"",""]
[84,null,null,null,null,null,{"$f":"IFERROR(VLOOKUP(F88,'matriz puntaje'!$B$12:$C$15,2,FALSE),\"\")","v":""},null,{"$f":"IFERROR(VLOOKUP(H88,'matriz puntaje'!$B$7:$C$11,2,FALSE),\"\")","v":""},null,{"$f":"IFERROR(VLOOKUP(J88,'matriz puntaje'!$B$16:$C$20,2,FALSE),\"\")","v":""},{"$f":"IFERROR(VLOOKUP(A88,'comité evaluador'!$A$3:$P$202,16,FALSE),\"\")","v":""},"",""]
[85,null,null,null,null,null,{"$f":"IFERROR(VLOOKUP(F89,'matriz puntaje'!$B$12:$C$15,2,FALSE),\"\")","v":""},null,{"$f":"IFERROR(VLOOKUP(H89,'matriz puntaje'!$B$7:$C$11,2,FALSE),\"\")","v":""},null,{"$f":"IFERROR(VLOOKUP(J89,'matriz puntaje'!$B$16:$C$20,2,FALSE),\"\")","v":""},{"$f":"IFERROR(VLOOKUP(A89,'comité evaluador'!$A$3:$P$202,16,FALSE),\"\")","v":""},"",""]
[86,null,null,null,null,null,{"$f":"IFERROR(VLOOKUP(F90,'matriz puntaje'!$B$12:$C$15,2,FALSE),\"\")","v":""},null,{"$f":"IFERROR(VLOOKUP(H90,'matriz puntaje'!$B$7:$C$11,2,FALSE),\"\")","v":""},null,{"$f":"IFERROR(VLOOKUP(J90,'matriz puntaje'!$B$16:$C$20,2,FALSE),\"\")","v":""},{"$f":"IFERROR(VLOOKUP(A90,'comité evaluador'!$A$3:$P$202,16,FALSE),\"\")","v":""},"",""]
[87,null,null,null,null,null,{"$f":"IFERROR(VLOOKUP(F91,'matriz puntaje'!$B$12:$C$15,2,FALSE),\"\")","v":""},null,{"$f":"IFERROR(VLOOKUP(H91,'matriz puntaje'!$B$7:$C$11,2,FALSE),\"\")","v":""},null,{"$f":"IFERROR(VLOOKUP(J91,'matriz puntaje'!$B$16:$C$20,2,FALSE),\"\")","v":""},{"$f":"IFERROR(VLOOKUP(A91,'comité evaluador'!$A$3:$P$202,16,FALSE),\"\")","v":""},"",""]
[88,null,null,null,null,null,{"$f":"IFERROR(VLOOKUP(F92,'matriz puntaje'!$B$12:$C$15,2,FALSE),\"\")","v":""},null,{"$f":"IFERROR(VLOOKUP(H92,'matriz puntaje'!$B$7:$C$11,2,FALSE),\"\")","v":""},null,{"$f":"IFERROR(VLOOKUP(J92,'matriz puntaje'!$B$16:$C$20,2,FALSE),\"\")","v":""},{"$f":"IFERROR(VLOOKUP(A92,'comité evaluador'!$A$3:$P$202,16,FALSE),\"\")","v":""},"",""]
[89,null,null,null,null,null,{"$f":"IFERROR(VLOOKUP(F93,'matriz puntaje'!$B$12:$C$15,2,FALSE),\"\")","v":""},null,{"$f":"IFERROR(VLOOKUP(H93,'matriz puntaje'!$B$7:$C$11,2,FALSE),\"\")","v":""},null,{"$f":"IFERROR(VLOOKUP(J93,'matriz puntaje'!$B$16:$C$20,2,FALSE),\"\")","v":""},{"$f":"IFERROR(VLOOKUP(A93,'comité evaluador'!$A$3:$P$202,16,FALSE),\"\")","v":""},"",""]
[90,null,null,null,null,null,{"$f":"IFERROR(VLOOKUP(F94,'matriz puntaje'!$B$12:$C$15,2,FALSE),\"\")","v":""},null,{"$f":"IFERROR(VLOOKUP(H94,'matriz puntaje'!$B$7:$C$11,2,FALSE),\"\")","v":""},null,{"$f":"IFERROR(VLOOKUP(J94,'matriz puntaje'!$B$16:$C$20,2,FALSE),\"\")","v":""},{"$f":"IFERROR(VLOOKUP(A94,'comité evaluador'!$A$3:$P$202,16,FALSE),\"\")","v":""},"",""]
[91,null,null,null,null,null,{"$f":"IFERROR(VLOOKUP(F95,'matriz puntaje'!$B$12:$C$15,2,FALSE),\"\")","v":""},null,{"$f":"IFERROR(VLOOKUP(H95,'matriz puntaje'!$B$7:$C$11,2,FALSE),\"\")","v":""},null,{"$f":"IFERROR(VLOOKUP(J95,'matriz puntaje'!$B$16:$C$20,2,FALSE),\"\")","v":""},{"$f":"IFERROR(VLOOKUP(A95,'comité evaluador'!$A$3:$P$202,16,FALSE),\"\")","v":""},"",""]
[92,null,null,null,null,null,{"$f":"IFERROR(VLOOKUP(F96,'matriz puntaje'!$B$12:$C$15,2,FALSE),\"\")","v":""},null,{"$f":"IFERROR(VLOOKUP(H96,'matriz puntaje'!$B$7:$C$11,2,FALSE),\"\")","v":""},null,{"$f":"IFERROR(VLOOKUP(J96,'matriz puntaje'!$B$16:$C$20,2,FALSE),\"\")","v":""},{"$f":"IFERROR(VLOOKUP(A96,'comité evaluador'!$A$3:$P$202,16,FALSE),\"\")","v":""},"",""]
[93,null,null,null,null,null,{"$f":"IFERROR(VLOOKUP(F97,'matriz puntaje'!$B$12:$C$15,2,FALSE),\"\")","v":""},null,{"$f":"IFERROR(VLOOKUP(H97,'matriz puntaje'!$B$7:$C$11,2,FALSE),\"\")","v":""},null,{"$f":"IFERROR(VLOOKUP(J97,'matriz puntaje'!$B$16:$C$20,2,FALSE),\"\")","v":""},{"$f":"IFERROR(VLOOKUP(A97,'comité evaluador'!$A$3:$P$202,16,FALSE),\"\")","v":""},"",""]
[94,null,null,null,null,null,{"$f":"IFERROR(VLOOKUP(F98,'matriz puntaje'!$B$12:$C$15,2,FALSE),\"\")","v":""},null,{"$f":"IFERROR(VLOOKUP(H98,'matriz puntaje'!$B$7:$C$11,2,FALSE),\"\")","v":""},null,{"$f":"IFERROR(VLOOKUP(J98,'matriz puntaje'!$B$16:$C$20,2,FALSE),\"\")","v":""},{"$f":"IFERROR(VLOOKUP(A98,'comité evaluador'!$A$3:$P$202,16,FALSE),\"\")","v":""},"",""]
[95,null,null,null,null,null,{"$f":"IFERROR(VLOOKUP(F99,'matriz puntaje'!$B$12:$C$15,2,FALSE),\"\")","v":""},null,{"$f":"IFERROR(VLOOKUP(H99,'matriz puntaje'!$B$7:$C$11,2,FALSE),\"\")","v":""},null,{"$f":"IFERROR(VLOOKUP(J99,'matriz puntaje'!$B$16:$C$20,2,FALSE),\"\")","v":""},{"$f":"IFERROR(VLOOKUP(A99,'comité evaluador'!$A$3:$P$202,16,FALSE),\"\")","v":""},"",""]
[96,null,null,null,null,null,{"$f":"IFERROR(VLOOKUP(F100,'matriz puntaje'!$B$12:$C$15,2,FALSE),\"\")","v":""},null,{"$f":"IFERROR(VLOOKUP(H100,'matriz puntaje'!$B$7:$C$11,2,FALSE),\"\")","v":""},null,{"$f":"IFERROR(VLOOKUP(J100,'matriz puntaje'!$B$16:$C$20,2,FALSE),\"\")","v":""},{"$f":"IFERROR(VLOOKUP(A100,'comité evaluador'!$A$3:$P$202,16,FALSE),\"\")","v":""},"",""]
[97,null,null,null,null,null,{"$f":"IFERROR(VLOOKUP(F101,'matriz puntaje'!$B$12:$C$15,2,FALSE),\"\")","v":""},null,{"$f":"IFERROR(VLOOKUP(H101,'matriz puntaje'!$B$7:$C$11,2,FALSE),\"\")","v":""},null,{"$f":"IFERROR(VLOOKUP(J101,'matriz puntaje'!$B$16:$C$20,2,FALSE),\"\")","v":""},{"$f":"IFERROR(VLOOKUP(A101,'comité evaluador'!$A$3:$P$202,16,FALSE),\"\")","v":""},"",""]
[98,null,null,null,null,null,{"$f":"IFERROR(VLOOKUP(F102,'matriz puntaje'!$B$12:$C$15,2,FALSE),\"\")","v":""},null,{"$f":"IFERROR(VLOOKUP(H102,'matriz puntaje'!$B$7:$C$11,2,FALSE),\"\")","v":""},null,{"$f":"IFERROR(VLOOKUP(J102,'matriz puntaje'!$B$16:$C$20,2,FALSE),\"\")","v":""},{"$f":"IFERROR(VLOOKUP(A102,'comité evaluador'!$A$3:$P$202,16,FALSE),\"\")","v":""},"",""]
[99,null,null,null,null,null,{"$f":"IFERROR(VLOOKUP(F103,'matriz puntaje'!$B$12:$C$15,2,FALSE),\"\")","v":""},null,{"$f":"IFERROR(VLOOKUP(H103,'matriz puntaje'!$B$7:$C$11,2,FALSE),\"\")","v":""},null,{"$f":"IFERROR(VLOOKUP(J103,'matriz puntaje'!$B$16:$C$20,2,FALSE),\"\")","v":""},{"$f":"IFERROR(VLOOKUP(A103,'comité evaluador'!$A$3:$P$202,16,FALSE),\"\")","v":""},"",""]
[100,null,null,null,null,null,{"$f":"IFERROR(VLOOKUP(F104,'matriz puntaje'!$B$12:$C$15,2,FALSE),\"\")","v":""},null,{"$f":"IFERROR(VLOOKUP(H104,'matriz puntaje'!$B$7:$C$11,2,FALSE),\"\")","v":""},null,{"$f":"IFERROR(VLOOKUP(J104,'matriz puntaje'!$B$16:$C$20,2,FALSE),\"\")","v":""},{"$f":"IFERROR(VLOOKUP(A104,'comité evaluador'!$A$3:$P$202,16,FALSE),\"\")","v":""},"",""]
[101,null,null,null,null,null,{"$f":"IFERROR(VLOOKUP(F105,'matriz puntaje'!$B$12:$C$15,2,FALSE),\"\")","v":""},null,{"$f":"IFERROR(VLOOKUP(H105,'matriz puntaje'!$B$7:$C$11,2,FALSE),\"\")","v":""},null,{"$f":"IFERROR(VLOOKUP(J105,'matriz puntaje'!$B$16:$C$20,2,FALSE),\"\")","v":""},{"$f":"IFERROR(VLOOKUP(A105,'comité evaluador'!$A$3:$P$202,16,FALSE),\"\")","v":""},"",""]
[102,null,null,null,null,null,{"$f":"IFERROR(VLOOKUP(F106,'matriz puntaje'!$B$12:$C$15,2,FALSE),\"\")","v":""},null,{"$f":"IFERROR(VLOOKUP(H106,'matriz puntaje'!$B$7:$C$11,2,FALSE),\"\")","v":""},null,{"$f":"IFERROR(VLOOKUP(J106,'matriz puntaje'!$B$16:$C$20,2,FALSE),\"\")","v":""},{"$f":"IFERROR(VLOOKUP(A106,'comité evaluador'!$A$3:$P$202,16,FALSE),\"\")","v":""},"",""]
[103,null,null,null,null,null,{"$f":"IFERROR(VLOOKUP(F107,'matriz puntaje'!$B$12:$C$15,2,FALSE),\"\")","v":""},null,{"$f":"IFERROR(VLOOKUP(H107,'matriz puntaje'!$B$7:$C$11,2,FALSE),\"\")","v":""},null,{"$f":"IFERROR(VLOOKUP(J107,'matriz puntaje'!$B$16:$C$20,2,FALSE),\"\")","v":""},{"$f":"IFERROR(VLOOKUP(A107,'comité evaluador'!$A$3:$P$202,16,FALSE),\"\")","v":""},"",""]
[104,null,null,null,null,null,{"$f":"IFERROR(VLOOKUP(F108,'matriz puntaje'!$B$12:$C$15,2,FALSE),\"\")","v":""},null,{"$f":"IFERROR(VLOOKUP(H108,'matriz puntaje'!$B$7:$C$11,2,FALSE),\"\")","v":""},null,{"$f":"IFERROR(VLOOKUP(J108,'matriz puntaje'!$B$16:$C$20,2,FALSE),\"\")","v":""},{"$f":"IFERROR(VLOOKUP(A108,'comité evaluador'!$A$3:$P$202,16,FALSE),\"\")","v":""},"",""]
[105,null,null,null,null,null,{"$f":"IFERROR(VLOOKUP(F109,'matriz puntaje'!$B$12:$C$15,2,FALSE),\"\")","v":""},null,{"$f":"IFERROR(VLOOKUP(H109,'matriz puntaje'!$B$7:$C$11,2,FALSE),\"\")","v":""},null,{"$f":"IFERROR(VLOOKUP(J109,'matriz puntaje'!$B$16:$C$20,2,FALSE),\"\")","v":""},{"$f":"IFERROR(VLOOKUP(A109,'comité evaluador'!$A$3:$P$202,16,FALSE),\"\")","v":""},"",""]
[106,null,null,null,null,null,{"$f":"IFERROR(VLOOKUP(F110,'matriz puntaje'!$B$12:$C$15,2,FALSE),\"\")","v":""},null,{"$f":"IFERROR(VLOOKUP(H110,'matriz puntaje'!$B$7:$C$11,2,FALSE),\"\")","v":""},null,{"$f":"IFERROR(VLOOKUP(J110,'matriz puntaje'!$B$16:$C$20,2,FALSE),\"\")","v":""},{"$f":"IFERROR(VLOOKUP(A110,'comité evaluador'!$A$3:$P$202,16,FALSE),\"\")","v":""},"",""]
[107,null,null,null,null,null,{"$f":"IFERROR(VLOOKUP(F111,'matriz puntaje'!$B$12:$C$15,2,FALSE),\"\")","v":""},null,{"$f":"IFERROR(VLOOKUP(H111,'matriz puntaje'!$B$7:$C$11,2,FALSE),\"\")","v":""},null,{"$f":"IFERROR(VLOOKUP(J111,'matriz puntaje'!$B$16:$C$20,2,FALSE),\"\")","v":""},{"$f":"IFERROR(VLOOKUP(A111,'comité evaluador'!$A$3:$P$202,16,FALSE),\"\")","v":""},"",""]
[108,null,null,null,null,null,{"$f":"IFERROR(VLOOKUP(F112,'matriz puntaje'!$B$12:$C$15,2,FALSE),\"\")","v":""},null,{"$f":"IFERROR(VLOOKUP(H112,'matriz puntaje'!$B$7:$C$11,2,FALSE),\"\")","v":""},null,{"$f":"IFERROR(VLOOKUP(J112,'matriz puntaje'!$B$16:$C$20,2,FALSE),\"\")","v":""},{"$f":"IFERROR(VLOOKUP(A112,'comité evaluador'!$A$3:$P$202,16,FALSE),\"\")","v":""},"",""]
[109,null,null,null,null,null,{"$f":"IFERROR(VLOOKUP(F113,'matriz puntaje'!$B$12:$C$15,2,FALSE),\"\")","v":""},null,{"$f":"IFERROR(VLOOKUP(H113,'matriz puntaje'!$B$7:$C$11,2,FALSE),\"\")","v":""},null,{"$f":"IFERROR(VLOOKUP(J113,'matriz puntaje'!$B$16:$C$20,2,FALSE),\"\")","v":""},{"$f":"IFERROR(VLOOKUP(A113,'comité evaluador'!$A$3:$P$202,16,FALSE),\"\")","v":""},"",""]
[110,null,null,null,null,null,{"$f":"IFERROR(VLOOKUP(F114,'matriz puntaje'!$B$12:$C$15,2,FALSE),\"\")","v":""},null,{"$f":"IFERROR(VLOOKUP(H114,'matriz puntaje'!$B$7:$C$11,2,FALSE),\"\")","v":""},null,{"$f":"IFERROR(VLOOKUP(J114,'matriz puntaje'!$B$16:$C$20,2,FALSE),\"\")","v":""},{"$f":"IFERROR(VLOOKUP(A114,'comité evaluador'!$A$3:$P$202,16,FALSE),\"\")","v":""},"",""]
[111,null,null,null,null,null,{"$f":"IFERROR(VLOOKUP(F115,'matriz puntaje'!$B$12:$C$15,2,FALSE),\"\")","v":""},null,{"$f":"IFERROR(VLOOKUP(H115,'matriz puntaje'!$B$7:$C$11,2,FALSE),\"\")","v":""},null,{"$f":"IFERROR(VLOOKUP(J115,'matriz puntaje'!$B$16:$C$20,2,FALSE),\"\")","v":""},{"$f":"IFERROR(VLOOKUP(A115,'comité evaluador'!$A$3:$P$202,16,FALSE),\"\")","v":""},"",""]
[112,null,null,null,null,null,{"$f":"IFERROR(VLOOKUP(F116,'matriz puntaje'!$B$12:$C$15,2,FALSE),\"\")","v":""},null,{"$f":"IFERROR(VLOOKUP(H116,'matriz puntaje'!$B$7:$C$11,2,FALSE),\"\")","v":""},null,{"$f":"IFERROR(VLOOKUP(J116,'matriz puntaje'!$B$16:$C$20,2,FALSE),\"\")","v":""},{"$f":"IFERROR(VLOOKUP(A116,'comité evaluador'!$A$3:$P$202,16,FALSE),\"\")","v":""},"",""]
[113,null,null,null,null,null,{"$f":"IFERROR(VLOOKUP(F117,'matriz puntaje'!$B$12:$C$15,2,FALSE),\"\")","v":""},null,{"$f":"IFERROR(VLOOKUP(H117,'matriz puntaje'!$B$7:$C$11,2,FALSE),\"\")","v":""},null,{"$f":"IFERROR(VLOOKUP(J117,'matriz puntaje'!$B$16:$C$20,2,FALSE),\"\")","v":""},{"$f":"IFERROR(VLOOKUP(A117,'comité evaluador'!$A$3:$P$202,16,FALSE),\"\")","v":""},"",""]
[114,null,null,null,null,null,{"$f":"IFERROR(VLOOKUP(F118,'matriz puntaje'!$B$12:$C$15,2,FALSE),\"\")","v":""},null,{"$f":"IFERROR(VLOOKUP(H118,'matriz puntaje'!$B$7:$C$11,2,FALSE),\"\")","v":""},null,{"$f":"IFERROR(VLOOKUP(J118,'matriz puntaje'!$B$16:$C$20,2,FALSE),\"\")","v":""},{"$f":"IFERROR(VLOOKUP(A118,'comité evaluador'!$A$3:$P$202,16,FALSE),\"\")","v":""},"",""]
[115,null,null,null,null,null,{"$f":"IFERROR(VLOOKUP(F119,'matriz puntaje'!$B$12:$C$15,2,FALSE),\"\")","v":""},null,{"$f":"IFERROR(VLOOKUP(H119,'matriz puntaje'!$B$7:$C$11,2,FALSE),\"\")","v":""},null,{"$f":"IFERROR(VLOOKUP(J119,'matriz puntaje'!$B$16:$C$20,2,FALSE),\"\")","v":""},{"$f":"IFERROR(VLOOKUP(A119,'comité evaluador'!$A$3:$P$202,16,FALSE),\"\")","v":""},"",""]
[116,null,null,null,null,null,{"$f":"IFERROR(VLOOKUP(F120,'matriz puntaje'!$B$12:$C$15,2,FALSE),\"\")","v":""},null,{"$f":"IFERROR(VLOOKUP(H120,'matriz puntaje'!$B$7:$C$11,2,FALSE),\"\")","v":""},null,{"$f":"IFERROR(VLOOKUP(J120,'matriz puntaje'!$B$16:$C$20,2,FALSE),\"\")","v":""},{"$f":"IFERROR(VLOOKUP(A120,'comité evaluador'!$A$3:$P$202,16,FALSE),\"\")","v":""},"",""]
[117,null,null,null,null,null,{"$f":"IFERROR(VLOOKUP(F121,'matriz puntaje'!$B$12:$C$15,2,FALSE),\"\")","v":""},null,{"$f":"IFERROR(VLOOKUP(H121,'matriz puntaje'!$B$7:$C$11,2,FALSE),\"\")","v":""},null,{"$f":"IFERROR(VLOOKUP(J121,'matriz puntaje'!$B$16:$C$20,2,FALSE),\"\")","v":""},{"$f":"IFERROR(VLOOKUP(A121,'comité evaluador'!$A$3:$P$202,16,FALSE),\"\")","v":""},"",""]
[118,null,null,null,null,null,{"$f":"IFERROR(VLOOKUP(F122,'matriz puntaje'!$B$12:$C$15,2,FALSE),\"\")","v":""},null,{"$f":"IFERROR(VLOOKUP(H122,'matriz puntaje'!$B$7:$C$11,2,FALSE),\"\")","v":""},null,{"$f":"IFERROR(VLOOKUP(J122,'matriz puntaje'!$B$16:$C$20,2,FALSE),\"\")","v":""},{"$f":"IFERROR(VLOOKUP(A122,'comité evaluador'!$A$3:$P$202,16,FALSE),\"\")","v":""},"",""]
[119,null,null,null,null,null,{"$f":"IFERROR(VLOOKUP(F123,'matriz puntaje'!$B$12:$C$15,2,FALSE),\"\")","v":""},null,{"$f":"IFERROR(VLOOKUP(H123,'matriz puntaje'!$B$7:$C$11,2,FALSE),\"\")","v":""},null,{"$f":"IFERROR(VLOOKUP(J123,'matriz puntaje'!$B$16:$C$20,2,FALSE),\"\")","v":""},{"$f":"IFERROR(VLOOKUP(A123,'comité evaluador'!$A$3:$P$202,16,FALSE),\"\")","v":""},"",""]
[120,null,null,null,null,null,{"$f":"IFERROR(VLOOKUP(F124,'matriz puntaje'!$B$12:$C$15,2,FALSE),\"\")","v":""},null,{"$f":"IFERROR(VLOOKUP(H124,'matriz puntaje'!$B$7:$C$11,2,FALSE),\"\")","v":""},null,{"$f":"IFERROR(VLOOKUP(J124,'matriz puntaje'!$B$16:$C$20,2,FALSE),\"\")","v":""},{"$f":"IFERROR(VLOOKUP(A124,'comité evaluador'!$A$3:$P$202,16,FALSE),\"\")","v":""},"",""]
[121,null,null,null,null,null,{"$f":"IFERROR(VLOOKUP(F125,'matriz puntaje'!$B$12:$C$15,2,FALSE),\"\")","v":""},null,{"$f":"IFERROR(VLOOKUP(H125,'matriz puntaje'!$B$7:$C$11,2,FALSE),\"\")","v":""},null,{"$f":"IFERROR(VLOOKUP(J125,'matriz puntaje'!$B$16:$C$20,2,FALSE),\"\")","v":""},{"$f":"IFERROR(VLOOKUP(A125,'comité evaluador'!$A$3:$P$202,16,FALSE),\"\")","v":""},"",""]
[122,null,null,null,null,null,{"$f":"IFERROR(VLOOKUP(F126,'matriz puntaje'!$B$12:$C$15,2,FALSE),\"\")","v":""},null,{"$f":"IFERROR(VLOOKUP(H126,'matriz puntaje'!$B$7:$C$11,2,FALSE),\"\")","v":""},null,{"$f":"IFERROR(VLOOKUP(J126,'matriz puntaje'!$B$16:$C$20,2,FALSE),\"\")","v":""},{"$f":"IFERROR(VLOOKUP(A126,'comité evaluador'!$A$3:$P$202,16,FALSE),\"\")","v":""},"",""]
[123,null,null,null,null,null,{"$f":"IFERROR(VLOOKUP(F127,'matriz puntaje'!$B$12:$C$15,2,FALSE),\"\")","v":""},null,{"$f":"IFERROR(VLOOKUP(H127,'matriz puntaje'!$B$7:$C$11,2,FALSE),\"\")","v":""},null,{"$f":"IFERROR(VLOOKUP(J127,'matriz puntaje'!$B$16:$C$20,2,FALSE),\"\")","v":""},{"$f":"IFERROR(VLOOKUP(A127,'comité evaluador'!$A$3:$P$202,16,FALSE),\"\")","v":""},"",""]
[124,null,null,null,null,null,{"$f":"IFERROR(VLOOKUP(F128,'matriz puntaje'!$B$12:$C$15,2,FALSE),\"\")","v":""},null,{"$f":"IFERROR(VLOOKUP(H128,'matriz puntaje'!$B$7:$C$11,2,FALSE),\"\")","v":""},null,{"$f":"IFERROR(VLOOKUP(J128,'matriz puntaje'!$B$16:$C$20,2,FALSE),\"\")","v":""},{"$f":"IFERROR(VLOOKUP(A128,'comité evaluador'!$A$3:$P$202,16,FALSE),\"\")","v":""},"",""]
[125,null,null,null,null,null,{"$f":"IFERROR(VLOOKUP(F129,'matriz puntaje'!$B$12:$C$15,2,FALSE),\"\")","v":""},null,{"$f":"IFERROR(VLOOKUP(H129,'matriz puntaje'!$B$7:$C$11,2,FALSE),\"\")","v":""},null,{"$f":"IFERROR(VLOOKUP(J129,'matriz puntaje'!$B$16:$C$20,2,FALSE),\"\")","v":""},{"$f":"IFERROR(VLOOKUP(A129,'comité evaluador'!$A$3:$P$202,16,FALSE),\"\")","v":""},"",""]
[126,null,null,null,null,null,{"$f":"IFERROR(VLOOKUP(F130,'matriz puntaje'!$B$12:$C$15,2,FALSE),\"\")","v":""},null,{"$f":"IFERROR(VLOOKUP(H130,'matriz puntaje'!$B$7:$C$11,2,FALSE),\"\")","v":""},null,{"$f":"IFERROR(VLOOKUP(J130,'matriz puntaje'!$B$16:$C$20,2,FALSE),\"\")","v":""},{"$f":"IFERROR(VLOOKUP(A130,'comité evaluador'!$A$3:$P$202,16,FALSE),\"\")","v":""},"",""]
[127,null,null,null,null,null,{"$f":"IFERROR(VLOOKUP(F131,'matriz puntaje'!$B$12:$C$15,2,FALSE),\"\")","v":""},null,{"$f":"IFERROR(VLOOKUP(H131,'matriz puntaje'!$B$7:$C$11,2,FALSE),\"\")","v":""},null,{"$f":"IFERROR(VLOOKUP(J131,'matriz puntaje'!$B$16:$C$20,2,FALSE),\"\")","v":""},{"$f":"IFERROR(VLOOKUP(A131,'comité evaluador'!$A$3:$P$202,16,FALSE),\"\")","v":""},"",""]
[128,null,null,null,null,null,{"$f":"IFERROR(VLOOKUP(F132,'matriz puntaje'!$B$12:$C$15,2,FALSE),\"\")","v":""},null,{"$f":"IFERROR(VLOOKUP(H132,'matriz puntaje'!$B$7:$C$11,2,FALSE),\"\")","v":""},null,{"$f":"IFERROR(VLOOKUP(J132,'matriz puntaje'!$B$16:$C$20,2,FALSE),\"\")","v":""},{"$f":"IFERROR(VLOOKUP(A132,'comité evaluador'!$A$3:$P$202,16,FALSE),\"\")","v":""},"",""]
[129,null,null,null,null,null,{"$f":"IFERROR(VLOOKUP(F133,'matriz puntaje'!$B$12:$C$15,2,FALSE),\"\")","v":""},null,{"$f":"IFERROR(VLOOKUP(H133,'matriz puntaje'!$B$7:$C$11,2,FALSE),\"\")","v":""},null,{"$f":"IFERROR(VLOOKUP(J133,'matriz puntaje'!$B$16:$C$20,2,FALSE),\"\")","v":""},{"$f":"IFERROR(VLOOKUP(A133,'comité evaluador'!$A$3:$P$202,16,FALSE),\"\")","v":""},"",""]
[130,null,null,null,null,null,{"$f":"IFERROR(VLOOKUP(F134,'matriz puntaje'!$B$12:$C$15,2,FALSE),\"\")","v":""},null,{"$f":"IFERROR(VLOOKUP(H134,'matriz puntaje'!$B$7:$C$11,2,FALSE),\"\")","v":""},null,{"$f":"IFERROR(VLOOKUP(J134,'matriz puntaje'!$B$16:$C$20,2,FALSE),\"\")","v":""},{"$f":"IFERROR(VLOOKUP(A134,'comité evaluador'!$A$3:$P$202,16,FALSE),\"\")","v":""},{"$f":"L134","v":""},{"$f":"IFERROR((G134*$G$3+I134*$I$3+M134*$M$3+$K$3*K134),\"\")","v":""}]
[131,null,null,null,null,null,{"$f":"IFERROR(VLOOKUP(F135,'matriz puntaje'!$B$12:$C$15,2,FALSE),\"\")","v":""},null,{"$f":"IFERROR(VLOOKUP(H135,'matriz puntaje'!$B$7:$C$11,2,FALSE),\"\")","v":""},null,{"$f":"IFERROR(VLOOKUP(J135,'matriz puntaje'!$B$16:$C$20,2,FALSE),\"\")","v":""},{"$f":"IFERROR(VLOOKUP(A135,'comité evaluador'!$A$3:$P$202,16,FALSE),\"\")","v":""},"",""]
[132,null,null,null,null,null,{"$f":"IFERROR(VLOOKUP(F136,'matriz puntaje'!$B$12:$C$15,2,FALSE),\"\")","v":""},null,{"$f":"IFERROR(VLOOKUP(H136,'matriz puntaje'!$B$7:$C$11,2,FALSE),\"\")","v":""},null,{"$f":"IFERROR(VLOOKUP(J136,'matriz puntaje'!$B$16:$C$20,2,FALSE),\"\")","v":""},{"$f":"IFERROR(VLOOKUP(A136,'comité evaluador'!$A$3:$P$202,16,FALSE),\"\")","v":""},"",""]
[133,null,null,null,null,null,{"$f":"IFERROR(VLOOKUP(F137,'matriz puntaje'!$B$12:$C$15,2,FALSE),\"\")","v":""},null,{"$f":"IFERROR(VLOOKUP(H137,'matriz puntaje'!$B$7:$C$11,2,FALSE),\"\")","v":""},null,{"$f":"IFERROR(VLOOKUP(J137,'matriz puntaje'!$B$16:$C$20,2,FALSE),\"\")","v":""},{"$f":"IFERROR(VLOOKUP(A137,'comité evaluador'!$A$3:$P$202,16,FALSE),\"\")","v":""},"",""]
[134,null,null,null,null,null,{"$f":"IFERROR(VLOOKUP(F138,'matriz puntaje'!$B$12:$C$15,2,FALSE),\"\")","v":""},null,{"$f":"IFERROR(VLOOKUP(H138,'matriz puntaje'!$B$7:$C$11,2,FALSE),\"\")","v":""},null,{"$f":"IFERROR(VLOOKUP(J138,'matriz puntaje'!$B$16:$C$20,2,FALSE),\"\")","v":""},{"$f":"IFERROR(VLOOKUP(A138,'comité evaluador'!$A$3:$P$202,16,FALSE),\"\")","v":""},"",""]
[135,null,null,null,null,null,{"$f":"IFERROR(VLOOKUP(F139,'matriz puntaje'!$B$12:$C$15,2,FALSE),\"\")","v":""},null,{"$f":"IFERROR(VLOOKUP(H139,'matriz puntaje'!$B$7:$C$11,2,FALSE),\"\")","v":""},null,{"$f":"IFERROR(VLOOKUP(J139,'matriz puntaje'!$B$16:$C$20,2,FALSE),\"\")","v":""},{"$f":"IFERROR(VLOOKUP(A139,'comité evaluador'!$A$3:$P$202,16,FALSE),\"\")","v":""},"",""]
[136,null,null,null,null,null,{"$f":"IFERROR(VLOOKUP(F140,'matriz puntaje'!$B$12:$C$15,2,FALSE),\"\")","v":""},null,{"$f":"IFERROR(VLOOKUP(H140,'matriz puntaje'!$B$7:$C$11,2,FALSE),\"\")","v":""},null,{"$f":"IFERROR(VLOOKUP(J140,'matriz puntaje'!$B$16:$C$20,2,FALSE),\"\")","v":""},{"$f":"IFERROR(VLOOKUP(A140,'comité evaluador'!$A$3:$P$202,16,FALSE),\"\")","v":""},"",""]
[137,null,null,null,null,null,{"$f":"IFERROR(VLOOKUP(F141,'matriz puntaje'!$B$12:$C$15,2,FALSE),\"\")","v":""},null,{"$f":"IFERROR(VLOOKUP(H141,'matriz puntaje'!$B$7:$C$11,2,FALSE),\"\")","v":""},null,{"$f":"IFERROR(VLOOKUP(J141,'matriz puntaje'!$B$16:$C$20,2,FALSE),\"\")","v":""},{"$f":"IFERROR(VLOOKUP(A141,'comité evaluador'!$A$3:$P$202,16,FALSE),\"\")","v":""},"",""]
[138,null,null,null,null,null,{"$f":"IFERROR(VLOOKUP(F142,'matriz puntaje'!$B$12:$C$15,2,FALSE),\"\")","v":""},null,{"$f":"IFERROR(VLOOKUP(H142,'matriz puntaje'!$B$7:$C$11,2,FALSE),\"\")","v":""},null,{"$f":"IFERROR(VLOOKUP(J142,'matriz puntaje'!$B$16:$C$20,2,FALSE),\"\")","v":""},{"$f":"IFERROR(VLOOKUP(A142,'comité evaluador'!$A$3:$P$202,16,FALSE),\"\")","v":""},"",""]
[139,null,null,null,null,null,{"$f":"IFERROR(VLOOKUP(F143,'matriz puntaje'!$B$12:$C$15,2,FALSE),\"\")","v":""},null,{"$f":"IFERROR(VLOOKUP(H143,'matriz puntaje'!$B$7:$C$11,2,FALSE),\"\")","v":""},null,{"$f":"IFERROR(VLOOKUP(J143,'matriz puntaje'!$B$16:$C$20,2,FALSE),\"\")","v":""},{"$f":"IFERROR(VLOOKUP(A143,'comité evaluador'!$A$3:$P$202,16,FALSE),\"\")","v":""},"",""]
[140,null,null,null,null,null,{"$f":"IFERROR(VLOOKUP(F144,'matriz puntaje'!$B$12:$C$15,2,FALSE),\"\")","v":""},null,{"$f":"IFERROR(VLOOKUP(H144,'matriz puntaje'!$B$7:$C$11,2,FALSE),\"\")","v":""},null,{"$f":"IFERROR(VLOOKUP(J144,'matriz puntaje'!$B$16:$C$20,2,FALSE),\"\")","v":""},{"$f":"IFERROR(VLOOKUP(A144,'comité evaluador'!$A$3:$P$202,16,FALSE),\"\")","v":""},"",""]
[141,null,null,null,null,null,{"$f":"IFERROR(VLOOKUP(F145,'matriz puntaje'!$B$12:$C$15,2,FALSE),\"\")","v":""},null,{"$f":"IFERROR(VLOOKUP(H145,'matriz puntaje'!$B$7:$C$11,2,FALSE),\"\")","v":""},null,{"$f":"IFERROR(VLOOKUP(J145,'matriz puntaje'!$B$16:$C$20,2,FALSE),\"\")","v":""},{"$f":"IFERROR(VLOOKUP(A145,'comité evaluador'!$A$3:$P$202,16,FALSE),\"\")","v":""},"",""]
[142,null,null,null,null,null,{"$f":"IFERROR(VLOOKUP(F146,'matriz puntaje'!$B$12:$C$15,2,FALSE),\"\")","v":""},null,{"$f":"IFERROR(VLOOKUP(H146,'matriz puntaje'!$B$7:$C$11,2,FALSE),\"\")","v":""},null,{"$f":"IFERROR(VLOOKUP(J146,'matriz puntaje'!$B$16:$C$20,2,FALSE),\"\")","v":""},{"$f":"IFERROR(VLOOKUP(A146,'comité evaluador'!$A$3:$P$202,16,FALSE),\"\")","v":""},"",""]
[143,null,null,null,null,null,{"$f":"IFERROR(VLOOKUP(F147,'matriz puntaje'!$B$12:$C$15,2,FALSE),\"\")","v":""},null,{"$f":"IFERROR(VLOOKUP(H147,'matriz puntaje'!$B$7:$C$11,2,FALSE),\"\")","v":""},null,{"$f":"IFERROR(VLOOKUP(J147,'matriz puntaje'!$B$16:$C$20,2,FALSE),\"\")","v":""},{"$f":"IFERROR(VLOOKUP(A147,'comité evaluador'!$A$3:$P$202,16,FALSE),\"\")","v":""},"",""]
[144,null,null,null,null,null,{"$f":"IFERROR(VLOOKUP(F148,'matriz puntaje'!$B$12:$C$15,2,FALSE),\"\")","v":""},null,{"$f":"IFERROR(VLOOKUP(H148,'matriz puntaje'!$B$7:$C$11,2,FALSE),\"\")","v":""},null,{"$f":"IFERROR(VLOOKUP(J148,'matriz puntaje'!$B$16:$C$20,2,FALSE),\"\")","v":""},{"$f":"IFERROR(VLOOKUP(A148,'comité evaluador'!$A$3:$P$202,16,FALSE),\"\")","v":""},"",""]
[145,null,null,null,null,null,{"$f":"IFERROR(VLOOKUP(F149,'matriz puntaje'!$B$12:$C$15,2,FALSE),\"\")","v":""},null,{"$f":"IFERROR(VLOOKUP(H149,'matriz puntaje'!$B$7:$C$11,2,FALSE),\"\")","v":""},null,{"$f":"IFERROR(VLOOKUP(J149,'matriz puntaje'!$B$16:$C$20,2,FALSE),\"\")","v":""},{"$f":"IFERROR(VLOOKUP(A149,'comité evaluador'!$A$3:$P$202,16,FALSE),\"\")","v":""},"",""]
[146,null,null,null,null,null,{"$f":"IFERROR(VLOOKUP(F150,'matriz puntaje'!$B$12:$C$15,2,FALSE),\"\")","v":""},null,{"$f":"IFERROR(VLOOKUP(H150,'matriz puntaje'!$B$7:$C$11,2,FALSE),\"\")","v":""},null,{"$f":"IFERROR(VLOOKUP(J150,'matriz puntaje'!$B$16:$C$20,2,FALSE),\"\")","v":""},{"$f":"IFERROR(VLOOKUP(A150,'comité evaluador'!$A$3:$P$202,16,FALSE),\"\")","v":""},"",""]
[147,null,null,null,null,null,{"$f":"IFERROR(VLOOKUP(F151,'matriz puntaje'!$B$12:$C$15,2,FALSE),\"\")","v":""},null,{"$f":"IFERROR(VLOOKUP(H151,'matriz puntaje'!$B$7:$C$11,2,FALSE),\"\")","v":""},null,{"$f":"IFERROR(VLOOKUP(J151,'matriz puntaje'!$B$16:$C$20,2,FALSE),\"\")","v":""},{"$f":"IFERROR(VLOOKUP(A151,'comité evaluador'!$A$3:$P$202,16,FALSE),\"\")","v":""},"",""]
[148,null,null,null,null,null,{"$f":"IFERROR(VLOOKUP(F152,'matriz puntaje'!$B$12:$C$15,2,FALSE),\"\")","v":""},null,{"$f":"IFERROR(VLOOKUP(H152,'matriz puntaje'!$B$7:$C$11,2,FALSE),\"\")","v":""},null,{"$f":"IFERROR(VLOOKUP(J152,'matriz puntaje'!$B$16:$C$20,2,FALSE),\"\")","v":""},{"$f":"IFERROR(VLOOKUP(A152,'comité evaluador'!$A$3:$P$202,16,FALSE),\"\")","v":""},"",""]
[149,null,null,null,null,null,{"$f":"IFERROR(VLOOKUP(F153,'matriz puntaje'!$B$12:$C$15,2,FALSE),\"\")","v":""},null,{"$f":"IFERROR(VLOOKUP(H153,'matriz puntaje'!$B$7:$C$11,2,FALSE),\"\")","v":""},null,{"$f":"IFERROR(VLOOKUP(J153,'matriz puntaje'!$B$16:$C$20,2,FALSE),\"\")","v":""},{"$f":"IFERROR(VLOOKUP(A153,'comité evaluador'!$A$3:$P$202,16,FALSE),\"\")","v":""},"",""]
[150,null,null,null,null,null,{"$f":"IFERROR(VLOOKUP(F154,'matriz puntaje'!$B$12:$C$15,2,FALSE),\"\")","v":""},null,{"$f":"IFERROR(VLOOKUP(H154,'matriz puntaje'!$B$7:$C$11,2,FALSE),\"\")","v":""},null,{"$f":"IFERROR(VLOOKUP(J154,'matriz puntaje'!$B$16:$C$20,2,FALSE),\"\")","v":""},{"$f":"IFERROR(VLOOKUP(A154,'comité evaluador'!$A$3:$P$202,16,FALSE),\"\")","v":""},"",""]
[151,null,null,null,null,null,{"$f":"IFERROR(VLOOKUP(F155,'matriz puntaje'!$B$12:$C$15,2,FALSE),\"\")","v":""},null,{"$f":"IFERROR(VLOOKUP(H155,'matriz puntaje'!$B$7:$C$11,2,FALSE),\"\")","v":""},null,{"$f":"IFERROR(VLOOKUP(J155,'matriz puntaje'!$B$16:$C$20,2,FALSE),\"\")","v":""},{"$f":"IFERROR(VLOOKUP(A155,'comité evaluador'!$A$3:$P$202,16,FALSE),\"\")","v":""},"",""]
[152,null,null,null,null,null,{"$f":"IFERROR(VLOOKUP(F156,'matriz puntaje'!$B$12:$C$15,2,FALSE),\"\")","v":""},null,{"$f":"IFERROR(VLOOKUP(H156,'matriz puntaje'!$B$7:$C$11,2,FALSE),\"\")","v":""},null,{"$f":"IFERROR(VLOOKUP(J156,'matriz puntaje'!$B$16:$C$20,2,FALSE),\"\")","v":""},{"$f":"IFERROR(VLOOKUP(A156,'comité evaluador'!$A$3:$P$202,16,FALSE),\"\")","v":""},"",""]
[153,null,null,null,null,null,{"$f":"IFERROR(VLOOKUP(F157,'matriz puntaje'!$B$12:$C$15,2,FALSE),\"\")","v":""},null,{"$f":"IFERROR(VLOOKUP(H157,'matriz puntaje'!$B$7:$C$11,2,FALSE),\"\")","v":""},null,{"$f":"IFERROR(VLOOKUP(J157,'matriz puntaje'!$B$16:$C$20,2,FALSE),\"\")","v":""},{"$f":"IFERROR(VLOOKUP(A157,'comité evaluador'!$A$3:$P$202,16,FALSE),\"\")","v":""},"",""]
[154,null,null,null,null,null,{"$f":"IFERROR(VLOOKUP(F158,'matriz puntaje'!$B$12:$C$15,2,FALSE),\"\")","v":""},null,{"$f":"IFERROR(VLOOKUP(H158,'matriz puntaje'!$B$7:$C$11,2,FALSE),\"\")","v":""},null,{"$f":"IFERROR(VLOOKUP(J158,'matriz puntaje'!$B$16:$C$20,2,FALSE),\"\")","v":""},{"$f":"IFERROR(VLOOKUP(A158,'comité evaluador'!$A$3:$P$202,16,FALSE),\"\")","v":""},"",""]
[155,null,null,null,null,null,{"$f":"IFERROR(VLOOKUP(F159,'matriz puntaje'!$B$12:$C$15,2,FALSE),\"\")","v":""},null,{"$f":"IFERROR(VLOOKUP(H159,'matriz puntaje'!$B$7:$C$11,2,FALSE),\"\")","v":""},null,{"$f":"IFERROR(VLOOKUP(J159,'matriz puntaje'!$B$16:$C$20,2,FALSE),\"\")","v":""},{"$f":"IFERROR(VLOOKUP(A159,'comité evaluador'!$A$3:$P$202,16,FALSE),\"\")","v":""},"",""]
[156,null,null,null,null,null,{"$f":"IFERROR(VLOOKUP(F160,'matriz puntaje'!$B$12:$C$15,2,FALSE),\"\")","v":""},null,{"$f":"IFERROR(VLOOKUP(H160,'matriz puntaje'!$B$7:$C$11,2,FALSE),\"\")","v":""},null,{"$f":"IFERROR(VLOOKUP(J160,'matriz puntaje'!$B$16:$C$20,2,FALSE),\"\")","v":""},{"$f":"IFERROR(VLOOKUP(A160,'comité evaluador'!$A$3:$P$202,16,FALSE),\"\")","v":""},"",""]
[157,null,null,null,null,null,{"$f":"IFERROR(VLOOKUP(F161,'matriz puntaje'!$B$12:$C$15,2,FALSE),\"\")","v":""},null,{"$f":"IFERROR(VLOOKUP(H161,'matriz puntaje'!$B$7:$C$11,2,FALSE),\"\")","v":""},null,{"$f":"IFERROR(VLOOKUP(J161,'matriz puntaje'!$B$16:$C$20,2,FALSE),\"\")","v":""},{"$f":"IFERROR(VLOOKUP(A161,'comité evaluador'!$A$3:$P$202,16,FALSE),\"\")","v":""},"",""]
[158,null,null,null,null,null,{"$f":"IFERROR(VLOOKUP(F162,'matriz puntaje'!$B$12:$C$15,2,FALSE),\"\")","v":""},null,{"$f":"IFERROR(VLOOKUP(H162,'matriz puntaje'!$B$7:$C$11,2,FALSE),\"\")","v":""},null,{"$f":"IFERROR(VLOOKUP(J162,'matriz puntaje'!$B$16:$C$20,2,FALSE),\"\")","v":""},{"$f":"IFERROR(VLOOKUP(A162,'comité evaluador'!$A$3:$P$202,16,FALSE),\"\")","v":""},"",""]
[159,null,null,null,null,null,{"$f":"IFERROR(VLOOKUP(F163,'matriz puntaje'!$B$12:$C$15,2,FALSE),\"\")","v":""},null,{"$f":"IFERROR(VLOOKUP(H163,'matriz puntaje'!$B$7:$C$11,2,FALSE),\"\")","v":""},null,{"$f":"IFERROR(VLOOKUP(J163,'matriz puntaje'!$B$16:$C$20,2,FALSE),\"\")","v":""},{"$f":"IFERROR(VLOOKUP(A163,'comité evaluador'!$A$3:$P$202,16,FALSE),\"\")","v":""},"",""]
[160,null,null,null,null,null,{"$f":"IFERROR(VLOOKUP(F164,'matriz puntaje'!$B$12:$C$15,2,FALSE),\"\")","v":""},null,{"$f":"IFERROR(VLOOKUP(H164,'matriz puntaje'!$B$7:$C$11,2,FALSE),\"\")","v":""},null,{"$f":"IFERROR(VLOOKUP(J164,'matriz puntaje'!$B$16:$C$20,2,FALSE),\"\")","v":""},{"$f":"IFERROR(VLOOKUP(A164,'comité evaluador'!$A$3:$P$202,16,FALSE),\"\")","v":""},"",""]
[161,null,null,null,null,null,{"$f":"IFERROR(VLOOKUP(F165,'matriz puntaje'!$B$12:$C$15,2,FALSE),\"\")","v":""},null,{"$f":"IFERROR(VLOOKUP(H165,'matriz puntaje'!$B$7:$C$11,2,FALSE),\"\")","v":""},null,{"$f":"IFERROR(VLOOKUP(J165,'matriz puntaje'!$B$16:$C$20,2,FALSE),\"\")","v":""},{"$f":"IFERROR(VLOOKUP(A165,'comité evaluador'!$A$3:$P$202,16,FALSE),\"\")","v":""},"",""]
[162,null,null,null,null,null,{"$f":"IFERROR(VLOOKUP(F166,'matriz puntaje'!$B$12:$C$15,2,FALSE),\"\")","v":""},null,{"$f":"IFERROR(VLOOKUP(H166,'matriz puntaje'!$B$7:$C$11,2,FALSE),\"\")","v":""},null,{"$f":"IFERROR(VLOOKUP(J166,'matriz puntaje'!$B$16:$C$20,2,FALSE),\"\")","v":""},{"$f":"IFERROR(VLOOKUP(A166,'comité evaluador'!$A$3:$P$202,16,FALSE),\"\")","v":""},"",""]
[163,null,null,null,null,null,{"$f":"IFERROR(VLOOKUP(F167,'matriz puntaje'!$B$12:$C$15,2,FALSE),\"\")","v":""},null,{"$f":"IFERROR(VLOOKUP(H167,'matriz puntaje'!$B$7:$C$11,2,FALSE),\"\")","v":""},null,{"$f":"IFERROR(VLOOKUP(J167,'matriz puntaje'!$B$16:$C$20,2,FALSE),\"\")","v":""},{"$f":"IFERROR(VLOOKUP(A167,'comité evaluador'!$A$3:$P$202,16,FALSE),\"\")","v":""},"",""]
[164,null,null,null,null,null,{"$f":"IFERROR(VLOOKUP(F168,'matriz puntaje'!$B$12:$C$15,2,FALSE),\"\")","v":""},null,{"$f":"IFERROR(VLOOKUP(H168,'matriz puntaje'!$B$7:$C$11,2,FALSE),\"\")","v":""},null,{"$f":"IFERROR(VLOOKUP(J168,'matriz puntaje'!$B$16:$C$20,2,FALSE),\"\")","v":""},{"$f":"IFERROR(VLOOKUP(A168,'comité evaluador'!$A$3:$P$202,16,FALSE),\"\")","v":""},"",""]
[165,null,null,null,null,null,{"$f":"IFERROR(VLOOKUP(F169,'matriz puntaje'!$B$12:$C$15,2,FALSE),\"\")","v":""},null,{"$f":"IFERROR(VLOOKUP(H169,'matriz puntaje'!$B$7:$C$11,2,FALSE),\"\")","v":""},null,{"$f":"IFERROR(VLOOKUP(J169,'matriz puntaje'!$B$16:$C$20,2,FALSE),\"\")","v":""},{"$f":"IFERROR(VLOOKUP(A169,'comité evaluador'!$A$3:$P$202,16,FALSE),\"\")","v":""},"",""]
[166,null,null,null,null,null,{"$f":"IFERROR(VLOOKUP(F170,'matriz puntaje'!$B$12:$C$15,2,FALSE),\"\")","v":""},null,{"$f":"IFERROR(VLOOKUP(H170,'matriz puntaje'!$B$7:$C$11,2,FALSE),\"\")","v":""},null,{"$f":"IFERROR(VLOOKUP(J170,'matriz puntaje'!$B$16:$C$20,2,FALSE),\"\")","v":""},{"$f":"IFERROR(VLOOKUP(A170,'comité evaluador'!$A$3:$P$202,16,FALSE),\"\")","v":""},"",""]
[167,null,null,null,null,null,{"$f":"IFERROR(VLOOKUP(F171,'matriz puntaje'!$B$12:$C$15,2,FALSE),\"\")","v":""},null,{"$f":"IFERROR(VLOOKUP(H171,'matriz puntaje'!$B$7:$C$11,2,FALSE),\"\")","v":""},null,{"$f":"IFERROR(VLOOKUP(J171,'matriz puntaje'!$B$16:$C$20,2,FALSE),\"\")","v":""},{"$f":"IFERROR(VLOOKUP(A171,'comité evaluador'!$A$3:$P$202,16,FALSE),\"\")","v":""},"",""]
[168,null,null,null,null,null,{"$f":"IFERROR(VLOOKUP(F172,'matriz puntaje'!$B$12:$C$15,2,FALSE),\"\")","v":""},null,{"$f":"IFERROR(VLOOKUP(H172,'matriz puntaje'!$B$7:$C$11,2,FALSE),\"\")","v":""},null,{"$f":"IFERROR(VLOOKUP(J172,'matriz puntaje'!$B$16:$C$20,2,FALSE),\"\")","v":""},{"$f":"IFERROR(VLOOKUP(A172,'comité evaluador'!$A$3:$P$202,16,FALSE),\"\")","v":""},"",""]
[169,null,null,null,null,null,{"$f":"IFERROR(VLOOKUP(F173,'matriz puntaje'!$B$12:$C$15,2,FALSE),\"\")","v":""},null,{"$f":"IFERROR(VLOOKUP(H173,'matriz puntaje'!$B$7:$C$11,2,FALSE),\"\")","v":""},null,{"$f":"IFERROR(VLOOKUP(J173,'matriz puntaje'!$B$16:$C$20,2,FALSE),\"\")","v":""},{"$f":"IFERROR(VLOOKUP(A173,'comité evaluador'!$A$3:$P$202,16,FALSE),\"\")","v":""},"",""]
[170,null,null,null,null,null,{"$f":"IFERROR(VLOOKUP(F174,'matriz puntaje'!$B$12:$C$15,2,FALSE),\"\")","v":""},null,{"$f":"IFERROR(VLOOKUP(H174,'matriz puntaje'!$B$7:$C$11,2,FALSE),\"\")","v":""},null,{"$f":"IFERROR(VLOOKUP(J174,'matriz puntaje'!$B$16:$C$20,2,FALSE),\"\")","v":""},{"$f":"IFERROR(VLOOKUP(A174,'comité evaluador'!$A$3:$P$202,16,FALSE),\"\")","v":""},"",""]
[171,null,null,null,null,null,{"$f":"IFERROR(VLOOKUP(F175,'matriz puntaje'!$B$12:$C$15,2,FALSE),\"\")","v":""},null,{"$f":"IFERROR(VLOOKUP(H175,'matriz puntaje'!$B$7:$C$11,2,FALSE),\"\")","v":""},null,{"$f":"IFERROR(VLOOKUP(J175,'matriz puntaje'!$B$16:$C$20,2,FALSE),\"\")","v":""},{"$f":"IFERROR(VLOOKUP(A175,'comité evaluador'!$A$3:$P$202,16,FALSE),\"\")","v":""},"",""]
[172,null,null,null,null,null,{"$f":"IFERROR(VLOOKUP(F176,'matriz puntaje'!$B$12:$C$15,2,FALSE),\"\")","v":""},null,{"$f":"IFERROR(VLOOKUP(H176,'matriz puntaje'!$B$7:$C$11,2,FALSE),\"\")","v":""},null,{"$f":"IFERROR(VLOOKUP(J176,'matriz puntaje'!$B$16:$C$20,2,FALSE),\"\")","v":""},{"$f":"IFERROR(VLOOKUP(A176,'comité evaluador'!$A$3:$P$202,16,FALSE),\"\")","v":""},"",""]
[173,null,null,null,null,null,{"$f":"IFERROR(VLOOKUP(F177,'matriz puntaje'!$B$12:$C$15,2,FALSE),\"\")","v":""},null,{"$f":"IFERROR(VLOOKUP(H177,'matriz puntaje'!$B$7:$C$11,2,FALSE),\"\")","v":""},null,{"$f":"IFERROR(VLOOKUP(J177,'matriz puntaje'!$B$16:$C$20,2,FALSE),\"\")","v":""},{"$f":"IFERROR(VLOOKUP(A177,'comité evaluador'!$A$3:$P$202,16,FALSE),\"\")","v":""},"",""]
[174,null,null,null,null,null,{"$f":"IFERROR(VLOOKUP(F178,'matriz puntaje'!$B$12:$C$15,2,FALSE),\"\")","v":""},null,{"$f":"IFERROR(VLOOKUP(H178,'matriz puntaje'!$B$7:$C$11,2,FALSE),\"\")","v":""},null,{"$f":"IFERROR(VLOOKUP(J178,'matriz puntaje'!$B$16:$C$20,2,FALSE),\"\")","v":""},{"$f":"IFERROR(VLOOKUP(A178,'comité evaluador'!$A$3:$P$202,16,FALSE),\"\")","v":""},"",""]
[175,null,null,null,null,null,{"$f":"IFERROR(VLOOKUP(F179,'matriz puntaje'!$B$12:$C$15,2,FALSE),\"\")","v":""},null,{"$f":"IFERROR(VLOOKUP(H179,'matriz puntaje'!$B$7:$C$11,2,FALSE),\"\")","v":""},null,{"$f":"IFERROR(VLOOKUP(J179,'matriz puntaje'!$B$16:$C$20,2,FALSE),\"\")","v":""},{"$f":"IFERROR(VLOOKUP(A179,'comité evaluador'!$A$3:$P$202,16,FALSE),\"\")","v":""},"",""]
[176,null,null,null,null,null,{"$f":"IFERROR(VLOOKUP(F180,'matriz puntaje'!$B$12:$C$15,2,FALSE),\"\")","v":""},null,{"$f":"IFERROR(VLOOKUP(H180,'matriz puntaje'!$B$7:$C$11,2,FALSE),\"\")","v":""},null,{"$f":"IFERROR(VLOOKUP(J180,'matriz puntaje'!$B$16:$C$20,2,FALSE),\"\")","v":""},{"$f":"IFERROR(VLOOKUP(A180,'comité evaluador'!$A$3:$P$202,16,FALSE),\"\")","v":""},"",""]
[177,null,null,null,null,null,{"$f":"IFERROR(VLOOKUP(F181,'matriz puntaje'!$B$12:$C$15,2,FALSE),\"\")","v":""},null,{"$f":"IFERROR(VLOOKUP(H181,'matriz puntaje'!$B$7:$C$11,2,FALSE),\"\")","v":""},null,{"$f":"IFERROR(VLOOKUP(J181,'matriz puntaje'!$B$16:$C$20,2,FALSE),\"\")","v":""},{"$f":"IFERROR(VLOOKUP(A181,'comité evaluador'!$A$3:$P$202,16,FALSE),\"\")","v":""},"",""]
[178,null,null,null,null,null,{"$f":"IFERROR(VLOOKUP(F182,'matriz puntaje'!$B$12:$C$15,2,FALSE),\"\")","v":""},null,{"$f":"IFERROR(VLOOKUP(H182,'matriz puntaje'!$B$7:$C$11,2,FALSE),\"\")","v":""},null,{"$f":"IFERROR(VLOOKUP(J182,'matriz puntaje'!$B$16:$C$20,2,FALSE),\"\")","v":""},{"$f":"IFERROR(VLOOKUP(A182,'comité evaluador'!$A$3:$P$202,16,FALSE),\"\")","v":""},"",""]
[179,null,null,null,null,null,{"$f":"IFERROR(VLOOKUP(F183,'matriz puntaje'!$B$12:$C$15,2,FALSE),\"\")","v":""},null,{"$f":"IFERROR(VLOOKUP(H183,'matriz puntaje'!$B$7:$C$11,2,FALSE),\"\")","v":""},null,{"$f":"IFERROR(VLOOKUP(J183,'matriz puntaje'!$B$16:$C$20,2,FALSE),\"\")","v":""},{"$f":"IFERROR(VLOOKUP(A183,'comité evaluador'!$A$3:$P$202,16,FALSE),\"\")","v":""},"",""]
[180,null,null,null,null,null,{"$f":"IFERROR(VLOOKUP(F184,'matriz puntaje'!$B$12:$C$15,2,FALSE),\"\")","v":""},null,{"$f":"IFERROR(VLOOKUP(H184,'matriz puntaje'!$B$7:$C$11,2,FALSE),\"\")","v":""},null,{"$f":"IFERROR(VLOOKUP(J184,'matriz puntaje'!$B$16:$C$20,2,FALSE),\"\")","v":""},{"$f":"IFERROR(VLOOKUP(A184,'comité evaluador'!$A$3:$P$202,16,FALSE),\"\")","v":""},"",""]
[181,null,null,null,null,null,{"$f":"IFERROR(VLOOKUP(F185,'matriz puntaje'!$B$12:$C$15,2,FALSE),\"\")","v":""},null,{"$f":"IFERROR(VLOOKUP(H185,'matriz puntaje'!$B$7:$C$11,2,FALSE),\"\")","v":""},null,{"$f":"IFERROR(VLOOKUP(J185,'matriz puntaje'!$B$16:$C$20,2,FALSE),\"\")","v":""},{"$f":"IFERROR(VLOOKUP(A185,'comité evaluador'!$A$3:$P$202,16,FALSE),\"\")","v":""},"",""]
[182,null,null,null,null,null,{"$f":"IFERROR(VLOOKUP(F186,'matriz puntaje'!$B$12:$C$15,2,FALSE),\"\")","v":""},null,{"$f":"IFERROR(VLOOKUP(H186,'matriz puntaje'!$B$7:$C$11,2,FALSE),\"\")","v":""},null,{"$f":"IFERROR(VLOOKUP(J186,'matriz puntaje'!$B$16:$C$20,2,FALSE),\"\")","v":""},{"$f":"IFERROR(VLOOKUP(A186,'comité evaluador'!$A$3:$P$202,16,FALSE),\"\")","v":""},"",""]
[183,null,null,null,null,null,{"$f":"IFERROR(VLOOKUP(F187,'matriz puntaje'!$B$12:$C$15,2,FALSE),\"\")","v":""},null,{"$f":"IFERROR(VLOOKUP(H187,'matriz puntaje'!$B$7:$C$11,2,FALSE),\"\")","v":""},null,{"$f":"IFERROR(VLOOKUP(J187,'matriz puntaje'!$B$16:$C$20,2,FALSE),\"\")","v":""},{"$f":"IFERROR(VLOOKUP(A187,'comité evaluador'!$A$3:$P$202,16,FALSE),\"\")","v":""},"",""]
[184,null,null,null,null,null,{"$f":"IFERROR(VLOOKUP(F188,'matriz puntaje'!$B$12:$C$15,2,FALSE),\"\")","v":""},null,{"$f":"IFERROR(VLOOKUP(H188,'matriz puntaje'!$B$7:$C$11,2,FALSE),\"\")","v":""},null,{"$f":"IFERROR(VLOOKUP(J188,'matriz puntaje'!$B$16:$C$20,2,FALSE),\"\")","v":""},{"$f":"IFERROR(VLOOKUP(A188,'comité evaluador'!$A$3:$P$202,16,FALSE),\"\")","v":""},"",""]
[185,null,null,null,null,null,{"$f":"IFERROR(VLOOKUP(F189,'matriz puntaje'!$B$12:$C$15,2,FALSE),\"\")","v":""},null,{"$f":"IFERROR(VLOOKUP(H189,'matriz puntaje'!$B$7:$C$11,2,FALSE),\"\")","v":""},null,{"$f":"IFERROR(VLOOKUP(J189,'matriz puntaje'!$B$16:$C$20,2,FALSE),\"\")","v":""},{"$f":"IFERROR(VLOOKUP(A189,'comité evaluador'!$A$3:$P$202,16,FALSE),\"\")","v":""},"",""]
[186,null,null,null,null,null,{"$f":"IFERROR(VLOOKUP(F190,'matriz puntaje'!$B$12:$C$15,2,FALSE),\"\")","v":""},null,{"$f":"IFERROR(VLOOKUP(H190,'matriz puntaje'!$B$7:$C$11,2,FALSE),\"\")","v":""},null,{"$f":"IFERROR(VLOOKUP(J190,'matriz puntaje'!$B$16:$C$20,2,FALSE),\"\")","v":""},{"$f":"IFERROR(VLOOKUP(A190,'comité evaluador'!$A$3:$P$202,16,FALSE),\"\")","v":""},"",""]
[187,null,null,null,null,null,{"$f":"IFERROR(VLOOKUP(F191,'matriz puntaje'!$B$12:$C$15,2,FALSE),\"\")","v":""},null,{"$f":"IFERROR(VLOOKUP(H191,'matriz puntaje'!$B$7:$C$11,2,FALSE),\"\")","v":""},null,{"$f":"IFERROR(VLOOKUP(J191,'matriz puntaje'!$B$16:$C$20,2,FALSE),\"\")","v":""},{"$f":"IFERROR(VLOOKUP(A191,'comité evaluador'!$A$3:$P$202,16,FALSE),\"\")","v":""},"",""]
[188,null,null,null,null,null,{"$f":"IFERROR(VLOOKUP(F192,'matriz puntaje'!$B$12:$C$15,2,FALSE),\"\")","v":""},null,{"$f":"IFERROR(VLOOKUP(H192,'matriz puntaje'!$B$7:$C$11,2,FALSE),\"\")","v":""},null,{"$f":"IFERROR(VLOOKUP(J192,'matriz puntaje'!$B$16:$C$20,2,FALSE),\"\")","v":""},{"$f":"IFERROR(VLOOKUP(A192,'comité evaluador'!$A$3:$P$202,16,FALSE),\"\")","v":""},"",""]
[189,null,null,null,null,null,{"$f":"IFERROR(VLOOKUP(F193,'matriz puntaje'!$B$12:$C$15,2,FALSE),\"\")","v":""},null,{"$f":"IFERROR(VLOOKUP(H193,'matriz puntaje'!$B$7:$C$11,2,FALSE),\"\")","v":""},null,{"$f":"IFERROR(VLOOKUP(J193,'matriz puntaje'!$B$16:$C$20,2,FALSE),\"\")","v":""},{"$f":"IFERROR(VLOOKUP(A193,'comité evaluador'!$A$3:$P$202,16,FALSE),\"\")","v":""},"",""]
[190,null,null,null,null,null,{"$f":"IFERROR(VLOOKUP(F194,'matriz puntaje'!$B$12:$C$15,2,FALSE),\"\")","v":""},null,{"$f":"IFERROR(VLOOKUP(H194,'matriz puntaje'!$B$7:$C$11,2,FALSE),\"\")","v":""},null,{"$f":"IFERROR(VLOOKUP(J194,'matriz puntaje'!$B$16:$C$20,2,FALSE),\"\")","v":""},{"$f":"IFERROR(VLOOKUP(A194,'comité evaluador'!$A$3:$P$202,16,FALSE),\"\")","v":""},"",""]
[191,null,null,null,null,null,{"$f":"IFERROR(VLOOKUP(F195,'matriz puntaje'!$B$12:$C$15,2,FALSE),\"\")","v":""},null,{"$f":"IFERROR(VLOOKUP(H195,'matriz puntaje'!$B$7:$C$11,2,FALSE),\"\")","v":""},null,{"$f":"IFERROR(VLOOKUP(J195,'matriz puntaje'!$B$16:$C$20,2,FALSE),\"\")","v":""},{"$f":"IFERROR(VLOOKUP(A195,'comité evaluador'!$A$3:$P$202,16,FALSE),\"\")","v":""},"",""]
[192,null,null,null,null,null,{"$f":"IFERROR(VLOOKUP(F196,'matriz puntaje'!$B$12:$C$15,2,FALSE),\"\")","v":""},null,{"$f":"IFERROR(VLOOKUP(H196,'matriz puntaje'!$B$7:$C$11,2,FALSE),\"\")","v":""},null,{"$f":"IFERROR(VLOOKUP(J196,'matriz puntaje'!$B$16:$C$20,2,FALSE),\"\")","v":""},{"$f":"IFERROR(VLOOKUP(A196,'comité evaluador'!$A$3:$P$202,16,FALSE),\"\")","v":""},"",""]
[193,null,null,null,null,null,{"$f":"IFERROR(VLOOKUP(F197,'matriz puntaje'!$B$12:$C$15,2,FALSE),\"\")","v":""},null,{"$f":"IFERROR(VLOOKUP(H197,'matriz puntaje'!$B$7:$C$11,2,FALSE),\"\")","v":""},null,{"$f":"IFERROR(VLOOKUP(J197,'matriz puntaje'!$B$16:$C$20,2,FALSE),\"\")","v":""},{"$f":"IFERROR(VLOOKUP(A197,'comité evaluador'!$A$3:$P$202,16,FALSE),\"\")","v":""},"",""]
[194,null,null,null,null,null,{"$f":"IFERROR(VLOOKUP(F198,'matriz puntaje'!$B$12:$C$15,2,FALSE),\"\")","v":""},null,{"$f":"IFERROR(VLOOKUP(H198,'matriz puntaje'!$B$7:$C$11,2,FALSE),\"\")","v":""},null,{"$f":"IFERROR(VLOOKUP(J198,'matriz puntaje'!$B$16:$C$20,2,FALSE),\"\")","v":""},{"$f":"IFERROR(VLOOKUP(A198,'comité evaluador'!$A$3:$P$202,16,FALSE),\"\")","v":""},{"$f":"L198","v":""},{"$f":"IFERROR((G198*$G$3+I198*$I$3+M198*$M$3+$K$3*K198),\"\")","v":""}]
[195,null,null,null,null,null,{"$f":"IFERROR(VLOOKUP(F199,'matriz puntaje'!$B$12:$C$15,2,FALSE),\"\")","v":""},null,{"$f":"IFERROR(VLOOKUP(H199,'matriz puntaje'!$B$7:$C$11,2,FALSE),\"\")","v":""},null,{"$f":"IFERROR(VLOOKUP(J199,'matriz puntaje'!$B$16:$C$20,2,FALSE),\"\")","v":""},{"$f":"IFERROR(VLOOKUP(A199,'comité evaluador'!$A$3:$P$202,16,FALSE),\"\")","v":""},"",""]
[196,null,null,null,null,null,{"$f":"IFERROR(VLOOKUP(F200,'matriz puntaje'!$B$12:$C$15,2,FALSE),\"\")","v":""},null,{"$f":"IFERROR(VLOOKUP(H200,'matriz puntaje'!$B$7:$C$11,2,FALSE),\"\")","v":""},null,{"$f":"IFERROR(VLOOKUP(J200,'matriz puntaje'!$B$16:$C$20,2,FALSE),\"\")","v":""},{"$f":"IFERROR(VLOOKUP(A200,'comité evaluador'!$A$3:$P$202,16,FALSE),\"\")","v":""},"",""]
[197,null,null,null,null,null,{"$f":"IFERROR(VLOOKUP(F201,'matriz puntaje'!$B$12:$C$15,2,FALSE),\"\")","v":""},null,{"$f":"IFERROR(VLOOKUP(H201,'matriz puntaje'!$B$7:$C$11,2,FALSE),\"\")","v":""},null,{"$f":"IFERROR(VLOOKUP(J201,'matriz puntaje'!$B$16:$C$20,2,FALSE),\"\")","v":""},{"$f":"IFERROR(VLOOKUP(A201,'comité evaluador'!$A$3:$P$202,16,FALSE),\"\")","v":""},"",""]
[198,null,null,null,null,null,{"$f":"IFERROR(VLOOKUP(F202,'matriz puntaje'!$B$12:$C$15,2,FALSE),\"\")","v":""},null,{"$f":"IFERROR(VLOOKUP(H202,'matriz puntaje'!$B$7:$C$11,2,FALSE),\"\")","v":""},null,{"$f":"IFERROR(VLOOKUP(J202,'matriz puntaje'!$B$16:$C$20,2,FALSE),\"\")","v":""},{"$f":"IFERROR(VLOOKUP(A202,'comité evaluador'!$A$3:$P$202,16,FALSE),\"\")","v":""},"",""]
[199,null,null,null,null,null,{"$f":"IFERROR(VLOOKUP(F203,'matriz puntaje'!$B$12:$C$15,2,FALSE),\"\")","v":""},null,{"$f":"IFERROR(VLOOKUP(H203,'matriz puntaje'!$B$7:$C$11,2,FALSE),\"\")","v":""},null,{"$f":"IFERROR(VLOOKUP(J203,'matriz puntaje'!$B$16:$C$20,2,FALSE),\"\")","v":""},{"$f":"IFERROR(VLOOKUP(A203,'comité evaluador'!$A$3:$P$202,16,FALSE),\"\")","v":""},"",""]
[200,null,null,null,null,null,{"$f":"IFERROR(VLOOKUP(F204,'matriz puntaje'!$B$12:$C$15,2,FALSE),\"\")","v":""},null,{"$f":"IFERROR(VLOOKUP(H204,'matriz puntaje'!$B$7:$C$11,2,FALSE),\"\")","v":""},null,{"$f":"IFERROR(VLOOKUP(J204,'matriz puntaje'!$B$16:$C$20,2,FALSE),\"\")","v":""},{"$f":"IFERROR(VLOOKUP(A204,'comité evaluador'!$A$3:$P$202,16,FALSE),\"\")","v":""},"",""]

{"sheet":"comité evaluador","index":2,"n_rows":202,"n_cols":16,"rows_kept":202,"cut":false,"hidden":false,"merged":[[0,11,0,14],[0,0,1,0],[0,1,1,1],[0,2,1,2],[0,3,0,6],[0,7,0,10]]}
["ID","Rut","Postulante","EVALUACIÓN OFIREG",null,null,null,"EVALUACIÓN OFICOM",null,null,null,"EVALUACIÓN SECTOR"]
[null,null,null,"Experiencia y Comportamiento de trabajo con ProChile","Puntaje","Razón Argumento","Nota Final OFIREG","Oportunidad de mercado","Puntaje","Razón Argumento","Nota Final OFICOM","Potencialidad de la oferta ","Puntaje","Razón Argumento","Nota Final SECTOR","NOTA FINAL"]
[1,{"$f":"IFERROR(VLOOKUP(A3,'matriz evaluación'!$A$5:$C$204,2,FALSE),\"\")","v":0},{"$f":"IFERROR(VLOOKUP(A3,'matriz evaluación'!$A$5:$C$204,3,FALSE),\"\")","v":0},null,{"$f":"IFERROR(VLOOKUP(D3,'matriz puntaje'!$B$3:$C$6,2,FALSE),\"\")","v":""},"Ingrese el argumento de la evaluación…",{"$f":"E3","v":""},null,{"$f":"IFERROR(VLOOKUP(H3,'matriz puntaje'!$B$3:$C$6,2,FALSE),\"\")","v":""},"Ingrese el argumento de la evaluación…",{"$f":"I3","v":""},null,{"$f":"IFERROR(VLOOKUP(L3,'matriz puntaje'!$B$3:$C$6,2,FALSE),\"\")","v":""},"Ingrese el argumento de la evaluación…",{"$f":"M3","v":""},{"$f":"IFERROR(AVERAGE(G3,K3,O3),\"\")","v":""}]
[2,{"$f":"IFERROR(VLOOKUP(A4,'matriz evaluación'!$A$5:$C$204,2,FALSE),\"\")","v":0},{"$f":"IFERROR(VLOOKUP(A4,'matriz evaluación'!$A$5:$C$204,3,FALSE),\"\")","v":0},null,{"$f":"IFERROR(VLOOKUP(D4,'matriz puntaje'!$B$3:$C$6,2,FALSE),\"\")","v":""},null,{"$f":"E4","v":""},null,{"$f":"IFERROR(VLOOKUP(H4,'matriz puntaje'!$B$3:$C$6,2,FALSE),\"\")","v":""},null,{"$f":"I4","v":""},null,{"$f":"IFERROR(VLOOKUP(L4,'matriz puntaje'!$B$3:$C$6,2,FALSE),\"\")","v":""},null,{"$f":"M4","v":""},""]
[3,{"$f":"IFERROR(VLOOKUP(A5,'matriz evaluación'!$A$5:$C$204,2,FALSE),\"\")","v":0},{"$f":"IFERROR(VLOOKUP(A5,'matriz evaluación'!$A$5:$C$204,3,FALSE),\"\")","v":0},null,{"$f":"IFERROR(VLOOKUP(D5,'matriz puntaje'!$B$3:$C$6,2,FALSE),\"\")","v":""},null,"",null,{"$f":"IFERROR(VLOOKUP(H5,'matriz puntaje'!$B$3:$C$6,2,FALSE),\"\")","v":""},null,"",null,{"$f":"IFERROR(VLOOKUP(L5,'matriz puntaje'!$B$3:$C$6,2,FALSE),\"\")","v":""},null,"",""]
[4,{"$f":"IFERROR(VLOOKUP(A6,'matriz evaluación'!$A$5:$C$204,2,FALSE),\"\")","v":0},{"$f":"IFERROR(VLOOKUP(A6,'matriz evaluación'!$A$5:$C$204,3,FALSE),\"\")","v":0},null,{"$f":"IFERROR(VLOOKUP(D6,'matriz puntaje'!$B$3:$C$6,2,FALSE),\"\")","v":""},null,"",null,{"$f":"IFERROR(VLOOKUP(H6,'matriz puntaje'!$B$3:$C$6,2,FALSE),\"\")","v":""},null,"",null,{"$f":"IFERROR(VLOOKUP(L6,'matriz puntaje'!$B$3:$C$6,2,FALSE),\"\")","v":""},null,"",""]
[5,{"$f":"IFERROR(VLOOKUP(A7,'matriz evaluación'!$A$5:$C$204,2,FALSE),\"\")","v":0},{"$f":"IFERROR(VLOOKUP(A7,'matriz evaluación'!$A$5:$C$204,3,FALSE),\"\")","v":0},null,{"$f":"IFERROR(VLOOKUP(D7,'matriz puntaje'!$B$3:$C$6,2,FALSE),\"\")","v":""},null,"",null,{"$f":"IFERROR(VLOOKUP(H7,'matriz puntaje'!$B$3:$C$6,2,FALSE),\"\")","v":""},null,"",null,{"$f":"IFERROR(VLOOKUP(L7,'matriz puntaje'!$B$3:$C$6,2,FALSE),\"\")","v":""},null,"",""]
[6,{"$f":"IFERROR(VLOOKUP(A8,'matriz evaluación'!$A$5:$C$204,2,FALSE),\"\")","v":0},{"$f":"IFERROR(VLOOKUP(A8,'matriz evaluación'!$A$5:$C$204,3,FALSE),\"\")","v":0},null,{"$f":"IFERROR(VLOOKUP(D8,'matriz puntaje'!$B$3:$C$6,2,FALSE),\"\")","v":""},null,"",null,{"$f":"IFERROR(VLOOKUP(H8,'matriz puntaje'!$B$3:$C$6,2,FALSE),\"\")","v":""},null,"",null,{"$f":"IFERROR(VLOOKUP(L8,'matriz puntaje'!$B$3:$C$6,2,FALSE),\"\")","v":""},null,"",""]
[7,{"$f":"IFERROR(VLOOKUP(A9,'matriz evaluación'!$A$5:$C$204,2,FALSE),\"\")","v":0},{"$f":"IFERROR(VLOOKUP(A9,'matriz evaluación'!$A$5:$C$204,3,FALSE),\"\")","v":0},null,{"$f":"IFERROR(VLOOKUP(D9,'matriz puntaje'!$B$3:$C$6,2,FALSE),\"\")","v":""},null,"",null,{"$f":"IFERROR(VLOOKUP(H9,'matriz puntaje'!$B$3:$C$6,2,FALSE),\"\")","v":""},null,"",null,{"$f":"IFERROR(VLOOKUP(L9,'matriz puntaje'!$B$3:$C$6,2,FALSE),\"\")","v":""},null,"",""]
[8,{"$f":"IFERROR(VLOOKUP(A10,'matriz evaluación'!$A$5:$C$204,2,FALSE),\"\")","v":0},{"$f":"IFERROR(VLOOKUP(A10,'matriz evaluación'!$A$5:$C$204,3,FALSE),\"\")","v":0},null,{"$f":"IFERROR(VLOOKUP(D10,'matriz puntaje'!$B$3:$C$6,2,FALSE),\"\")","v":""},null,"",null,{"$f":"IFERROR(VLOOKUP(H10,'matriz puntaje'!$B$3:$C$6,2,FALSE),\"\")","v":""},null,"",null,{"$f":"IFERROR(VLOOKUP(L10,'matriz puntaje'!$B$3:$C$6,2,FALSE),\"\")","v":""},null,"",""]
[9,{"$f":"IFERROR(VLOOKUP(A11,'matriz evaluación'!$A$5:$C$204,2,FALSE),\"\")","v":0},{"$f":"IFERROR(VLOOKUP(A11,'matriz evaluación'!$A$5:$C$204,3,FALSE),\"\")","v":0},null,{"$f":"IFERROR(VLOOKUP(D11,'matriz puntaje'!$B$3:$C$6,2,FALSE),\"\")","v":""},null,"",null,{"$f":"IFERROR(VLOOKUP(H11,'matriz puntaje'!$B$3:$C$6,2,FALSE),\"\")","v":""},null,"",null,{"$f":"IFERROR(VLOOKUP(L11,'matriz puntaje'!$B$3:$C$6,2,FALSE),\"\")","v":""},null,"",""]
[10,{"$f":"IFERROR(VLOOKUP(A12,'matriz evaluación'!$A$5:$C$204,2,FALSE),\"\")","v":0},{"$f":"IFERROR(VLOOKUP(A12,'matriz evaluación'!$A$5:$C$204,3,FALSE),\"\")","v":0},null,{"$f":"IFERROR(VLOOKUP(D12,'matriz puntaje'!$B$3:$C$6,2,FALSE),\"\")","v":""},null,"",null,{"$f":"IFERROR(VLOOKUP(H12,'matriz puntaje'!$B$3:$C$6,2,FALSE),\"\")","v":""},null,"",null,{"$f":"IFERROR(VLOOKUP(L12,'matriz puntaje'!$B$3:$C$6,2,FALSE),\"\")","v":""},null,"",""]
[11,{"$f":"IFERROR(VLOOKUP(A13,'matriz evaluación'!$A$5:$C$204,2,FALSE),\"\")","v":0},{"$f":"IFERROR(VLOOKUP(A13,'matriz evaluación'!$A$5:$C$204,3,FALSE),\"\")","v":0},null,{"$f":"IFERROR(VLOOKUP(D13,'matriz puntaje'!$B$3:$C$6,2,FALSE),\"\")","v":""},null,"",null,{"$f":"IFERROR(VLOOKUP(H13,'matriz puntaje'!$B$3:$C$6,2,FALSE),\"\")","v":""},null,"",null,{"$f":"IFERROR(VLOOKUP(L13,'matriz puntaje'!$B$3:$C$6,2,FALSE),\"\")","v":""},null,"",""]
[12,{"$f":"IFERROR(VLOOKUP(A14,'matriz evaluación'!$A$5:$C$204,2,FALSE),\"\")","v":0},{"$f":"IFERROR(VLOOKUP(A14,'matriz evaluación'!$A$5:$C$204,3,FALSE),\"\")","v":0},null,{"$f":"IFERROR(VLOOKUP(D14,'matriz puntaje'!$B$3:$C$6,2,FALSE),\"\")","v":""},null,"",null,{"$f":"IFERROR(VLOOKUP(H14,'matriz puntaje'!$B$3:$C$6,2,FALSE),\"\")","v":""},null,"",null,{"$f":"IFERROR(VLOOKUP(L14,'matriz puntaje'!$B$3:$C$6,2,FALSE),\"\")","v":""},null,"",""]
[13,{"$f":"IFERROR(VLOOKUP(A15,'matriz evaluación'!$A$5:$C$204,2,FALSE),\"\")","v":0},{"$f":"IFERROR(VLOOKUP(A15,'matriz evaluación'!$A$5:$C$204,3,FALSE),\"\")","v":0},null,{"$f":"IFERROR(VLOOKUP(D15,'matriz puntaje'!$B$3:$C$6,2,FALSE),\"\")","v":""},null,"",null,{"$f":"IFERROR(VLOOKUP(H15,'matriz puntaje'!$B$3:$C$6,2,FALSE),\"\")","v":""},null,"",null,{"$f":"IFERROR(VLOOKUP(L15,'matriz puntaje'!$B$3:$C$6,2,FALSE),\"\")","v":""},null,"",""]
[14,{"$f":"IFERROR(VLOOKUP(A16,'matriz evaluación'!$A$5:$C$204,2,FALSE),\"\")","v":0},{"$f":"IFERROR(VLOOKUP(A16,'matriz evaluación'!$A$5:$C$204,3,FALSE),\"\")","v":0},null,{"$f":"IFERROR(VLOOKUP(D16,'matriz puntaje'!$B$3:$C$6,2,FALSE),\"\")","v":""},null,"",null,{"$f":"IFERROR(VLOOKUP(H16,'matriz puntaje'!$B$3:$C$6,2,FALSE),\"\")","v":""},null,"",null,{"$f":"IFERROR(VLOOKUP(L16,'matriz puntaje'!$B$3:$C$6,2,FALSE),\"\")","v":""},null,"",""]
[15,{"$f":"IFERROR(VLOOKUP(A17,'matriz evaluación'!$A$5:$C$204,2,FALSE),\"\")","v":0},{"$f":"IFERROR(VLOOKUP(A17,'matriz evaluación'!$A$5:$C$204,3,FALSE),\"\")","v":0},null,{"$f":"IFERROR(VLOOKUP(D17,'matriz puntaje'!$B$3:$C$6,2,FALSE),\"\")","v":""},null,"",null,{"$f":"IFERROR(VLOOKUP(H17,'matriz puntaje'!$B$3:$C$6,2,FALSE),\"\")","v":""},null,"",null,{"$f":"IFERROR(VLOOKUP(L17,'matriz puntaje'!$B$3:$C$6,2,FALSE),\"\")","v":""},null,"",""]
[16,{"$f":"IFERROR(VLOOKUP(A18,'matriz evaluación'!$A$5:$C$204,2,FALSE),\"\")","v":0},{"$f":"IFERROR(VLOOKUP(A18,'matriz evaluación'!$A$5:$C$204,3,FALSE),\"\")","v":0},null,{"$f":"IFERROR(VLOOKUP(D18,'matriz puntaje'!$B$3:$C$6,2,FALSE),\"\")","v":""},null,"",null,{"$f":"IFERROR(VLOOKUP(H18,'matriz puntaje'!$B$3:$C$6,2,FALSE),\"\")","v":""},null,"",null,{"$f":"IFERROR(VLOOKUP(L18,'matriz puntaje'!$B$3:$C$6,2,FALSE),\"\")","v":""},null,"",""]
[17,{"$f":"IFERROR(VLOOKUP(A19,'matriz evaluación'!$A$5:$C$204,2,FALSE),\"\")","v":0},{"$f":"IFERROR(VLOOKUP(A19,'matriz evaluación'!$A$5:$C$204,3,FALSE),\"\")","v":0},null,{"$f":"IFERROR(VLOOKUP(D19,'matriz puntaje'!$B$3:$C$6,2,FALSE),\"\")","v":""},null,"",null,{"$f":"IFERROR(VLOOKUP(H19,'matriz puntaje'!$B$3:$C$6,2,FALSE),\"\")","v":""},null,"",null,{"$f":"IFERROR(VLOOKUP(L19,'matriz puntaje'!$B$3:$C$6,2,FALSE),\"\")","v":""},null,"",""]
[18,{"$f":"IFERROR(VLOOKUP(A20,'matriz evaluación'!$A$5:$C$204,2,FALSE),\"\")","v":0},{"$f":"IFERROR(VLOOKUP(A20,'matriz evaluación'!$A$5:$C$204,3,FALSE),\"\")","v":0},null,{"$f":"IFERROR(VLOOKUP(D20,'matriz puntaje'!$B$3:$C$6,2,FALSE),\"\")","v":""},null,"",null,{"$f":"IFERROR(VLOOKUP(H20,'matriz puntaje'!$B$3:$C$6,2,FALSE),\"\")","v":""},null,"",null,{"$f":"IFERROR(VLOOKUP(L20,'matriz puntaje'!$B$3:$C$6,2,FALSE),\"\")","v":""},null,"",""]
[19,{"$f":"IFERROR(VLOOKUP(A21,'matriz evaluación'!$A$5:$C$204,2,FALSE),\"\")","v":0},{"$f":"IFERROR(VLOOKUP(A21,'matriz evaluación'!$A$5:$C$204,3,FALSE),\"\")","v":0},null,{"$f":"IFERROR(VLOOKUP(D21,'matriz puntaje'!$B$3:$C$6,2,FALSE),\"\")","v":""},null,"",null,{"$f":"IFERROR(VLOOKUP(H21,'matriz puntaje'!$B$3:$C$6,2,FALSE),\"\")","v":""},null,"",null,{"$f":"IFERROR(VLOOKUP(L21,'matriz puntaje'!$B$3:$C$6,2,FALSE),\"\")","v":""},null,"",""]
[20,{"$f":"IFERROR(VLOOKUP(A22,'matriz evaluación'!$A$5:$C$204,2,FALSE),\"\")","v":0},{"$f":"IFERROR(VLOOKUP(A22,'matriz evaluación'!$A$5:$C$204,3,FALSE),\"\")","v":0},null,{"$f":"IFERROR(VLOOKUP(D22,'matriz puntaje'!$B$3:$C$6,2,FALSE),\"\")","v":""},null,"",null,{"$f":"IFERROR(VLOOKUP(H22,'matriz puntaje'!$B$3:$C$6,2,FALSE),\"\")","v":""},null,"",null,{"$f":"IFERROR(VLOOKUP(L22,'matriz puntaje'!$B$3:$C$6,2,FALSE),\"\")","v":""},null,"",""]
[21,{"$f":"IFERROR(VLOOKUP(A23,'matriz evaluación'!$A$5:$C$204,2,FALSE),\"\")","v":0},{"$f":"IFERROR(VLOOKUP(A23,'matriz evaluación'!$A$5:$C$204,3,FALSE),\"\")","v":0},null,{"$f":"IFERROR(VLOOKUP(D23,'matriz puntaje'!$B$3:$C$6,2,FALSE),\"\")","v":""},null,"",null,{"$f":"IFERROR(VLOOKUP(H23,'matriz puntaje'!$B$3:$C$6,2,FALSE),\"\")","v":""},null,"",null,{"$f":"IFERROR(VLOOKUP(L23,'matriz puntaje'!$B$3:$C$6,2,FALSE),\"\")","v":""},null,"",""]
[22,{"$f":"IFERROR(VLOOKUP(A24,'matriz evaluación'!$A$5:$C$204,2,FALSE),\"\")","v":0},{"$f":"IFERROR(VLOOKUP(A24,'matriz evaluación'!$A$5:$C$204,3,FALSE),\"\")","v":0},null,{"$f":"IFERROR(VLOOKUP(D24,'matriz puntaje'!$B$3:$C$6,2,FALSE),\"\")","v":""},null,"",null,{"$f":"IFERROR(VLOOKUP(H24,'matriz puntaje'!$B$3:$C$6,2,FALSE),\"\")","v":""},null,"",null,{"$f":"IFERROR(VLOOKUP(L24,'matriz puntaje'!$B$3:$C$6,2,FALSE),\"\")","v":""},null,"",""]
[23,{"$f":"IFERROR(VLOOKUP(A25,'matriz evaluación'!$A$5:$C$204,2,FALSE),\"\")","v":0},{"$f":"IFERROR(VLOOKUP(A25,'matriz evaluación'!$A$5:$C$204,3,FALSE),\"\")","v":0},null,{"$f":"IFERROR(VLOOKUP(D25,'matriz puntaje'!$B$3:$C$6,2,FALSE),\"\")","v":""},null,"",null,{"$f":"IFERROR(VLOOKUP(H25,'matriz puntaje'!$B$3:$C$6,2,FALSE),\"\")","v":""},null,"",null,{"$f":"IFERROR(VLOOKUP(L25,'matriz puntaje'!$B$3:$C$6,2,FALSE),\"\")","v":""},null,"",""]
[24,{"$f":"IFERROR(VLOOKUP(A26,'matriz evaluación'!$A$5:$C$204,2,FALSE),\"\")","v":0},{"$f":"IFERROR(VLOOKUP(A26,'matriz evaluación'!$A$5:$C$204,3,FALSE),\"\")","v":0},null,{"$f":"IFERROR(VLOOKUP(D26,'matriz puntaje'!$B$3:$C$6,2,FALSE),\"\")","v":""},null,"",null,{"$f":"IFERROR(VLOOKUP(H26,'matriz puntaje'!$B$3:$C$6,2,FALSE),\"\")","v":""},null,"",null,{"$f":"IFERROR(VLOOKUP(L26,'matriz puntaje'!$B$3:$C$6,2,FALSE),\"\")","v":""},null,"",""]
[25,{"$f":"IFERROR(VLOOKUP(A27,'matriz evaluación'!$A$5:$C$204,2,FALSE),\"\")","v":0},{"$f":"IFERROR(VLOOKUP(A27,'matriz evaluación'!$A$5:$C$204,3,FALSE),\"\")","v":0},null,{"$f":"IFERROR(VLOOKUP(D27,'matriz puntaje'!$B$3:$C$6,2,FALSE),\"\")","v":""},null,"",null,{"$f":"IFERROR(VLOOKUP(H27,'matriz puntaje'!$B$3:$C$6,2,FALSE),\"\")","v":""},null,"",null,{"$f":"IFERROR(VLOOKUP(L27,'matriz puntaje'!$B$3:$C$6,2,FALSE),\"\")","v":""},null,"",""]
[26,{"$f":"IFERROR(VLOOKUP(A28,'matriz evaluación'!$A$5:$C$204,2,FALSE),\"\")","v":0},{"$f":"IFERROR(VLOOKUP(A28,'matriz evaluación'!$A$5:$C$204,3,FALSE),\"\")","v":0},null,{"$f":"IFERROR(VLOOKUP(D28,'matriz puntaje'!$B$3:$C$6,2,FALSE),\"\")","v":""},null,"",null,{"$f":"IFERROR(VLOOKUP(H28,'matriz puntaje'!$B$3:$C$6,2,FALSE),\"\")","v":""},null,"",null,{"$f":"IFERROR(VLOOKUP(L28,'matriz puntaje'!$B$3:$C$6,2,FALSE),\"\")","v":""},null,"",""]
[27,{"$f":"IFERROR(VLOOKUP(A29,'matriz evaluación'!$A$5:$C$204,2,FALSE),\"\")","v":0},{"$f":"IFERROR(VLOOKUP(A29,'matriz evaluación'!$A$5:$C$204,3,FALSE),\"\")","v":0},null,{"$f":"IFERROR(VLOOKUP(D29,'matriz puntaje'!$B$3:$C$6,2,FALSE),\"\")","v":""},null,"",null,{"$f":"IFERROR(VLOOKUP(H29,'matriz puntaje'!$B$3:$C$6,2,FALSE),\"\")","v":""},null,"",null,{"$f":"IFERROR(VLOOKUP(L29,'matriz puntaje'!$B$3:$C$6,2,FALSE),\"\")","v":""},null,"",""]
[28,{"$f":"IFERROR(VLOOKUP(A30,'matriz evaluación'!$A$5:$C$204,2,FALSE),\"\")","v":0},{"$f":"IFERROR(VLOOKUP(A30,'matriz evaluación'!$A$5:$C$204,3,FALSE),\"\")","v":0},null,{"$f":"IFERROR(VLOOKUP(D30,'matriz puntaje'!$B$3:$C$6,2,FALSE),\"\")","v":""},null,"",null,{"$f":"IFERROR(VLOOKUP(H30,'matriz puntaje'!$B$3:$C$6,2,FALSE),\"\")","v":""},null,"",null,{"$f":"IFERROR(VLOOKUP(L30,'matriz puntaje'!$B$3:$C$6,2,FALSE),\"\")","v":""},null,"",""]
[29,{"$f":"IFERROR(VLOOKUP(A31,'matriz evaluación'!$A$5:$C$204,2,FALSE),\"\")","v":0},{"$f":"IFERROR(VLOOKUP(A31,'matriz evaluación'!$A$5:$C$204,3,FALSE),\"\")","v":0},null,{"$f":"IFERROR(VLOOKUP(D31,'matriz puntaje'!$B$3:$C$6,2,FALSE),\"\")","v":""},null,"",null,{"$f":"IFERROR(VLOOKUP(H31,'matriz puntaje'!$B$3:$C$6,2,FALSE),\"\")","v":""},null,"",null,{"$f":"IFERROR(VLOOKUP(L31,'matriz puntaje'!$B$3:$C$6,2,FALSE),\"\")","v":""},null,"",""]
[30,{"$f":"IFERROR(VLOOKUP(A32,'matriz evaluación'!$A$5:$C$204,2,FALSE),\"\")","v":0},{"$f":"IFERROR(VLOOKUP(A32,'matriz evaluación'!$A$5:$C$204,3,FALSE),\"\")","v":0},null,{"$f":"IFERROR(VLOOKUP(D32,'matriz puntaje'!$B$3:$C$6,2,FALSE),\"\")","v":""},null,"",null,{"$f":"IFERROR(VLOOKUP(H32,'matriz puntaje'!$B$3:$C$6,2,FALSE),\"\")","v":""},null,"",null,{"$f":"IFERROR(VLOOKUP(L32,'matriz puntaje'!$B$3:$C$6,2,FALSE),\"\")","v":""},null,"",""]
[31,{"$f":"IFERROR(VLOOKUP(A33,'matriz evaluación'!$A$5:$C$204,2,FALSE),\"\")","v":0},{"$f":"IFERROR(VLOOKUP(A33,'matriz evaluación'!$A$5:$C$204,3,FALSE),\"\")","v":0},null,{"$f":"IFERROR(VLOOKUP(D33,'matriz puntaje'!$B$3:$C$6,2,FALSE),\"\")","v":""},null,"",null,{"$f":"IFERROR(VLOOKUP(H33,'matriz puntaje'!$B$3:$C$6,2,FALSE),\"\")","v":""},null,"",null,{"$f":"IFERROR(VLOOKUP(L33,'matriz puntaje'!$B$3:$C$6,2,FALSE),\"\")","v":""},null,"",""]
[32,{"$f":"IFERROR(VLOOKUP(A34,'matriz evaluación'!$A$5:$C$204,2,FALSE),\"\")","v":0},{"$f":"IFERROR(VLOOKUP(A34,'matriz evaluación'!$A$5:$C$204,3,FALSE),\"\")","v":0},null,{"$f":"IFERROR(VLOOKUP(D34,'matriz puntaje'!$B$3:$C$6,2,FALSE),\"\")","v":""},null,"",null,{"$f":"IFERROR(VLOOKUP(H34,'matriz puntaje'!$B$3:$C$6,2,FALSE),\"\")","v":""},null,"",null,{"$f":"IFERROR(VLOOKUP(L34,'matriz puntaje'!$B$3:$C$6,2,FALSE),\"\")","v":""},null,"",""]
[33,{"$f":"IFERROR(VLOOKUP(A35,'matriz evaluación'!$A$5:$C$204,2,FALSE),\"\")","v":0},{"$f":"IFERROR(VLOOKUP(A35,'matriz evaluación'!$A$5:$C$204,3,FALSE),\"\")","v":0},null,{"$f":"IFERROR(VLOOKUP(D35,'matriz puntaje'!$B$3:$C$6,2,FALSE),\"\")","v":""},null,"",null,{"$f":"IFERROR(VLOOKUP(H35,'matriz puntaje'!$B$3:$C$6,2,FALSE),\"\")","v":""},null,"",null,{"$f":"IFERROR(VLOOKUP(L35,'matriz puntaje'!$B$3:$C$6,2,FALSE),\"\")","v":""},null,"",""]
[34,{"$f":"IFERROR(VLOOKUP(A36,'matriz evaluación'!$A$5:$C$204,2,FALSE),\"\")","v":0},{"$f":"IFERROR(VLOOKUP(A36,'matriz evaluación'!$A$5:$C$204,3,FALSE),\"\")","v":0},null,{"$f":"IFERROR(VLOOKUP(D36,'matriz puntaje'!$B$3:$C$6,2,FALSE),\"\")","v":""},null,"",null,{"$f":"IFERROR(VLOOKUP(H36,'matriz puntaje'!$B$3:$C$6,2,FALSE),\"\")","v":""},null,"",null,{"$f":"IFERROR(VLOOKUP(L36,'matriz puntaje'!$B$3:$C$6,2,FALSE),\"\")","v":""},null,"",""]
[35,{"$f":"IFERROR(VLOOKUP(A37,'matriz evaluación'!$A$5:$C$204,2,FALSE),\"\")","v":0},{"$f":"IFERROR(VLOOKUP(A37,'matriz evaluación'!$A$5:$C$204,3,FALSE),\"\")","v":0},null,{"$f":"IFERROR(VLOOKUP(D37,'matriz puntaje'!$B$3:$C$6,2,FALSE),\"\")","v":""},null,"",null,{"$f":"IFERROR(VLOOKUP(H37,'matriz puntaje'!$B$3:$C$6,2,FALSE),\"\")","v":""},null,"",null,{"$f":"IFERROR(VLOOKUP(L37,'matriz puntaje'!$B$3:$C$6,2,FALSE),\"\")","v":""},null,"",""]
[36,{"$f":"IFERROR(VLOOKUP(A38,'matriz evaluación'!$A$5:$C$204,2,FALSE),\"\")","v":0},{"$f":"IFERROR(VLOOKUP(A38,'matriz evaluación'!$A$5:$C$204,3,FALSE),\"\")","v":0},null,{"$f":"IFERROR(VLOOKUP(D38,'matriz puntaje'!$B$3:$C$6,2,FALSE),\"\")","v":""},null,"",null,{"$f":"IFERROR(VLOOKUP(H38,'matriz puntaje'!$B$3:$C$6,2,FALSE),\"\")","v":""},null,"",null,{"$f":"IFERROR(VLOOKUP(L38,'matriz puntaje'!$B$3:$C$6,2,FALSE),\"\")","v":""},null,"",""]
[37,{"$f":"IFERROR(VLOOKUP(A39,'matriz evaluación'!$A$5:$C$204,2,FALSE),\"\")","v":0},{"$f":"IFERROR(VLOOKUP(A39,'matriz evaluación'!$A$5:$C$204,3,FALSE),\"\")","v":0},null,{"$f":"IFERROR(VLOOKUP(D39,'matriz puntaje'!$B$3:$C$6,2,FALSE),\"\")","v":""},null,"",null,{"$f":"IFERROR(VLOOKUP(H39,'matriz puntaje'!$B$3:$C$6,2,FALSE),\"\")","v":""},null,"",null,{"$f":"IFERROR(VLOOKUP(L39,'matriz puntaje'!$B$3:$C$6,2,FALSE),\"\")","v":""},null,"",""]
[38,{"$f":"IFERROR(VLOOKUP(A40,'matriz evaluación'!$A$5:$C$204,2,FALSE),\"\")","v":0},{"$f":"IFERROR(VLOOKUP(A40,'matriz evaluación'!$A$5:$C$204,3,FALSE),\"\")","v":0},null,{"$f":"IFERROR(VLOOKUP(D40,'matriz puntaje'!$B$3:$C$6,2,FALSE),\"\")","v":""},null,"",null,{"$f":"IFERROR(VLOOKUP(H40,'matriz puntaje'!$B$3:$C$6,2,FALSE),\"\")","v":""},null,"",null,{"$f":"IFERROR(VLOOKUP(L40,'matriz puntaje'!$B$3:$C$6,2,FALSE),\"\")","v":""},null,"",""]
[39,{"$f":"IFERROR(VLOOKUP(A41,'matriz evaluación'!$A$5:$C$204,2,FALSE),\"\")","v":0},{"$f":"IFERROR(VLOOKUP(A41,'matriz evaluación'!$A$5:$C$204,3,FALSE),\"\")","v":0},null,{"$f":"IFERROR(VLOOKUP(D41,'matriz puntaje'!$B$3:$C$6,2,FALSE),\"\")","v":""},null,"",null,{"$f":"IFERROR(VLOOKUP(H41,'matriz puntaje'!$B$3:$C$6,2,FALSE),\"\")","v":""},null,"",null,{"$f":"IFERROR(VLOOKUP(L41,'matriz puntaje'!$B$3:$C$6,2,FALSE),\"\")","v":""},null,"",""]
[40,{"$f":"IFERROR(VLOOKUP(A42,'matriz evaluación'!$A$5:$C$204,2,FALSE),\"\")","v":0},{"$f":"IFERROR(VLOOKUP(A42,'matriz evaluación'!$A$5:$C$204,3,FALSE),\"\")","v":0},null,{"$f":"IFERROR(VLOOKUP(D42,'matriz puntaje'!$B$3:$C$6,2,FALSE),\"\")","v":""},null,"",null,{"$f":"IFERROR(VLOOKUP(H42,'matriz puntaje'!$B$3:$C$6,2,FALSE),\"\")","v":""},null,"",null,{"$f":"IFERROR(VLOOKUP(L42,'matriz puntaje'!$B$3:$C$6,2,FALSE),\"\")","v":""},null,"",""]
[41,{"$f":"IFERROR(VLOOKUP(A43,'matriz evaluación'!$A$5:$C$204,2,FALSE),\"\")","v":0},{"$f":"IFERROR(VLOOKUP(A43,'matriz evaluación'!$A$5:$C$204,3,FALSE),\"\")","v":0},null,{"$f":"IFERROR(VLOOKUP(D43,'matriz puntaje'!$B$3:$C$6,2,FALSE),\"\")","v":""},null,"",null,{"$f":"IFERROR(VLOOKUP(H43,'matriz puntaje'!$B$3:$C$6,2,FALSE),\"\")","v":""},null,"",null,{"$f":"IFERROR(VLOOKUP(L43,'matriz puntaje'!$B$3:$C$6,2,FALSE),\"\")","v":""},null,"",""]
[42,{"$f":"IFERROR(VLOOKUP(A44,'matriz evaluación'!$A$5:$C$204,2,FALSE),\"\")","v":0},{"$f":"IFERROR(VLOOKUP(A44,'matriz evaluación'!$A$5:$C$204,3,FALSE),\"\")","v":0},null,{"$f":"IFERROR(VLOOKUP(D44,'matriz puntaje'!$B$3:$C$6,2,FALSE),\"\")","v":""},null,"",null,{"$f":"IFERROR(VLOOKUP(H44,'matriz puntaje'!$B$3:$C$6,2,FALSE),\"\")","v":""},null,"",null,{"$f":"IFERROR(VLOOKUP(L44,'matriz puntaje'!$B$3:$C$6,2,FALSE),\"\")","v":""},null,"",""]
[43,{"$f":"IFERROR(VLOOKUP(A45,'matriz evaluación'!$A$5:$C$204,2,FALSE),\"\")","v":0},{"$f":"IFERROR(VLOOKUP(A45,'matriz evaluación'!$A$5:$C$204,3,FALSE),\"\")","v":0},null,{"$f":"IFERROR(VLOOKUP(D45,'matriz puntaje'!$B$3:$C$6,2,FALSE),\"\")","v":""},null,"",null,{"$f":"IFERROR(VLOOKUP(H45,'matriz puntaje'!$B$3:$C$6,2,FALSE),\"\")","v":""},null,"",null,{"$f":"IFERROR(VLOOKUP(L45,'matriz puntaje'!$B$3:$C$6,2,FALSE),\"\")","v":""},null,"",""]
[44,{"$f":"IFERROR(VLOOKUP(A46,'matriz evaluación'!$A$5:$C$204,2,FALSE),\"\")","v":0},{"$f":"IFERROR(VLOOKUP(A46,'matriz evaluación'!$A$5:$C$204,3,FALSE),\"\")","v":0},null,{"$f":"IFERROR(VLOOKUP(D46,'matriz puntaje'!$B$3:$C$6,2,FALSE),\"\")","v":""},null,"",null,{"$f":"IFERROR(VLOOKUP(H46,'matriz puntaje'!$B$3:$C$6,2,FALSE),\"\")","v":""},null,"",null,{"$f":"IFERROR(VLOOKUP(L46,'matriz puntaje'!$B$3:$C$6,2,FALSE),\"\")","v":""},null,"",""]
[45,{"$f":"IFERROR(VLOOKUP(A47,'matriz evaluación'!$A$5:$C$204,2,FALSE),\"\")","v":0},{"$f":"IFERROR(VLOOKUP(A47,'matriz evaluación'!$A$5:$C$204,3,FALSE),\"\")","v":0},null,{"$f":"IFERROR(VLOOKUP(D47,'matriz puntaje'!$B$3:$C$6,2,FALSE),\"\")","v":""},null,"",null,{"$f":"IFERROR(VLOOKUP(H47,'matriz puntaje'!$B$3:$C$6,2,FALSE),\"\")","v":""},null,"",null,{"$f":"IFERROR(VLOOKUP(L47,'matriz puntaje'!$B$3:$C$6,2,FALSE),\"\")","v":""},null,"",""]
[46,{"$f":"IFERROR(VLOOKUP(A48,'matriz evaluación'!$A$5:$C$204,2,FALSE),\"\")","v":0},{"$f":"IFERROR(VLOOKUP(A48,'matriz evaluación'!$A$5:$C$204,3,FALSE),\"\")","v":0},null,{"$f":"IFERROR(VLOOKUP(D48,'matriz puntaje'!$B$3:$C$6,2,FALSE),\"\")","v":""},null,"",null,{"$f":"IFERROR(VLOOKUP(H48,'matriz puntaje'!$B$3:$C$6,2,FALSE),\"\")","v":""},null,"",null,{"$f":"IFERROR(VLOOKUP(L48,'matriz puntaje'!$B$3:$C$6,2,FALSE),\"\")","v":""},null,"",""]
[47,{"$f":"IFERROR(VLOOKUP(A49,'matriz evaluación'!$A$5:$C$204,2,FALSE),\"\")","v":0},{"$f":"IFERROR(VLOOKUP(A49,'matriz evaluación'!$A$5:$C$204,3,FALSE),\"\")","v":0},null,{"$f":"IFERROR(VLOOKUP(D49,'matriz puntaje'!$B$3:$C$6,2,FALSE),\"\")","v":""},null,"",null,{"$f":"IFERROR(VLOOKUP(H49,'matriz puntaje'!$B$3:$C$6,2,FALSE),\"\")","v":""},null,"",null,{"$f":"IFERROR(VLOOKUP(L49,'matriz puntaje'!$B$3:$C$6,2,FALSE),\"\")","v":""},null,"",""]
[48,{"$f":"IFERROR(VLOOKUP(A50,'matriz evaluación'!$A$5:$C$204,2,FALSE),\"\")","v":0},{"$f":"IFERROR(VLOOKUP(A50,'matriz evaluación'!$A$5:$C$204,3,FALSE),\"\")","v":0},null,{"$f":"IFERROR(VLOOKUP(D50,'matriz puntaje'!$B$3:$C$6,2,FALSE),\"\")","v":""},null,"",null,{"$f":"IFERROR(VLOOKUP(H50,'matriz puntaje'!$B$3:$C$6,2,FALSE),\"\")","v":""},null,"",null,{"$f":"IFERROR(VLOOKUP(L50,'matriz puntaje'!$B$3:$C$6,2,FALSE),\"\")","v":""},null,"",""]
[49,{"$f":"IFERROR(VLOOKUP(A51,'matriz evaluación'!$A$5:$C$204,2,FALSE),\"\")","v":0},{"$f":"IFERROR(VLOOKUP(A51,'matriz evaluación'!$A$5:$C$204,3,FALSE),\"\")","v":0},null,{"$f":"IFERROR(VLOOKUP(D51,'matriz puntaje'!$B$3:$C$6,2,FALSE),\"\")","v":""},null,"",null,{"$f":"IFERROR(VLOOKUP(H51,'matriz puntaje'!$B$3:$C$6,2,FALSE),\"\")","v":""},null,"",null,{"$f":"IFERROR(VLOOKUP(L51,'matriz puntaje'!$B$3:$C$6,2,FALSE),\"\")","v":""},null,"",""]
[50,{"$f":"IFERROR(VLOOKUP(A52,'matriz evaluación'!$A$5:$C$204,2,FALSE),\"\")","v":0},{"$f":"IFERROR(VLOOKUP(A52,'matriz evaluación'!$A$5:$C$204,3,FALSE),\"\")","v":0},null,{"$f":"IFERROR(VLOOKUP(D52,'matriz puntaje'!$B$3:$C$6,2,FALSE),\"\")","v":""},null,"",null,{"$f":"IFERROR(VLOOKUP(H52,'matriz puntaje'!$B$3:$C$6,2,FALSE),\"\")","v":""},null,"",null,{"$f":"IFERROR(VLOOKUP(L52,'matriz puntaje'!$B$3:$C$6,2,FALSE),\"\")","v":""},null,"",""]
[51,{"$f":"IFERROR(VLOOKUP(A53,'matriz evaluación'!$A$5:$C$204,2,FALSE),\"\")","v":0},{"$f":"IFERROR(VLOOKUP(A53,'matriz evaluación'!$A$5:$C$204,3,FALSE),\"\")","v":0},null,{"$f":"IFERROR(VLOOKUP(D53,'matriz puntaje'!$B$3:$C$6,2,FALSE),\"\")","v":""},null,"",null,{"$f":"IFERROR(VLOOKUP(H53,'matriz puntaje'!$B$3:$C$6,2,FALSE),\"\")","v":""},null,"",null,{"$f":"IFERROR(VLOOKUP(L53,'matriz puntaje'!$B$3:$C$6,2,FALSE),\"\")","v":""},null,"",""]
[52,{"$f":"IFERROR(VLOOKUP(A54,'matriz evaluación'!$A$5:$C$204,2,FALSE),\"\")","v":0},{"$f":"IFERROR(VLOOKUP(A54,'matriz evaluación'!$A$5:$C$204,3,FALSE),\"\")","v":0},null,{"$f":"IFERROR(VLOOKUP(D54,'matriz puntaje'!$B$3:$C$6,2,FALSE),\"\")","v":""},null,"",null,{"$f":"IFERROR(VLOOKUP(H54,'matriz puntaje'!$B$3:$C$6,2,FALSE),\"\")","v":""},null,"",null,{"$f":"IFERROR(VLOOKUP(L54,'matriz puntaje'!$B$3:$C$6,2,FALSE),\"\")","v":""},null,"",""]
[53,{"$f":"IFERROR(VLOOKUP(A55,'matriz evaluación'!$A$5:$C$204,2,FALSE),\"\")","v":0},{"$f":"IFERROR(VLOOKUP(A55,'matriz evaluación'!$A$5:$C$204,3,FALSE),\"\")","v":0},null,{"$f":"IFERROR(VLOOKUP(D55,'matriz puntaje'!$B$3:$C$6,2,FALSE),\"\")","v":""},null,"",null,{"$f":"IFERROR(VLOOKUP(H55,'matriz puntaje'!$B$3:$C$6,2,FALSE),\"\")","v":""},null,"",null,{"$f":"IFERROR(VLOOKUP(L55,'matriz puntaje'!$B$3:$C$6,2,FALSE),\"\")","v":""},null,"",""]
[54,{"$f":"IFERROR(VLOOKUP(A56,'matriz evaluación'!$A$5:$C$204,2,FALSE),\"\")","v":0},{"$f":"IFERROR(VLOOKUP(A56,'matriz evaluación'!$A$5:$C$204,3,FALSE),\"\")","v":0},null,{"$f":"IFERROR(VLOOKUP(D56,'matriz puntaje'!$B$3:$C$6,2,FALSE),\"\")","v":""},null,"",null,{"$f":"IFERROR(VLOOKUP(H56,'matriz puntaje'!$B$3:$C$6,2,FALSE),\"\")","v":""},null,"",null,{"$f":"IFERROR(VLOOKUP(L56,'matriz puntaje'!$B$3:$C$6,2,FALSE),\"\")","v":""},null,"",""]
[55,{"$f":"IFERROR(VLOOKUP(A57,'matriz evaluación'!$A$5:$C$204,2,FALSE),\"\")","v":0},{"$f":"IFERROR(VLOOKUP(A57,'matriz evaluación'!$A$5:$C$204,3,FALSE),\"\")","v":0},null,{"$f":"IFERROR(VLOOKUP(D57,'matriz puntaje'!$B$3:$C$6,2,FALSE),\"\")","v":""},null,"",null,{"$f":"IFERROR(VLOOKUP(H57,'matriz puntaje'!$B$3:$C$6,2,FALSE),\"\")","v":""},null,"",null,{"$f":"IFERROR(VLOOKUP(L57,'matriz puntaje'!$B$3:$C$6,2,FALSE),\"\")","v":""},null,"",""]
[56,{"$f":"IFERROR(VLOOKUP(A58,'matriz evaluación'!$A$5:$C$204,2,FALSE),\"\")","v":0},{"$f":"IFERROR(VLOOKUP(A58,'matriz evaluación'!$A$5:$C$204,3,FALSE),\"\")","v":0},null,{"$f":"IFERROR(VLOOKUP(D58,'matriz puntaje'!$B$3:$C$6,2,FALSE),\"\")","v":""},null,"",null,{"$f":"IFERROR(VLOOKUP(H58,'matriz puntaje'!$B$3:$C$6,2,FALSE),\"\")","v":""},null,"",null,{"$f":"IFERROR(VLOOKUP(L58,'matriz puntaje'!$B$3:$C$6,2,FALSE),\"\")","v":""},null,"",""]
[57,{"$f":"IFERROR(VLOOKUP(A59,'matriz evaluación'!$A$5:$C$204,2,FALSE),\"\")","v":0},{"$f":"IFERROR(VLOOKUP(A59,'matriz evaluación'!$A$5:$C$204,3,FALSE),\"\")","v":0},null,{"$f":"IFERROR(VLOOKUP(D59,'matriz puntaje'!$B$3:$C$6,2,FALSE),\"\")","v":""},null,"",null,{"$f":"IFERROR(VLOOKUP(H59,'matriz puntaje'!$B$3:$C$6,2,FALSE),\"\")","v":""},null,"",null,{"$f":"IFERROR(VLOOKUP(L59,'matriz puntaje'!$B$3:$C$6,2,FALSE),\"\")","v":""},null,"",""]
[58,{"$f":"IFERROR(VLOOKUP(A60,'matriz evaluación'!$A$5:$C$204,2,FALSE),\"\")","v":0},{"$f":"IFERROR(VLOOKUP(A60,'matriz evaluación'!$A$5:$C$204,3,FALSE),\"\")","v":0},null,{"$f":"IFERROR(VLOOKUP(D60,'matriz puntaje'!$B$3:$C$6,2,FALSE),\"\")","v":""},null,"",null,{"$f":"IFERROR(VLOOKUP(H60,'matriz puntaje'!$B$3:$C$6,2,FALSE),\"\")","v":""},null,"",null,{"$f":"IFERROR(VLOOKUP(L60,'matriz puntaje'!$B$3:$C$6,2,FALSE),\"\")","v":""},null,"",""]
[59,{"$f":"IFERROR(VLOOKUP(A61,'matriz evaluación'!$A$5:$C$204,2,FALSE),\"\")","v":0},{"$f":"IFERROR(VLOOKUP(A61,'matriz evaluación'!$A$5:$C$204,3,FALSE),\"\")","v":0},null,{"$f":"IFERROR(VLOOKUP(D61,'matriz puntaje'!$B$3:$C$6,2,FALSE),\"\")","v":""},null,"",null,{"$f":"IFERROR(VLOOKUP(H61,'matriz puntaje'!$B$3:$C$6,2,FALSE),\"\")","v":""},null,"",null,{"$f":"IFERROR(VLOOKUP(L61,'matriz puntaje'!$B$3:$C$6,2,FALSE),\"\")","v":""},null,"",""]
[60,{"$f":"IFERROR(VLOOKUP(A62,'matriz evaluación'!$A$5:$C$204,2,FALSE),\"\")","v":0},{"$f":"IFERROR(VLOOKUP(A62,'matriz evaluación'!$A$5:$C$204,3,FALSE),\"\")","v":0},null,{"$f":"IFERROR(VLOOKUP(D62,'matriz puntaje'!$B$3:$C$6,2,FALSE),\"\")","v":""},null,"",null,{"$f":"IFERROR(VLOOKUP(H62,'matriz puntaje'!$B$3:$C$6,2,FALSE),\"\")","v":""},null,"",null,{"$f":"IFERROR(VLOOKUP(L62,'matriz puntaje'!$B$3:$C$6,2,FALSE),\"\")","v":""},null,"",""]
[61,{"$f":"IFERROR(VLOOKUP(A63,'matriz evaluación'!$A$5:$C$204,2,FALSE),\"\")","v":0},{"$f":"IFERROR(VLOOKUP(A63,'matriz evaluación'!$A$5:$C$204,3,FALSE),\"\")","v":0},null,{"$f":"IFERROR(VLOOKUP(D63,'matriz puntaje'!$B$3:$C$6,2,FALSE),\"\")","v":""},null,"",null,{"$f":"IFERROR(VLOOKUP(H63,'matriz puntaje'!$B$3:$C$6,2,FALSE),\"\")","v":""},null,"",null,{"$f":"IFERROR(VLOOKUP(L63,'matriz puntaje'!$B$3:$C$6,2,FALSE),\"\")","v":""},null,"",""]
[62,{"$f":"IFERROR(VLOOKUP(A64,'matriz evaluación'!$A$5:$C$204,2,FALSE),\"\")","v":0},{"$f":"IFERROR(VLOOKUP(A64,'matriz evaluación'!$A$5:$C$204,3,FALSE),\"\")","v":0},null,{"$f":"IFERROR(VLOOKUP(D64,'matriz puntaje'!$B$3:$C$6,2,FALSE),\"\")","v":""},null,"",null,{"$f":"IFERROR(VLOOKUP(H64,'matriz puntaje'!$B$3:$C$6,2,FALSE),\"\")","v":""},null,"",null,{"$f":"IFERROR(VLOOKUP(L64,'matriz puntaje'!$B$3:$C$6,2,FALSE),\"\")","v":""},null,"",""]
[63,{"$f":"IFERROR(VLOOKUP(A65,'matriz evaluación'!$A$5:$C$204,2,FALSE),\"\")","v":0},{"$f":"IFERROR(VLOOKUP(A65,'matriz evaluación'!$A$5:$C$204,3,FALSE),\"\")","v":0},null,{"$f":"IFERROR(VLOOKUP(D65,'matriz puntaje'!$B$3:$C$6,2,FALSE),\"\")","v":""},null,"",null,{"$f":"IFERROR(VLOOKUP(H65,'matriz puntaje'!$B$3:$C$6,2,FALSE),\"\")","v":""},null,"",null,{"$f":"IFERROR(VLOOKUP(L65,'matriz puntaje'!$B$3:$C$6,2,FALSE),\"\")","v":""},null,"",""]
[64,{"$f":"IFERROR(VLOOKUP(A66,'matriz evaluación'!$A$5:$C$204,2,FALSE),\"\")","v":0},{"$f":"IFERROR(VLOOKUP(A66,'matriz evaluación'!$A$5:$C$204,3,FALSE),\"\")","v":0},null,{"$f":"IFERROR(VLOOKUP(D66,'matriz puntaje'!$B$3:$C$6,2,FALSE),\"\")","v":""},null,"",null,{"$f":"IFERROR(VLOOKUP(H66,'matriz puntaje'!$B$3:$C$6,2,FALSE),\"\")","v":""},null,"",null,{"$f":"IFERROR(VLOOKUP(L66,'matriz puntaje'!$B$3:$C$6,2,FALSE),\"\")","v":""},null,"",""]
[65,{"$f":"IFERROR(VLOOKUP(A67,'matriz evaluación'!$A$5:$C$204,2,FALSE),\"\")","v":0},{"$f":"IFERROR(VLOOKUP(A67,'matriz evaluación'!$A$5:$C$204,3,FALSE),\"\")","v":0},null,{"$f":"IFERROR(VLOOKUP(D67,'matriz puntaje'!$B$3:$C$6,2,FALSE),\"\")","v":""},null,"",null,{"$f":"IFERROR(VLOOKUP(H67,'matriz puntaje'!$B$3:$C$6,2,FALSE),\"\")","v":""},null,"",null,{"$f":"IFERROR(VLOOKUP(L67,'matriz puntaje'!$B$3:$C$6,2,FALSE),\"\")","v":""},null,"",{"$f":"IFERROR(AVERAGE(G67,K67,O67),\"\")","v":""}]
[66,{"$f":"IFERROR(VLOOKUP(A68,'matriz evaluación'!$A$5:$C$204,2,FALSE),\"\")","v":0},{"$f":"IFERROR(VLOOKUP(A68,'matriz evaluación'!$A$5:$C$204,3,FALSE),\"\")","v":0},null,{"$f":"IFERROR(VLOOKUP(D68,'matriz puntaje'!$B$3:$C$6,2,FALSE),\"\")","v":""},null,{"$f":"E68","v":""},null,{"$f":"IFERROR(VLOOKUP(H68,'matriz puntaje'!$B$3:$C$6,2,FALSE),\"\")","v":""},null,{"$f":"I68","v":""},null,{"$f":"IFERROR(VLOOKUP(L68,'matriz puntaje'!$B$3:$C$6,2,FALSE),\"\")","v":""},null,{"$f":"M68","v":""},""]
[67,{"$f":"IFERROR(VLOOKUP(A69,'matriz evaluación'!$A$5:$C$204,2,FALSE),\"\")","v":0},{"$f":"IFERROR(VLOOKUP(A69,'matriz evaluación'!$A$5:$C$204,3,FALSE),\"\")","v":0},null,{"$f":"IFERROR(VLOOKUP(D69,'matriz puntaje'!$B$3:$C$6,2,FALSE),\"\")","v":""},null,"",null,{"$f":"IFERROR(VLOOKUP(H69,'matriz puntaje'!$B$3:$C$6,2,FALSE),\"\")","v":""},null,"",null,{"$f":"IFERROR(VLOOKUP(L69,'matriz puntaje'!$B$3:$C$6,2,FALSE),\"\")","v":""},null,"",""]
[68,{"$f":"IFERROR(VLOOKUP(A70,'matriz evaluación'!$A$5:$C$204,2,FALSE),\"\")","v":0},{"$f":"IFERROR(VLOOKUP(A70,'matriz evaluación'!$A$5:$C$204,3,FALSE),\"\")","v":0},null,{"$f":"IFERROR(VLOOKUP(D70,'matriz puntaje'!$B$3:$C$6,2,FALSE),\"\")","v":""},null,"",null,{"$f":"IFERROR(VLOOKUP(H70,'matriz puntaje'!$B$3:$C$6,2,FALSE),\"\")","v":""},null,"",null,{"$f":"IFERROR(VLOOKUP(L70,'matriz puntaje'!$B$3:$C$6,2,FALSE),\"\")","v":""},null,"",""]
[69,{"$f":"IFERROR(VLOOKUP(A71,'matriz evaluación'!$A$5:$C$204,2,FALSE),\"\")","v":0},{"$f":"IFERROR(VLOOKUP(A71,'matriz evaluación'!$A$5:$C$204,3,FALSE),\"\")","v":0},null,{"$f":"IFERROR(VLOOKUP(D71,'matriz puntaje'!$B$3:$C$6,2,FALSE),\"\")","v":""},null,"",null,{"$f":"IFERROR(VLOOKUP(H71,'matriz puntaje'!$B$3:$C$6,2,FALSE),\"\")","v":""},null,"",null,{"$f":"IFERROR(VLOOKUP(L71,'matriz puntaje'!$B$3:$C$6,2,FALSE),\"\")","v":""},null,"",""]
[70,{"$f":"IFERROR(VLOOKUP(A72,'matriz evaluación'!$A$5:$C$204,2,FALSE),\"\")","v":0},{"$f":"IFERROR(VLOOKUP(A72,'matriz evaluación'!$A$5:$C$204,3,FALSE),\"\")","v":0},null,{"$f":"IFERROR(VLOOKUP(D72,'matriz puntaje'!$B$3:$C$6,2,FALSE),\"\")","v":""},null,"",null,{"$f":"IFERROR(VLOOKUP(H72,'matriz puntaje'!$B$3:$C$6,2,FALSE),\"\")","v":""},null,"",null,{"$f":"IFERROR(VLOOKUP(L72,'matriz puntaje'!$B$3:$C$6,2,FALSE),\"\")","v":""},null,"",""]
[71,{"$f":"IFERROR(VLOOKUP(A73,'matriz evaluación'!$A$5:$C$204,2,FALSE),\"\")","v":0},{"$f":"IFERROR(VLOOKUP(A73,'matriz evaluación'!$A$5:$C$204,3,FALSE),\"\")","v":0},null,{"$f":"IFERROR(VLOOKUP(D73,'matriz puntaje'!$B$3:$C$6,2,FALSE),\"\")","v":""},null,"",null,{"$f":"IFERROR(VLOOKUP(H73,'matriz puntaje'!$B$3:$C$6,2,FALSE),\"\")","v":""},null,"",null,{"$f":"IFERROR(VLOOKUP(L73,'matriz puntaje'!$B$3:$C$6,2,FALSE),\"\")","v":""},null,"",""]
[72,{"$f":"IFERROR(VLOOKUP(A74,'matriz evaluación'!$A$5:$C$204,2,FALSE),\"\")","v":0},{"$f":"IFERROR(VLOOKUP(A74,'matriz evaluación'!$A$5:$C$204,3,FALSE),\"\")","v":0},null,{"$f":"IFERROR(VLOOKUP(D74,'matriz puntaje'!$B$3:$C$6,2,FALSE),\"\")","v":""},null,"",null,{"$f":"IFERROR(VLOOKUP(H74,'matriz puntaje'!$B$3:$C$6,2,FALSE),\"\")","v":""},null,"",null,{"$f":"IFERROR(VLOOKUP(L74,'matriz puntaje'!$B$3:$C$6,2,FALSE),\"\")","v":""},null,"",""]
[73,{"$f":"IFERROR(VLOOKUP(A75,'matriz evaluación'!$A$5:$C$204,2,FALSE),\"\")","v":0},{"$f":"IFERROR(VLOOKUP(A75,'matriz evaluación'!$A$5:$C$204,3,FALSE),\"\")","v":0},null,{"$f":"IFERROR(VLOOKUP(D75,'matriz puntaje'!$B$3:$C$6,2,FALSE),\"\")","v":""},null,"",null,{"$f":"IFERROR(VLOOKUP(H75,'matriz puntaje'!$B$3:$C$6,2,FALSE),\"\")","v":""},null,"",null,{"$f":"IFERROR(VLOOKUP(L75,'matriz puntaje'!$B$3:$C$6,2,FALSE),\"\")","v":""},null,"",""]
[74,{"$f":"IFERROR(VLOOKUP(A76,'matriz evaluación'!$A$5:$C$204,2,FALSE),\"\")","v":0},{"$f":"IFERROR(VLOOKUP(A76,'matriz evaluación'!$A$5:$C$204,3,FALSE),\"\")","v":0},null,{"$f":"IFERROR(VLOOKUP(D76,'matriz puntaje'!$B$3:$C$6,2,FALSE),\"\")","v":""},null,"",null,{"$f":"IFERROR(VLOOKUP(H76,'matriz puntaje'!$B$3:$C$6,2,FALSE),\"\")","v":""},null,"",null,{"$f":"IFERROR(VLOOKUP(L76,'matriz puntaje'!$B$3:$C$6,2,FALSE),\"\")","v":""},null,"",""]
[75,{"$f":"IFERROR(VLOOKUP(A77,'matriz evaluación'!$A$5:$C$204,2,FALSE),\"\")","v":0},{"$f":"IFERROR(VLOOKUP(A77,'matriz evaluación'!$A$5:$C$204,3,FALSE),\"\")","v":0},null,{"$f":"IFERROR(VLOOKUP(D77,'matriz puntaje'!$B$3:$C$6,2,FALSE),\"\")","v":""},null,"",null,{"$f":"IFERROR(VLOOKUP(H77,'matriz puntaje'!$B$3:$C$6,2,FALSE),\"\")","v":""},null,"",null,{"$f":"IFERROR(VLOOKUP(L77,'matriz puntaje'!$B$3:$C$6,2,FALSE),\"\")","v":""},null,"",""]
[76,{"$f":"IFERROR(VLOOKUP(A78,'matriz evaluación'!$A$5:$C$204,2,FALSE),\"\")","v":0},{"$f":"IFERROR(VLOOKUP(A78,'matriz evaluación'!$A$5:$C$204,3,FALSE),\"\")","v":0},null,{"$f":"IFERROR(VLOOKUP(D78,'matriz puntaje'!$B$3:$C$6,2,FALSE),\"\")","v":""},null,"",null,{"$f":"IFERROR(VLOOKUP(H78,'matriz puntaje'!$B$3:$C$6,2,FALSE),\"\")","v":""},null,"",null,{"$f":"IFERROR(VLOOKUP(L78,'matriz puntaje'!$B$3:$C$6,2,FALSE),\"\")","v":""},null,"",""]
[77,{"$f":"IFERROR(VLOOKUP(A79,'matriz evaluación'!$A$5:$C$204,2,FALSE),\"\")","v":0},{"$f":"IFERROR(VLOOKUP(A79,'matriz evaluación'!$A$5:$C$204,3,FALSE),\"\")","v":0},null,{"$f":"IFERROR(VLOOKUP(D79,'matriz puntaje'!$B$3:$C$6,2,FALSE),\"\")","v":""},null,"",null,{"$f":"IFERROR(VLOOKUP(H79,'matriz puntaje'!$B$3:$C$6,2,FALSE),\"\")","v":""},null,"",null,{"$f":"IFERROR(VLOOKUP(L79,'matriz puntaje'!$B$3:$C$6,2,FALSE),\"\")","v":""},null,"",""]
[78,{"$f":"IFERROR(VLOOKUP(A80,'matriz evaluación'!$A$5:$C$204,2,FALSE),\"\")","v":0},{"$f":"IFERROR(VLOOKUP(A80,'matriz evaluación'!$A$5:$C$204,3,FALSE),\"\")","v":0},null,{"$f":"IFERROR(VLOOKUP(D80,'matriz puntaje'!$B$3:$C$6,2,FALSE),\"\")","v":""},null,"",null,{"$f":"IFERROR(VLOOKUP(H80,'matriz puntaje'!$B$3:$C$6,2,FALSE),\"\")","v":""},null,"",null,{"$f":"IFERROR(VLOOKUP(L80,'matriz puntaje'!$B$3:$C$6,2,FALSE),\"\")","v":""},null,"",""]
[79,{"$f":"IFERROR(VLOOKUP(A81,'matriz evaluación'!$A$5:$C$204,2,FALSE),\"\")","v":0},{"$f":"IFERROR(VLOOKUP(A81,'matriz evaluación'!$A$5:$C$204,3,FALSE),\"\")","v":0},null,{"$f":"IFERROR(VLOOKUP(D81,'matriz puntaje'!$B$3:$C$6,2,FALSE),\"\")","v":""},null,"",null,{"$f":"IFERROR(VLOOKUP(H81,'matriz puntaje'!$B$3:$C$6,2,FALSE),\"\")","v":""},null,"",null,{"$f":"IFERROR(VLOOKUP(L81,'matriz puntaje'!$B$3:$C$6,2,FALSE),\"\")","v":""},null,"",""]
[80,{"$f":"IFERROR(VLOOKUP(A82,'matriz evaluación'!$A$5:$C$204,2,FALSE),\"\")","v":0},{"$f":"IFERROR(VLOOKUP(A82,'matriz evaluación'!$A$5:$C$204,3,FALSE),\"\")","v":0},null,{"$f":"IFERROR(VLOOKUP(D82,'matriz puntaje'!$B$3:$C$6,2,FALSE),\"\")","v":""},null,"",null,{"$f":"IFERROR(VLOOKUP(H82,'matriz puntaje'!$B$3:$C$6,2,FALSE),\"\")","v":""},null,"",null,{"$f":"IFERROR(VLOOKUP(L82,'matriz puntaje'!$B$3:$C$6,2,FALSE),\"\")","v":""},null,"",""]
[81,{"$f":"IFERROR(VLOOKUP(A83,'matriz evaluación'!$A$5:$C$204,2,FALSE),\"\")","v":0},{"$f":"IFERROR(VLOOKUP(A83,'matriz evaluación'!$A$5:$C$204,3,FALSE),\"\")","v":0},null,{"$f":"IFERROR(VLOOKUP(D83,'matriz puntaje'!$B$3:$C$6,2,FALSE),\"\")","v":""},null,"",null,{"$f":"IFERROR(VLOOKUP(H83,'matriz puntaje'!$B$3:$C$6,2,FALSE),\"\")","v":""},null,"",null,{"$f":"IFERROR(VLOOKUP(L83,'matriz puntaje'!$B$3:$C$6,2,FALSE),\"\")","v":""},null,"",""]
[82,{"$f":"IFERROR(VLOOKUP(A84,'matriz evaluación'!$A$5:$C$204,2,FALSE),\"\")","v":0},{"$f":"IFERROR(VLOOKUP(A84,'matriz evaluación'!$A$5:$C$204,3,FALSE),\"\")","v":0},null,{"$f":"IFERROR(VLOOKUP(D84,'matriz puntaje'!$B$3:$C$6,2,FALSE),\"\")","v":""},null,"",null,{"$f":"IFERROR(VLOOKUP(H84,'matriz puntaje'!$B$3:$C$6,2,FALSE),\"\")","v":""},null,"",null,{"$f":"IFERROR(VLOOKUP(L84,'matriz puntaje'!$B$3:$C$6,2,FALSE),\"\")","v":""},null,"",""]
[83,{"$f":"IFERROR(VLOOKUP(A85,'matriz evaluación'!$A$5:$C$204,2,FALSE),\"\")","v":0},{"$f":"IFERROR(VLOOKUP(A85,'matriz evaluación'!$A$5:$C$204,3,FALSE),\"\")","v":0},null,{"$f":"IFERROR(VLOOKUP(D85,'matriz puntaje'!$B$3:$C$6,2,FALSE),\"\")","v":""},null,"",null,{"$f":"IFERROR(VLOOKUP(H85,'matriz puntaje'!$B$3:$C$6,2,FALSE),\"\")","v":""},null,"",null,{"$f":"IFERROR(VLOOKUP(L85,'matriz puntaje'!$B$3:$C$6,2,FALSE),\"\")","v":""},null,"",""]
[84,{"$f":"IFERROR(VLOOKUP(A86,'matriz evaluación'!$A$5:$C$204,2,FALSE),\"\")","v":0},{"$f":"IFERROR(VLOOKUP(A86,'matriz evaluación'!$A$5:$C$204,3,FALSE),\"\")","v":0},null,{"$f":"IFERROR(VLOOKUP(D86,'matriz puntaje'!$B$3:$C$6,2,FALSE),\"\")","v":""},null,"",null,{"$f":"IFERROR(VLOOKUP(H86,'matriz puntaje'!$B$3:$C$6,2,FALSE),\"\")","v":""},null,"",null,{"$f":"IFERROR(VLOOKUP(L86,'matriz puntaje'!$B$3:$C$6,2,FALSE),\"\")","v":""},null,"",""]
[85,{"$f":"IFERROR(VLOOKUP(A87,'matriz evaluación'!$A$5:$C$204,2,FALSE),\"\")","v":0},{"$f":"IFERROR(VLOOKUP(A87,'matriz evaluación'!$A$5:$C$204,3,FALSE),\"\")","v":0},null,{"$f":"IFERROR(VLOOKUP(D87,'matriz puntaje'!$B$3:$C$6,2,FALSE),\"\")","v":""},null,"",null,{"$f":"IFERROR(VLOOKUP(H87,'matriz puntaje'!$B$3:$C$6,2,FALSE),\"\")","v":""},null,"",null,{"$f":"IFERROR(VLOOKUP(L87,'matriz puntaje'!$B$3:$C$6,2,FALSE),\"\")","v":""},null,"",""]
[86,{"$f":"IFERROR(VLOOKUP(A88,'matriz evaluación'!$A$5:$C$204,2,FALSE),\"\")","v":0},{"$f":"IFERROR(VLOOKUP(A88,'matriz evaluación'!$A$5:$C$204,3,FALSE),\"\")","v":0},null,{"$f":"IFERROR(VLOOKUP(D88,'matriz puntaje'!$B$3:$C$6,2,FALSE),\"\")","v":""},null,"",null,{"$f":"IFERROR(VLOOKUP(H88,'matriz puntaje'!$B$3:$C$6,2,FALSE),\"\")","v":""},null,"",null,{"$f":"IFERROR(VLOOKUP(L88,'matriz puntaje'!$B$3:$C$6,2,FALSE),\"\")","v":""},null,"",""]
[87,{"$f":"IFERROR(VLOOKUP(A89,'matriz evaluación'!$A$5:$C$204,2,FALSE),\"\")","v":0},{"$f":"IFERROR(VLOOKUP(A89,'matriz evaluación'!$A$5:$C$204,3,FALSE),\"\")","v":0},null,{"$f":"IFERROR(VLOOKUP(D89,'matriz puntaje'!$B$3:$C$6,2,FALSE),\"\")","v":""},null,"",null,{"$f":"IFERROR(VLOOKUP(H89,'matriz puntaje'!$B$3:$C$6,2,FALSE),\"\")","v":""},null,"",null,{"$f":"IFERROR(VLOOKUP(L89,'matriz puntaje'!$B$3:$C$6,2,FALSE),\"\")","v":""},null,"",""]
[88,{"$f":"IFERROR(VLOOKUP(A90,'matriz evaluación'!$A$5:$C$204,2,FALSE),\"\")","v":0},{"$f":"IFERROR(VLOOKUP(A90,'matriz evaluación'!$A$5:$C$204,3,FALSE),\"\")","v":0},null,{"$f":"IFERROR(VLOOKUP(D90,'matriz puntaje'!$B$3:$C$6,2,FALSE),\"\")","v":""},null,"",null,{"$f":"IFERROR(VLOOKUP(H90,'matriz puntaje'!$B$3:$C$6,2,FALSE),\"\")","v":""},null,"",null,{"$f":"IFERROR(VLOOKUP(L90,'matriz puntaje'!$B$3:$C$6,2,FALSE),\"\")","v":""},null,"",""]
[89,{"$f":"IFERROR(VLOOKUP(A91,'matriz evaluación'!$A$5:$C$204,2,FALSE),\"\")","v":0},{"$f":"IFERROR(VLOOKUP(A91,'matriz evaluación'!$A$5:$C$204,3,FALSE),\"\")","v":0},null,{"$f":"IFERROR(VLOOKUP(D91,'matriz puntaje'!$B$3:$C$6,2,FALSE),\"\")","v":""},null,"",null,{"$f":"IFERROR(VLOOKUP(H91,'matriz puntaje'!$B$3:$C$6,2,FALSE),\"\")","v":""},null,"",null,{"$f":"IFERROR(VLOOKUP(L91,'matriz puntaje'!$B$3:$C$6,2,FALSE),\"\")","v":""},null,"",""]
[90,{"$f":"IFERROR(VLOOKUP(A92,'matriz evaluación'!$A$5:$C$204,2,FALSE),\"\")","v":0},{"$f":"IFERROR(VLOOKUP(A92,'matriz evaluación'!$A$5:$C$204,3,FALSE),\"\")","v":0},null,{"$f":"IFERROR(VLOOKUP(D92,'matriz puntaje'!$B$3:$C$6,2,FALSE),\"\")","v":""},null,"",null,{"$f":"IFERROR(VLOOKUP(H92,'matriz puntaje'!$B$3:$C$6,2,FALSE),\"\")","v":""},null,"",null,{"$f":"IFERROR(VLOOKUP(L92,'matriz puntaje'!$B$3:$C$6,2,FALSE),\"\")","v":""},null,"",""]
[91,{"$f":"IFERROR(VLOOKUP(A93,'matriz evaluación'!$A$5:$C$204,2,FALSE),\"\")","v":0},{"$f":"IFERROR(VLOOKUP(A93,'matriz evaluación'!$A$5:$C$204,3,FALSE),\"\")","v":0},null,{"$f":"IFERROR(VLOOKUP(D93,'matriz puntaje'!$B$3:$C$6,2,FALSE),\"\")","v":""},null,"",null,{"$f":"IFERROR(VLOOKUP(H93,'matriz puntaje'!$B$3:$C$6,2,FALSE),\"\")","v":""},null,"",null,{"$f":"IFERROR(VLOOKUP(L93,'matriz puntaje'!$B$3:$C$6,2,FALSE),\"\")","v":""},null,"",""]
[92,{"$f":"IFERROR(VLOOKUP(A94,'matriz evaluación'!$A$5:$C$204,2,FALSE),\"\")","v":0},{"$f":"IFERROR(VLOOKUP(A94,'matriz evaluación'!$A$5:$C$204,3,FALSE),\"\")","v":0},null,{"$f":"IFERROR(VLOOKUP(D94,'matriz puntaje'!$B$3:$C$6,2,FALSE),\"\")","v":""},null,"",null,{"$f":"IFERROR(VLOOKUP(H94,'matriz puntaje'!$B$3:$C$6,2,FALSE),\"\")","v":""},null,"",null,{"$f":"IFERROR(VLOOKUP(L94,'matriz puntaje'!$B$3:$C$6,2,FALSE),\"\")","v":""},null,"",""]
[93,{"$f":"IFERROR(VLOOKUP(A95,'matriz evaluación'!$A$5:$C$204,2,FALSE),\"\")","v":0},{"$f":"IFERROR(VLOOKUP(A95,'matriz evaluación'!$A$5:$C$204,3,FALSE),\"\")","v":0},null,{"$f":"IFERROR(VLOOKUP(D95,'matriz puntaje'!$B$3:$C$6,2,FALSE),\"\")","v":""},null,"",null,{"$f":"IFERROR(VLOOKUP(H95,'matriz puntaje'!$B$3:$C$6,2,FALSE),\"\")","v":""},null,"",null,{"$f":"IFERROR(VLOOKUP(L95,'matriz puntaje'!$B$3:$C$6,2,FALSE),\"\")","v":""},null,"",""]
[94,{"$f":"IFERROR(VLOOKUP(A96,'matriz evaluación'!$A$5:$C$204,2,FALSE),\"\")","v":0},{"$f":"IFERROR(VLOOKUP(A96,'matriz evaluación'!$A$5:$C$204,3,FALSE),\"\")","v":0},null,{"$f":"IFERROR(VLOOKUP(D96,'matriz puntaje'!$B$3:$C$6,2,FALSE),\"\")","v":""},null,"",null,{"$f":"IFERROR(VLOOKUP(H96,'matriz puntaje'!$B$3:$C$6,2,FALSE),\"\")","v":""},null,"",null,{"$f":"IFERROR(VLOOKUP(L96,'matriz puntaje'!$B$3:$C$6,2,FALSE),\"\")","v":""},null,"",""]
[95,{"$f":"IFERROR(VLOOKUP(A97,'matriz evaluación'!$A$5:$C$204,2,FALSE),\"\")","v":0},{"$f":"IFERROR(VLOOKUP(A97,'matriz evaluación'!$A$5:$C$204,3,FALSE),\"\")","v":0},null,{"$f":"IFERROR(VLOOKUP(D97,'matriz puntaje'!$B$3:$C$6,2,FALSE),\"\")","v":""},null,"",null,{"$f":"IFERROR(VLOOKUP(H97,'matriz puntaje'!$B$3:$C$6,2,FALSE),\"\")","v":""},null,"",null,{"$f":"IFERROR(VLOOKUP(L97,'matriz puntaje'!$B$3:$C$6,2,FALSE),\"\")","v":""},null,"",""]
[96,{"$f":"IFERROR(VLOOKUP(A98,'matriz evaluación'!$A$5:$C$204,2,FALSE),\"\")","v":0},{"$f":"IFERROR(VLOOKUP(A98,'matriz evaluación'!$A$5:$C$204,3,FALSE),\"\")","v":0},null,{"$f":"IFERROR(VLOOKUP(D98,'matriz puntaje'!$B$3:$C$6,2,FALSE),\"\")","v":""},null,"",null,{"$f":"IFERROR(VLOOKUP(H98,'matriz puntaje'!$B$3:$C$6,2,FALSE),\"\")","v":""},null,"",null,{"$f":"IFERROR(VLOOKUP(L98,'matriz puntaje'!$B$3:$C$6,2,FALSE),\"\")","v":""},null,"",""]
[97,{"$f":"IFERROR(VLOOKUP(A99,'matriz evaluación'!$A$5:$C$204,2,FALSE),\"\")","v":0},{"$f":"IFERROR(VLOOKUP(A99,'matriz evaluación'!$A$5:$C$204,3,FALSE),\"\")","v":0},null,{"$f":"IFERROR(VLOOKUP(D99,'matriz puntaje'!$B$3:$C$6,2,FALSE),\"\")","v":""},null,"",null,{"$f":"IFERROR(VLOOKUP(H99,'matriz puntaje'!$B$3:$C$6,2,FALSE),\"\")","v":""},null,"",null,{"$f":"IFERROR(VLOOKUP(L99,'matriz puntaje'!$B$3:$C$6,2,FALSE),\"\")","v":""},null,"",""]
[98,{"$f":"IFERROR(VLOOKUP(A100,'matriz evaluación'!$A$5:$C$204,2,FALSE),\"\")","v":0},{"$f":"IFERROR(VLOOKUP(A100,'matriz evaluación'!$A$5:$C$204,3,FALSE),\"\")","v":0},null,{"$f":"IFERROR(VLOOKUP(D100,'matriz puntaje'!$B$3:$C$6,2,FALSE),\"\")","v":""},null,"",null,{"$f":"IFERROR(VLOOKUP(H100,'matriz puntaje'!$B$3:$C$6,2,FALSE),\"\")","v":""},null,"",null,{"$f":"IFERROR(VLOOKUP(L100,'matriz puntaje'!$B$3:$C$6,2,FALSE),\"\")","v":""},null,"",""]
[99,{"$f":"IFERROR(VLOOKUP(A101,'matriz evaluación'!$A$5:$C$204,2,FALSE),\"\")","v":0},{"$f":"IFERROR(VLOOKUP(A101,'matriz evaluación'!$A$5:$C$204,3,FALSE),\"\")","v":0},null,{"$f":"IFERROR(VLOOKUP(D101,'matriz puntaje'!$B$3:$C$6,2,FALSE),\"\")","v":""},null,"",null,{"$f":"IFERROR(VLOOKUP(H101,'matriz puntaje'!$B$3:$C$6,2,FALSE),\"\")","v":""},null,"",null,{"$f":"IFERROR(VLOOKUP(L101,'matriz puntaje'!$B$3:$C$6,2,FALSE),\"\")","v":""},null,"",""]
[100,{"$f":"IFERROR(VLOOKUP(A102,'matriz evaluación'!$A$5:$C$204,2,FALSE),\"\")","v":0},{"$f":"IFERROR(VLOOKUP(A102,'matriz evaluación'!$A$5:$C$204,3,FALSE),\"\")","v":0},null,{"$f":"IFERROR(VLOOKUP(D102,'matriz puntaje'!$B$3:$C$6,2,FALSE),\"\")","v":""},null,"",null,{"$f":"IFERROR(VLOOKUP(H102,'matriz puntaje'!$B$3:$C$6,2,FALSE),\"\")","v":""},null,"",null,{"$f":"IFERROR(VLOOKUP(L102,'matriz puntaje'!$B$3:$C$6,2,FALSE),\"\")","v":""},null,"",""]
[101,{"$f":"IFERROR(VLOOKUP(A103,'matriz evaluación'!$A$5:$C$204,2,FALSE),\"\")","v":0},{"$f":"IFERROR(VLOOKUP(A103,'matriz evaluación'!$A$5:$C$204,3,FALSE),\"\")","v":0},null,{"$f":"IFERROR(VLOOKUP(D103,'matriz puntaje'!$B$3:$C$6,2,FALSE),\"\")","v":""},null,"",null,{"$f":"IFERROR(VLOOKUP(H103,'matriz puntaje'!$B$3:$C$6,2,FALSE),\"\")","v":""},null,"",null,{"$f":"IFERROR(VLOOKUP(L103,'matriz puntaje'!$B$3:$C$6,2,FALSE),\"\")","v":""},null,"",""]
[102,{"$f":"IFERROR(VLOOKUP(A104,'matriz evaluación'!$A$5:$C$204,2,FALSE),\"\")","v":0},{"$f":"IFERROR(VLOOKUP(A104,'matriz evaluación'!$A$5:$C$204,3,FALSE),\"\")","v":0},null,{"$f":"IFERROR(VLOOKUP(D104,'matriz puntaje'!$B$3:$C$6,2,FALSE),\"\")","v":""},null,"",null,{"$f":"IFERROR(VLOOKUP(H104,'matriz puntaje'!$B$3:$C$6,2,FALSE),\"\")","v":""},null,"",null,{"$f":"IFERROR(VLOOKUP(L104,'matriz puntaje'!$B$3:$C$6,2,FALSE),\"\")","v":""},null,"",""]
[103,{"$f":"IFERROR(VLOOKUP(A105,'matriz evaluación'!$A$5:$C$204,2,FALSE),\"\")","v":0},{"$f":"IFERROR(VLOOKUP(A105,'matriz evaluación'!$A$5:$C$204,3,FALSE),\"\")","v":0},null,{"$f":"IFERROR(VLOOKUP(D105,'matriz puntaje'!$B$3:$C$6,2,FALSE),\"\")","v":""},null,"",null,{"$f":"IFERROR(VLOOKUP(H105,'matriz puntaje'!$B$3:$C$6,2,FALSE),\"\")","v":""},null,"",null,{"$f":"IFERROR(VLOOKUP(L105,'matriz puntaje'!$B$3:$C$6,2,FALSE),\"\")","v":""},null,"",""]
[104,{"$f":"IFERROR(VLOOKUP(A106,'matriz evaluación'!$A$5:$C$204,2,FALSE),\"\")","v":0},{"$f":"IFERROR(VLOOKUP(A106,'matriz evaluación'!$A$5:$C$204,3,FALSE),\"\")","v":0},null,{"$f":"IFERROR(VLOOKUP(D106,'matriz puntaje'!$B$3:$C$6,2,FALSE),\"\")","v":""},null,"",null,{"$f":"IFERROR(VLOOKUP(H106,'matriz puntaje'!$B$3:$C$6,2,FALSE),\"\")","v":""},null,"",null,{"$f":"IFERROR(VLOOKUP(L106,'matriz puntaje'!$B$3:$C$6,2,FALSE),\"\")","v":""},null,"",""]
[105,{"$f":"IFERROR(VLOOKUP(A107,'matriz evaluación'!$A$5:$C$204,2,FALSE),\"\")","v":0},{"$f":"IFERROR(VLOOKUP(A107,'matriz evaluación'!$A$5:$C$204,3,FALSE),\"\")","v":0},null,{"$f":"IFERROR(VLOOKUP(D107,'matriz puntaje'!$B$3:$C$6,2,FALSE),\"\")","v":""},null,"",null,{"$f":"IFERROR(VLOOKUP(H107,'matriz puntaje'!$B$3:$C$6,2,FALSE),\"\")","v":""},null,"",null,{"$f":"IFERROR(VLOOKUP(L107,'matriz puntaje'!$B$3:$C$6,2,FALSE),\"\")","v":""},null,"",""]
[106,{"$f":"IFERROR(VLOOKUP(A108,'matriz evaluación'!$A$5:$C$204,2,FALSE),\"\")","v":0},{"$f":"IFERROR(VLOOKUP(A108,'matriz evaluación'!$A$5:$C$204,3,FALSE),\"\")","v":0},null,{"$f":"IFERROR(VLOOKUP(D108,'matriz puntaje'!$B$3:$C$6,2,FALSE),\"\")","v":""},null,"",null,{"$f":"IFERROR(VLOOKUP(H108,'matriz puntaje'!$B$3:$C$6,2,FALSE),\"\")","v":""},null,"",null,{"$f":"IFERROR(VLOOKUP(L108,'matriz puntaje'!$B$3:$C$6,2,FALSE),\"\")","v":""},null,"",""]
[107,{"$f":"IFERROR(VLOOKUP(A109,'matriz evaluación'!$A$5:$C$204,2,FALSE),\"\")","v":0},{"$f":"IFERROR(VLOOKUP(A109,'matriz evaluación'!$A$5:$C$204,3,FALSE),\"\")","v":0},null,{"$f":"IFERROR(VLOOKUP(D109,'matriz puntaje'!$B$3:$C$6,2,FALSE),\"\")","v":""},null,"",null,{"$f":"IFERROR(VLOOKUP(H109,'matriz puntaje'!$B$3:$C$6,2,FALSE),\"\")","v":""},null,"",null,{"$f":"IFERROR(VLOOKUP(L109,'matriz puntaje'!$B$3:$C$6,2,FALSE),\"\")","v":""},null,"",""]
[108,{"$f":"IFERROR(VLOOKUP(A110,'matriz evaluación'!$A$5:$C$204,2,FALSE),\"\")","v":0},{"$f":"IFERROR(VLOOKUP(A110,'matriz evaluación'!$A$5:$C$204,3,FALSE),\"\")","v":0},null,{"$f":"IFERROR(VLOOKUP(D110,'matriz puntaje'!$B$3:$C$6,2,FALSE),\"\")","v":""},null,"",null,{"$f":"IFERROR(VLOOKUP(H110,'matriz puntaje'!$B$3:$C$6,2,FALSE),\"\")","v":""},null,"",null,{"$f":"IFERROR(VLOOKUP(L110,'matriz puntaje'!$B$3:$C$6,2,FALSE),\"\")","v":""},null,"",""]
[109,{"$f":"IFERROR(VLOOKUP(A111,'matriz evaluación'!$A$5:$C$204,2,FALSE),\"\")","v":0},{"$f":"IFERROR(VLOOKUP(A111,'matriz evaluación'!$A$5:$C$204,3,FALSE),\"\")","v":0},null,{"$f":"IFERROR(VLOOKUP(D111,'matriz puntaje'!$B$3:$C$6,2,FALSE),\"\")","v":""},null,"",null,{"$f":"IFERROR(VLOOKUP(H111,'matriz puntaje'!$B$3:$C$6,2,FALSE),\"\")","v":""},null,"",null,{"$f":"IFERROR(VLOOKUP(L111,'matriz puntaje'!$B$3:$C$6,2,FALSE),\"\")","v":""},null,"",""]
[110,{"$f":"IFERROR(VLOOKUP(A112,'matriz evaluación'!$A$5:$C$204,2,FALSE),\"\")","v":0},{"$f":"IFERROR(VLOOKUP(A112,'matriz evaluación'!$A$5:$C$204,3,FALSE),\"\")","v":0},null,{"$f":"IFERROR(VLOOKUP(D112,'matriz puntaje'!$B$3:$C$6,2,FALSE),\"\")","v":""},null,"",null,{"$f":"IFERROR(VLOOKUP(H112,'matriz puntaje'!$B$3:$C$6,2,FALSE),\"\")","v":""},null,"",null,{"$f":"IFERROR(VLOOKUP(L112,'matriz puntaje'!$B$3:$C$6,2,FALSE),\"\")","v":""},null,"",""]
[111,{"$f":"IFERROR(VLOOKUP(A113,'matriz evaluación'!$A$5:$C$204,2,FALSE),\"\")","v":0},{"$f":"IFERROR(VLOOKUP(A113,'matriz evaluación'!$A$5:$C$204,3,FALSE),\"\")","v":0},null,{"$f":"IFERROR(VLOOKUP(D113,'matriz puntaje'!$B$3:$C$6,2,FALSE),\"\")","v":""},null,"",null,{"$f":"IFERROR(VLOOKUP(H113,'matriz puntaje'!$B$3:$C$6,2,FALSE),\"\")","v":""},null,"",null,{"$f":"IFERROR(VLOOKUP(L113,'matriz puntaje'!$B$3:$C$6,2,FALSE),\"\")","v":""},null,"",""]
[112,{"$f":"IFERROR(VLOOKUP(A114,'matriz evaluación'!$A$5:$C$204,2,FALSE),\"\")","v":0},{"$f":"IFERROR(VLOOKUP(A114,'matriz evaluación'!$A$5:$C$204,3,FALSE),\"\")","v":0},null,{"$f":"IFERROR(VLOOKUP(D114,'matriz puntaje'!$B$3:$C$6,2,FALSE),\"\")","v":""},null,"",null,{"$f":"IFERROR(VLOOKUP(H114,'matriz puntaje'!$B$3:$C$6,2,FALSE),\"\")","v":""},null,"",null,{"$f":"IFERROR(VLOOKUP(L114,'matriz puntaje'!$B$3:$C$6,2,FALSE),\"\")","v":""},null,"",""]
[113,{"$f":"IFERROR(VLOOKUP(A115,'matriz evaluación'!$A$5:$C$204,2,FALSE),\"\")","v":0},{"$f":"IFERROR(VLOOKUP(A115,'matriz evaluación'!$A$5:$C$204,3,FALSE),\"\")","v":0},null,{"$f":"IFERROR(VLOOKUP(D115,'matriz puntaje'!$B$3:$C$6,2,FALSE),\"\")","v":""},null,"",null,{"$f":"IFERROR(VLOOKUP(H115,'matriz puntaje'!$B$3:$C$6,2,FALSE),\"\")","v":""},null,"",null,{"$f":"IFERROR(VLOOKUP(L115,'matriz puntaje'!$B$3:$C$6,2,FALSE),\"\")","v":""},null,"",""]
[114,{"$f":"IFERROR(VLOOKUP(A116,'matriz evaluación'!$A$5:$C$204,2,FALSE),\"\")","v":0},{"$f":"IFERROR(VLOOKUP(A116,'matriz evaluación'!$A$5:$C$204,3,FALSE),\"\")","v":0},null,{"$f":"IFERROR(VLOOKUP(D116,'matriz puntaje'!$B$3:$C$6,2,FALSE),\"\")","v":""},null,"",null,{"$f":"IFERROR(VLOOKUP(H116,'matriz puntaje'!$B$3:$C$6,2,FALSE),\"\")","v":""},null,"",null,{"$f":"IFERROR(VLOOKUP(L116,'matriz puntaje'!$B$3:$C$6,2,FALSE),\"\")","v":""},null,"",""]
[115,{"$f":"IFERROR(VLOOKUP(A117,'matriz evaluación'!$A$5:$C$204,2,FALSE),\"\")","v":0},{"$f":"IFERROR(VLOOKUP(A117,'matriz evaluación'!$A$5:$C$204,3,FALSE),\"\")","v":0},null,{"$f":"IFERROR(VLOOKUP(D117,'matriz puntaje'!$B$3:$C$6,2,FALSE),\"\")","v":""},null,"",null,{"$f":"IFERROR(VLOOKUP(H117,'matriz puntaje'!$B$3:$C$6,2,FALSE),\"\")","v":""},null,"",null,{"$f":"IFERROR(VLOOKUP(L117,'matriz puntaje'!$B$3:$C$6,2,FALSE),\"\")","v":""},null,"",""]
[116,{"$f":"IFERROR(VLOOKUP(A118,'matriz evaluación'!$A$5:$C$204,2,FALSE),\"\")","v":0},{"$f":"IFERROR(VLOOKUP(A118,'matriz evaluación'!$A$5:$C$204,3,FALSE),\"\")","v":0},null,{"$f":"IFERROR(VLOOKUP(D118,'matriz puntaje'!$B$3:$C$6,2,FALSE),\"\")","v":""},null,"",null,{"$f":"IFERROR(VLOOKUP(H118,'matriz puntaje'!$B$3:$C$6,2,FALSE),\"\")","v":""},null,"",null,{"$f":"IFERROR(VLOOKUP(L118,'matriz puntaje'!$B$3:$C$6,2,FALSE),\"\")","v":""},null,"",""]
[117,{"$f":"IFERROR(VLOOKUP(A119,'matriz evaluación'!$A$5:$C$204,2,FALSE),\"\")","v":0},{"$f":"IFERROR(VLOOKUP(A119,'matriz evaluación'!$A$5:$C$204,3,FALSE),\"\")","v":0},null,{"$f":"IFERROR(VLOOKUP(D119,'matriz puntaje'!$B$3:$C$6,2,FALSE),\"\")","v":""},null,"",null,{"$f":"IFERROR(VLOOKUP(H119,'matriz puntaje'!$B$3:$C$6,2,FALSE),\"\")","v":""},null,"",null,{"$f":"IFERROR(VLOOKUP(L119,'matriz puntaje'!$B$3:$C$6,2,FALSE),\"\")","v":""},null,"",""]
[118,{"$f":"IFERROR(VLOOKUP(A120,'matriz evaluación'!$A$5:$C$204,2,FALSE),\"\")","v":0},{"$f":"IFERROR(VLOOKUP(A120,'matriz evaluación'!$A$5:$C$204,3,FALSE),\"\")","v":0},null,{"$f":"IFERROR(VLOOKUP(D120,'matriz puntaje'!$B$3:$C$6,2,FALSE),\"\")","v":""},null,"",null,{"$f":"IFERROR(VLOOKUP(H120,'matriz puntaje'!$B$3:$C$6,2,FALSE),\"\")","v":""},null,"",null,{"$f":"IFERROR(VLOOKUP(L120,'matriz puntaje'!$B$3:$C$6,2,FALSE),\"\")","v":""},null,"",""]
[119,{"$f":"IFERROR(VLOOKUP(A121,'matriz evaluación'!$A$5:$C$204,2,FALSE),\"\")","v":0},{"$f":"IFERROR(VLOOKUP(A121,'matriz evaluación'!$A$5:$C$204,3,FALSE),\"\")","v":0},null,{"$f":"IFERROR(VLOOKUP(D121,'matriz puntaje'!$B$3:$C$6,2,FALSE),\"\")","v":""},null,"",null,{"$f":"IFERROR(VLOOKUP(H121,'matriz puntaje'!$B$3:$C$6,2,FALSE),\"\")","v":""},null,"",null,{"$f":"IFERROR(VLOOKUP(L121,'matriz puntaje'!$B$3:$C$6,2,FALSE),\"\")","v":""},null,"",""]
[120,{"$f":"IFERROR(VLOOKUP(A122,'matriz evaluación'!$A$5:$C$204,2,FALSE),\"\")","v":0},{"$f":"IFERROR(VLOOKUP(A122,'matriz evaluación'!$A$5:$C$204,3,FALSE),\"\")","v":0},null,{"$f":"IFERROR(VLOOKUP(D122,'matriz puntaje'!$B$3:$C$6,2,FALSE),\"\")","v":""},null,"",null,{"$f":"IFERROR(VLOOKUP(H122,'matriz puntaje'!$B$3:$C$6,2,FALSE),\"\")","v":""},null,"",null,{"$f":"IFERROR(VLOOKUP(L122,'matriz puntaje'!$B$3:$C$6,2,FALSE),\"\")","v":""},null,"",""]
[121,{"$f":"IFERROR(VLOOKUP(A123,'matriz evaluación'!$A$5:$C$204,2,FALSE),\"\")","v":0},{"$f":"IFERROR(VLOOKUP(A123,'matriz evaluación'!$A$5:$C$204,3,FALSE),\"\")","v":0},null,{"$f":"IFERROR(VLOOKUP(D123,'matriz puntaje'!$B$3:$C$6,2,FALSE),\"\")","v":""},null,"",null,{"$f":"IFERROR(VLOOKUP(H123,'matriz puntaje'!$B$3:$C$6,2,FALSE),\"\")","v":""},null,"",null,{"$f":"IFERROR(VLOOKUP(L123,'matriz puntaje'!$B$3:$C$6,2,FALSE),\"\")","v":""},null,"",""]
[122,{"$f":"IFERROR(VLOOKUP(A124,'matriz evaluación'!$A$5:$C$204,2,FALSE),\"\")","v":0},{"$f":"IFERROR(VLOOKUP(A124,'matriz evaluación'!$A$5:$C$204,3,FALSE),\"\")","v":0},null,{"$f":"IFERROR(VLOOKUP(D124,'matriz puntaje'!$B$3:$C$6,2,FALSE),\"\")","v":""},null,"",null,{"$f":"IFERROR(VLOOKUP(H124,'matriz puntaje'!$B$3:$C$6,2,FALSE),\"\")","v":""},null,"",null,{"$f":"IFERROR(VLOOKUP(L124,'matriz puntaje'!$B$3:$C$6,2,FALSE),\"\")","v":""},null,"",""]
[123,{"$f":"IFERROR(VLOOKUP(A125,'matriz evaluación'!$A$5:$C$204,2,FALSE),\"\")","v":0},{"$f":"IFERROR(VLOOKUP(A125,'matriz evaluación'!$A$5:$C$204,3,FALSE),\"\")","v":0},null,{"$f":"IFERROR(VLOOKUP(D125,'matriz puntaje'!$B$3:$C$6,2,FALSE),\"\")","v":""},null,"",null,{"$f":"IFERROR(VLOOKUP(H125,'matriz puntaje'!$B$3:$C$6,2,FALSE),\"\")","v":""},null,"",null,{"$f":"IFERROR(VLOOKUP(L125,'matriz puntaje'!$B$3:$C$6,2,FALSE),\"\")","v":""},null,"",""]
[124,{"$f":"IFERROR(VLOOKUP(A126,'matriz evaluación'!$A$5:$C$204,2,FALSE),\"\")","v":0},{"$f":"IFERROR(VLOOKUP(A126,'matriz evaluación'!$A$5:$C$204,3,FALSE),\"\")","v":0},null,{"$f":"IFERROR(VLOOKUP(D126,'matriz puntaje'!$B$3:$C$6,2,FALSE),\"\")","v":""},null,"",null,{"$f":"IFERROR(VLOOKUP(H126,'matriz puntaje'!$B$3:$C$6,2,FALSE),\"\")","v":""},null,"",null,{"$f":"IFERROR(VLOOKUP(L126,'matriz puntaje'!$B$3:$C$6,2,FALSE),\"\")","v":""},null,"",""]
[125,{"$f":"IFERROR(VLOOKUP(A127,'matriz evaluación'!$A$5:$C$204,2,FALSE),\"\")","v":0},{"$f":"IFERROR(VLOOKUP(A127,'matriz evaluación'!$A$5:$C$204,3,FALSE),\"\")","v":0},null,{"$f":"IFERROR(VLOOKUP(D127,'matriz puntaje'!$B$3:$C$6,2,FALSE),\"\")","v":""},null,"",null,{"$f":"IFERROR(VLOOKUP(H127,'matriz puntaje'!$B$3:$C$6,2,FALSE),\"\")","v":""},null,"",null,{"$f":"IFERROR(VLOOKUP(L127,'matriz puntaje'!$B$3:$C$6,2,FALSE),\"\")","v":""},null,"",""]
[126,{"$f":"IFERROR(VLOOKUP(A128,'matriz evaluación'!$A$5:$C$204,2,FALSE),\"\")","v":0},{"$f":"IFERROR(VLOOKUP(A128,'matriz evaluación'!$A$5:$C$204,3,FALSE),\"\")","v":0},null,{"$f":"IFERROR(VLOOKUP(D128,'matriz puntaje'!$B$3:$C$6,2,FALSE),\"\")","v":""},null,"",null,{"$f":"IFERROR(VLOOKUP(H128,'matriz puntaje'!$B$3:$C$6,2,FALSE),\"\")","v":""},null,"",null,{"$f":"IFERROR(VLOOKUP(L128,'matriz puntaje'!$B$3:$C$6,2,FALSE),\"\")","v":""},null,"",""]
[127,{"$f":"IFERROR(VLOOKUP(A129,'matriz evaluación'!$A$5:$C$204,2,FALSE),\"\")","v":0},{"$f":"IFERROR(VLOOKUP(A129,'matriz evaluación'!$A$5:$C$204,3,FALSE),\"\")","v":0},null,{"$f":"IFERROR(VLOOKUP(D129,'matriz puntaje'!$B$3:$C$6,2,FALSE),\"\")","v":""},null,"",null,{"$f":"IFERROR(VLOOKUP(H129,'matriz puntaje'!$B$3:$C$6,2,FALSE),\"\")","v":""},null,"",null,{"$f":"IFERROR(VLOOKUP(L129,'matriz puntaje'!$B$3:$C$6,2,FALSE),\"\")","v":""},null,"",""]
[128,{"$f":"IFERROR(VLOOKUP(A130,'matriz evaluación'!$A$5:$C$204,2,FALSE),\"\")","v":0},{"$f":"IFERROR(VLOOKUP(A130,'matriz evaluación'!$A$5:$C$204,3,FALSE),\"\")","v":0},null,{"$f":"IFERROR(VLOOKUP(D130,'matriz puntaje'!$B$3:$C$6,2,FALSE),\"\")","v":""},null,"",null,{"$f":"IFERROR(VLOOKUP(H130,'matriz puntaje'!$B$3:$C$6,2,FALSE),\"\")","v":""},null,"",null,{"$f":"IFERROR(VLOOKUP(L130,'matriz puntaje'!$B$3:$C$6,2,FALSE),\"\")","v":""},null,"",""]
[129,{"$f":"IFERROR(VLOOKUP(A131,'matriz evaluación'!$A$5:$C$204,2,FALSE),\"\")","v":0},{"$f":"IFERROR(VLOOKUP(A131,'matriz evaluación'!$A$5:$C$204,3,FALSE),\"\")","v":0},null,{"$f":"IFERROR(VLOOKUP(D131,'matriz puntaje'!$B$3:$C$6,2,FALSE),\"\")","v":""},null,"",null,{"$f":"IFERROR(VLOOKUP(H131,'matriz puntaje'!$B$3:$C$6,2,FALSE),\"\")","v":""},null,"",null,{"$f":"IFERROR(VLOOKUP(L131,'matriz puntaje'!$B$3:$C$6,2,FALSE),\"\")","v":""},null,"",{"$f":"IFERROR(AVERAGE(G131,K131,O131),\"\")","v":""}]
[130,{"$f":"IFERROR(VLOOKUP(A132,'matriz evaluación'!$A$5:$C$204,2,FALSE),\"\")","v":0},{"$f":"IFERROR(VLOOKUP(A132,'matriz evaluación'!$A$5:$C$204,3,FALSE),\"\")","v":0},null,{"$f":"IFERROR(VLOOKUP(D132,'matriz puntaje'!$B$3:$C$6,2,FALSE),\"\")","v":""},null,{"$f":"E132","v":""},null,{"$f":"IFERROR(VLOOKUP(H132,'matriz puntaje'!$B$3:$C$6,2,FALSE),\"\")","v":""},null,{"$f":"I132","v":""},null,{"$f":"IFERROR(VLOOKUP(L132,'matriz puntaje'!$B$3:$C$6,2,FALSE),\"\")","v":""},null,{"$f":"M132","v":""},""]
[131,{"$f":"IFERROR(VLOOKUP(A133,'matriz evaluación'!$A$5:$C$204,2,FALSE),\"\")","v":0},{"$f":"IFERROR(VLOOKUP(A133,'matriz evaluación'!$A$5:$C$204,3,FALSE),\"\")","v":0},null,{"$f":"IFERROR(VLOOKUP(D133,'matriz puntaje'!$B$3:$C$6,2,FALSE),\"\")","v":""},null,"",null,{"$f":"IFERROR(VLOOKUP(H133,'matriz puntaje'!$B$3:$C$6,2,FALSE),\"\")","v":""},null,"",null,{"$f":"IFERROR(VLOOKUP(L133,'matriz puntaje'!$B$3:$C$6,2,FALSE),\"\")","v":""},null,"",""]
[132,{"$f":"IFERROR(VLOOKUP(A134,'matriz evaluación'!$A$5:$C$204,2,FALSE),\"\")","v":0},{"$f":"IFERROR(VLOOKUP(A134,'matriz evaluación'!$A$5:$C$204,3,FALSE),\"\")","v":0},null,{"$f":"IFERROR(VLOOKUP(D134,'matriz puntaje'!$B$3:$C$6,2,FALSE),\"\")","v":""},null,"",null,{"$f":"IFERROR(VLOOKUP(H134,'matriz puntaje'!$B$3:$C$6,2,FALSE),\"\")","v":""},null,"",null,{"$f":"IFERROR(VLOOKUP(L134,'matriz puntaje'!$B$3:$C$6,2,FALSE),\"\")","v":""},null,"",""]
[133,{"$f":"IFERROR(VLOOKUP(A135,'matriz evaluación'!$A$5:$C$204,2,FALSE),\"\")","v":0},{"$f":"IFERROR(VLOOKUP(A135,'matriz evaluación'!$A$5:$C$204,3,FALSE),\"\")","v":0},null,{"$f":"IFERROR(VLOOKUP(D135,'matriz puntaje'!$B$3:$C$6,2,FALSE),\"\")","v":""},null,"",null,{"$f":"IFERROR(VLOOKUP(H135,'matriz puntaje'!$B$3:$C$6,2,FALSE),\"\")","v":""},null,"",null,{"$f":"IFERROR(VLOOKUP(L135,'matriz puntaje'!$B$3:$C$6,2,FALSE),\"\")","v":""},null,"",""]
[134,{"$f":"IFERROR(VLOOKUP(A136,'matriz evaluación'!$A$5:$C$204,2,FALSE),\"\")","v":0},{"$f":"IFERROR(VLOOKUP(A136,'matriz evaluación'!$A$5:$C$204,3,FALSE),\"\")","v":0},null,{"$f":"IFERROR(VLOOKUP(D136,'matriz puntaje'!$B$3:$C$6,2,FALSE),\"\")","v":""},null,"",null,{"$f":"IFERROR(VLOOKUP(H136,'matriz puntaje'!$B$3:$C$6,2,FALSE),\"\")","v":""},null,"",null,{"$f":"IFERROR(VLOOKUP(L136,'matriz puntaje'!$B$3:$C$6,2,FALSE),\"\")","v":""},null,"",""]
[135,{"$f":"IFERROR(VLOOKUP(A137,'matriz evaluación'!$A$5:$C$204,2,FALSE),\"\")","v":0},{"$f":"IFERROR(VLOOKUP(A137,'matriz evaluación'!$A$5:$C$204,3,FALSE),\"\")","v":0},null,{"$f":"IFERROR(VLOOKUP(D137,'matriz puntaje'!$B$3:$C$6,2,FALSE),\"\")","v":""},null,"",null,{"$f":"IFERROR(VLOOKUP(H137,'matriz puntaje'!$B$3:$C$6,2,FALSE),\"\")","v":""},null,"",null,{"$f":"IFERROR(VLOOKUP(L137,'matriz puntaje'!$B$3:$C$6,2,FALSE),\"\")","v":""},null,"",""]
[136,{"$f":"IFERROR(VLOOKUP(A138,'matriz evaluación'!$A$5:$C$204,2,FALSE),\"\")","v":0},{"$f":"IFERROR(VLOOKUP(A138,'matriz evaluación'!$A$5:$C$204,3,FALSE),\"\")","v":0},null,{"$f":"IFERROR(VLOOKUP(D138,'matriz puntaje'!$B$3:$C$6,2,FALSE),\"\")","v":""},null,"",null,{"$f":"IFERROR(VLOOKUP(H138,'matriz puntaje'!$B$3:$C$6,2,FALSE),\"\")","v":""},null,"",null,{"$f":"IFERROR(VLOOKUP(L138,'matriz puntaje'!$B$3:$C$6,2,FALSE),\"\")","v":""},null,"",""]
[137,{"$f":"IFERROR(VLOOKUP(A139,'matriz evaluación'!$A$5:$C$204,2,FALSE),\"\")","v":0},{"$f":"IFERROR(VLOOKUP(A139,'matriz evaluación'!$A$5:$C$204,3,FALSE),\"\")","v":0},null,{"$f":"IFERROR(VLOOKUP(D139,'matriz puntaje'!$B$3:$C$6,2,FALSE),\"\")","v":""},null,"",null,{"$f":"IFERROR(VLOOKUP(H139,'matriz puntaje'!$B$3:$C$6,2,FALSE),\"\")","v":""},null,"",null,{"$f":"IFERROR(VLOOKUP(L139,'matriz puntaje'!$B$3:$C$6,2,FALSE),\"\")","v":""},null,"",""]
[138,{"$f":"IFERROR(VLOOKUP(A140,'matriz evaluación'!$A$5:$C$204,2,FALSE),\"\")","v":0},{"$f":"IFERROR(VLOOKUP(A140,'matriz evaluación'!$A$5:$C$204,3,FALSE),\"\")","v":0},null,{"$f":"IFERROR(VLOOKUP(D140,'matriz puntaje'!$B$3:$C$6,2,FALSE),\"\")","v":""},null,"",null,{"$f":"IFERROR(VLOOKUP(H140,'matriz puntaje'!$B$3:$C$6,2,FALSE),\"\")","v":""},null,"",null,{"$f":"IFERROR(VLOOKUP(L140,'matriz puntaje'!$B$3:$C$6,2,FALSE),\"\")","v":""},null,"",""]
[139,{"$f":"IFERROR(VLOOKUP(A141,'matriz evaluación'!$A$5:$C$204,2,FALSE),\"\")","v":0},{"$f":"IFERROR(VLOOKUP(A141,'matriz evaluación'!$A$5:$C$204,3,FALSE),\"\")","v":0},null,{"$f":"IFERROR(VLOOKUP(D141,'matriz puntaje'!$B$3:$C$6,2,FALSE),\"\")","v":""},null,"",null,{"$f":"IFERROR(VLOOKUP(H141,'matriz puntaje'!$B$3:$C$6,2,FALSE),\"\")","v":""},null,"",null,{"$f":"IFERROR(VLOOKUP(L141,'matriz puntaje'!$B$3:$C$6,2,FALSE),\"\")","v":""},null,"",""]
[140,{"$f":"IFERROR(VLOOKUP(A142,'matriz evaluación'!$A$5:$C$204,2,FALSE),\"\")","v":0},{"$f":"IFERROR(VLOOKUP(A142,'matriz evaluación'!$A$5:$C$204,3,FALSE),\"\")","v":0},null,{"$f":"IFERROR(VLOOKUP(D142,'matriz puntaje'!$B$3:$C$6,2,FALSE),\"\")","v":""},null,"",null,{"$f":"IFERROR(VLOOKUP(H142,'matriz puntaje'!$B$3:$C$6,2,FALSE),\"\")","v":""},null,"",null,{"$f":"IFERROR(VLOOKUP(L142,'matriz puntaje'!$B$3:$C$6,2,FALSE),\"\")","v":""},null,"",""]
[141,{"$f":"IFERROR(VLOOKUP(A143,'matriz evaluación'!$A$5:$C$204,2,FALSE),\"\")","v":0},{"$f":"IFERROR(VLOOKUP(A143,'matriz evaluación'!$A$5:$C$204,3,FALSE),\"\")","v":0},null,{"$f":"IFERROR(VLOOKUP(D143,'matriz puntaje'!$B$3:$C$6,2,FALSE),\"\")","v":""},null,"",null,{"$f":"IFERROR(VLOOKUP(H143,'matriz puntaje'!$B$3:$C$6,2,FALSE),\"\")","v":""},null,"",null,{"$f":"IFERROR(VLOOKUP(L143,'matriz puntaje'!$B$3:$C$6,2,FALSE),\"\")","v":""},null,"",""]
[142,{"$f":"IFERROR(VLOOKUP(A144,'matriz evaluación'!$A$5:$C$204,2,FALSE),\"\")","v":0},{"$f":"IFERROR(VLOOKUP(A144,'matriz evaluación'!$A$5:$C$204,3,FALSE),\"\")","v":0},null,{"$f":"IFERROR(VLOOKUP(D144,'matriz puntaje'!$B$3:$C$6,2,FALSE),\"\")","v":""},null,"",null,{"$f":"IFERROR(VLOOKUP(H144,'matriz puntaje'!$B$3:$C$6,2,FALSE),\"\")","v":""},null,"",null,{"$f":"IFERROR(VLOOKUP(L144,'matriz puntaje'!$B$3:$C$6,2,FALSE),\"\")","v":""},null,"",""]
[143,{"$f":"IFERROR(VLOOKUP(A145,'matriz evaluación'!$A$5:$C$204,2,FALSE),\"\")","v":0},{"$f":"IFERROR(VLOOKUP(A145,'matriz evaluación'!$A$5:$C$204,3,FALSE),\"\")","v":0},null,{"$f":"IFERROR(VLOOKUP(D145,'matriz puntaje'!$B$3:$C$6,2,FALSE),\"\")","v":""},null,"",null,{"$f":"IFERROR(VLOOKUP(H145,'matriz puntaje'!$B$3:$C$6,2,FALSE),\"\")","v":""},null,"",null,{"$f":"IFERROR(VLOOKUP(L145,'matriz puntaje'!$B$3:$C$6,2,FALSE),\"\")","v":""},null,"",""]
[144,{"$f":"IFERROR(VLOOKUP(A146,'matriz evaluación'!$A$5:$C$204,2,FALSE),\"\")","v":0},{"$f":"IFERROR(VLOOKUP(A146,'matriz evaluación'!$A$5:$C$204,3,FALSE),\"\")","v":0},null,{"$f":"IFERROR(VLOOKUP(D146,'matriz puntaje'!$B$3:$C$6,2,FALSE),\"\")","v":""},null,"",null,{"$f":"IFERROR(VLOOKUP(H146,'matriz puntaje'!$B$3:$C$6,2,FALSE),\"\")","v":""},null,"",null,{"$f":"IFERROR(VLOOKUP(L146,'matriz puntaje'!$B$3:$C$6,2,FALSE),\"\")","v":""},null,"",""]
[145,{"$f":"IFERROR(VLOOKUP(A147,'matriz evaluación'!$A$5:$C$204,2,FALSE),\"\")","v":0},{"$f":"IFERROR(VLOOKUP(A147,'matriz evaluación'!$A$5:$C$204,3,FALSE),\"\")","v":0},null,{"$f":"IFERROR(VLOOKUP(D147,'matriz puntaje'!$B$3:$C$6,2,FALSE),\"\")","v":""},null,"",null,{"$f":"IFERROR(VLOOKUP(H147,'matriz puntaje'!$B$3:$C$6,2,FALSE),\"\")","v":""},null,"",null,{"$f":"IFERROR(VLOOKUP(L147,'matriz puntaje'!$B$3:$C$6,2,FALSE),\"\")","v":""},null,"",""]
[146,{"$f":"IFERROR(VLOOKUP(A148,'matriz evaluación'!$A$5:$C$204,2,FALSE),\"\")","v":0},{"$f":"IFERROR(VLOOKUP(A148,'matriz evaluación'!$A$5:$C$204,3,FALSE),\"\")","v":0},null,{"$f":"IFERROR(VLOOKUP(D148,'matriz puntaje'!$B$3:$C$6,2,FALSE),\"\")","v":""},null,"",null,{"$f":"IFERROR(VLOOKUP(H148,'matriz puntaje'!$B$3:$C$6,2,FALSE),\"\")","v":""},null,"",null,{"$f":"IFERROR(VLOOKUP(L148,'matriz puntaje'!$B$3:$C$6,2,FALSE),\"\")","v":""},null,"",""]
[147,{"$f":"IFERROR(VLOOKUP(A149,'matriz evaluación'!$A$5:$C$204,2,FALSE),\"\")","v":0},{"$f":"IFERROR(VLOOKUP(A149,'matriz evaluación'!$A$5:$C$204,3,FALSE),\"\")","v":0},null,{"$f":"IFERROR(VLOOKUP(D149,'matriz puntaje'!$B$3:$C$6,2,FALSE),\"\")","v":""},null,"",null,{"$f":"IFERROR(VLOOKUP(H149,'matriz puntaje'!$B$3:$C$6,2,FALSE),\"\")","v":""},null,"",null,{"$f":"IFERROR(VLOOKUP(L149,'matriz puntaje'!$B$3:$C$6,2,FALSE),\"\")","v":""},null,"",""]
[148,{"$f":"IFERROR(VLOOKUP(A150,'matriz evaluación'!$A$5:$C$204,2,FALSE),\"\")","v":0},{"$f":"IFERROR(VLOOKUP(A150,'matriz evaluación'!$A$5:$C$204,3,FALSE),\"\")","v":0},null,{"$f":"IFERROR(VLOOKUP(D150,'matriz puntaje'!$B$3:$C$6,2,FALSE),\"\")","v":""},null,"",null,{"$f":"IFERROR(VLOOKUP(H150,'matriz puntaje'!$B$3:$C$6,2,FALSE),\"\")","v":""},null,"",null,{"$f":"IFERROR(VLOOKUP(L150,'matriz puntaje'!$B$3:$C$6,2,FALSE),\"\")","v":""},null,"",""]
[149,{"$f":"IFERROR(VLOOKUP(A151,'matriz evaluación'!$A$5:$C$204,2,FALSE),\"\")","v":0},{"$f":"IFERROR(VLOOKUP(A151,'matriz evaluación'!$A$5:$C$204,3,FALSE),\"\")","v":0},null,{"$f":"IFERROR(VLOOKUP(D151,'matriz puntaje'!$B$3:$C$6,2,FALSE),\"\")","v":""},null,"",null,{"$f":"IFERROR(VLOOKUP(H151,'matriz puntaje'!$B$3:$C$6,2,FALSE),\"\")","v":""},null,"",null,{"$f":"IFERROR(VLOOKUP(L151,'matriz puntaje'!$B$3:$C$6,2,FALSE),\"\")","v":""},null,"",""]
[150,{"$f":"IFERROR(VLOOKUP(A152,'matriz evaluación'!$A$5:$C$204,2,FALSE),\"\")","v":0},{"$f":"IFERROR(VLOOKUP(A152,'matriz evaluación'!$A$5:$C$204,3,FALSE),\"\")","v":0},null,{"$f":"IFERROR(VLOOKUP(D152,'matriz puntaje'!$B$3:$C$6,2,FALSE),\"\")","v":""},null,"",null,{"$f":"IFERROR(VLOOKUP(H152,'matriz puntaje'!$B$3:$C$6,2,FALSE),\"\")","v":""},null,"",null,{"$f":"IFERROR(VLOOKUP(L152,'matriz puntaje'!$B$3:$C$6,2,FALSE),\"\")","v":""},null,"",""]
[151,{"$f":"IFERROR(VLOOKUP(A153,'matriz evaluación'!$A$5:$C$204,2,FALSE),\"\")","v":0},{"$f":"IFERROR(VLOOKUP(A153,'matriz evaluación'!$A$5:$C$204,3,FALSE),\"\")","v":0},null,{"$f":"IFERROR(VLOOKUP(D153,'matriz puntaje'!$B$3:$C$6,2,FALSE),\"\")","v":""},null,"",null,{"$f":"IFERROR(VLOOKUP(H153,'matriz puntaje'!$B$3:$C$6,2,FALSE),\"\")","v":""},null,"",null,{"$f":"IFERROR(VLOOKUP(L153,'matriz puntaje'!$B$3:$C$6,2,FALSE),\"\")","v":""},null,"",""]
[152,{"$f":"IFERROR(VLOOKUP(A154,'matriz evaluación'!$A$5:$C$204,2,FALSE),\"\")","v":0},{"$f":"IFERROR(VLOOKUP(A154,'matriz evaluación'!$A$5:$C$204,3,FALSE),\"\")","v":0},null,{"$f":"IFERROR(VLOOKUP(D154,'matriz puntaje'!$B$3:$C$6,2,FALSE),\"\")","v":""},null,"",null,{"$f":"IFERROR(VLOOKUP(H154,'matriz puntaje'!$B$3:$C$6,2,FALSE),\"\")","v":""},null,"",null,{"$f":"IFERROR(VLOOKUP(L154,'matriz puntaje'!$B$3:$C$6,2,FALSE),\"\")","v":""},null,"",""]
[153,{"$f":"IFERROR(VLOOKUP(A155,'matriz evaluación'!$A$5:$C$204,2,FALSE),\"\")","v":0},{"$f":"IFERROR(VLOOKUP(A155,'matriz evaluación'!$A$5:$C$204,3,FALSE),\"\")","v":0},null,{"$f":"IFERROR(VLOOKUP(D155,'matriz puntaje'!$B$3:$C$6,2,FALSE),\"\")","v":""},null,"",null,{"$f":"IFERROR(VLOOKUP(H155,'matriz puntaje'!$B$3:$C$6,2,FALSE),\"\")","v":""},null,"",null,{"$f":"IFERROR(VLOOKUP(L155,'matriz puntaje'!$B$3:$C$6,2,FALSE),\"\")","v":""},null,"",""]
[154,{"$f":"IFERROR(VLOOKUP(A156,'matriz evaluación'!$A$5:$C$204,2,FALSE),\"\")","v":0},{"$f":"IFERROR(VLOOKUP(A156,'matriz evaluación'!$A$5:$C$204,3,FALSE),\"\")","v":0},null,{"$f":"IFERROR(VLOOKUP(D156,'matriz puntaje'!$B$3:$C$6,2,FALSE),\"\")","v":""},null,"",null,{"$f":"IFERROR(VLOOKUP(H156,'matriz puntaje'!$B$3:$C$6,2,FALSE),\"\")","v":""},null,"",null,{"$f":"IFERROR(VLOOKUP(L156,'matriz puntaje'!$B$3:$C$6,2,FALSE),\"\")","v":""},null,"",""]
[155,{"$f":"IFERROR(VLOOKUP(A157,'matriz evaluación'!$A$5:$C$204,2,FALSE),\"\")","v":0},{"$f":"IFERROR(VLOOKUP(A157,'matriz evaluación'!$A$5:$C$204,3,FALSE),\"\")","v":0},null,{"$f":"IFERROR(VLOOKUP(D157,'matriz puntaje'!$B$3:$C$6,2,FALSE),\"\")","v":""},null,"",null,{"$f":"IFERROR(VLOOKUP(H157,'matriz puntaje'!$B$3:$C$6,2,FALSE),\"\")","v":""},null,"",null,{"$f":"IFERROR(VLOOKUP(L157,'matriz puntaje'!$B$3:$C$6,2,FALSE),\"\")","v":""},null,"",""]
[156,{"$f":"IFERROR(VLOOKUP(A158,'matriz evaluación'!$A$5:$C$204,2,FALSE),\"\")","v":0},{"$f":"IFERROR(VLOOKUP(A158,'matriz evaluación'!$A$5:$C$204,3,FALSE),\"\")","v":0},null,{"$f":"IFERROR(VLOOKUP(D158,'matriz puntaje'!$B$3:$C$6,2,FALSE),\"\")","v":""},null,"",null,{"$f":"IFERROR(VLOOKUP(H158,'matriz puntaje'!$B$3:$C$6,2,FALSE),\"\")","v":""},null,"",null,{"$f":"IFERROR(VLOOKUP(L158,'matriz puntaje'!$B$3:$C$6,2,FALSE),\"\")","v":""},null,"",""]
[157,{"$f":"IFERROR(VLOOKUP(A159,'matriz evaluación'!$A$5:$C$204,2,FALSE),\"\")","v":0},{"$f":"IFERROR(VLOOKUP(A159,'matriz evaluación'!$A$5:$C$204,3,FALSE),\"\")","v":0},null,{"$f":"IFERROR(VLOOKUP(D159,'matriz puntaje'!$B$3:$C$6,2,FALSE),\"\")","v":""},null,"",null,{"$f":"IFERROR(VLOOKUP(H159,'matriz puntaje'!$B$3:$C$6,2,FALSE),\"\")","v":""},null,"",null,{"$f":"IFERROR(VLOOKUP(L159,'matriz puntaje'!$B$3:$C$6,2,FALSE),\"\")","v":""},null,"",""]
[158,{"$f":"IFERROR(VLOOKUP(A160,'matriz evaluación'!$A$5:$C$204,2,FALSE),\"\")","v":0},{"$f":"IFERROR(VLOOKUP(A160,'matriz evaluación'!$A$5:$C$204,3,FALSE),\"\")","v":0},null,{"$f":"IFERROR(VLOOKUP(D160,'matriz puntaje'!$B$3:$C$6,2,FALSE),\"\")","v":""},null,"",null,{"$f":"IFERROR(VLOOKUP(H160,'matriz puntaje'!$B$3:$C$6,2,FALSE),\"\")","v":""},null,"",null,{"$f":"IFERROR(VLOOKUP(L160,'matriz puntaje'!$B$3:$C$6,2,FALSE),\"\")","v":""},null,"",""]
[159,{"$f":"IFERROR(VLOOKUP(A161,'matriz evaluación'!$A$5:$C$204,2,FALSE),\"\")","v":0},{"$f":"IFERROR(VLOOKUP(A161,'matriz evaluación'!$A$5:$C$204,3,FALSE),\"\")","v":0},null,{"$f":"IFERROR(VLOOKUP(D161,'matriz puntaje'!$B$3:$C$6,2,FALSE),\"\")","v":""},null,"",null,{"$f":"IFERROR(VLOOKUP(H161,'matriz puntaje'!$B$3:$C$6,2,FALSE),\"\")","v":""},null,"",null,{"$f":"IFERROR(VLOOKUP(L161,'matriz puntaje'!$B$3:$C$6,2,FALSE),\"\")","v":""},null,"",""]
[160,{"$f":"IFERROR(VLOOKUP(A162,'matriz evaluación'!$A$5:$C$204,2,FALSE),\"\")","v":0},{"$f":"IFERROR(VLOOKUP(A162,'matriz evaluación'!$A$5:$C$204,3,FALSE),\"\")","v":0},null,{"$f":"IFERROR(VLOOKUP(D162,'matriz puntaje'!$B$3:$C$6,2,FALSE),\"\")","v":""},null,"",null,{"$f":"IFERROR(VLOOKUP(H162,'matriz puntaje'!$B$3:$C$6,2,FALSE),\"\")","v":""},null,"",null,{"$f":"IFERROR(VLOOKUP(L162,'matriz puntaje'!$B$3:$C$6,2,FALSE),\"\")","v":""},null,"",""]
[161,{"$f":"IFERROR(VLOOKUP(A163,'matriz evaluación'!$A$5:$C$204,2,FALSE),\"\")","v":0},{"$f":"IFERROR(VLOOKUP(A163,'matriz evaluación'!$A$5:$C$204,3,FALSE),\"\")","v":0},null,{"$f":"IFERROR(VLOOKUP(D163,'matriz puntaje'!$B$3:$C$6,2,FALSE),\"\")","v":""},null,"",null,{"$f":"IFERROR(VLOOKUP(H163,'matriz puntaje'!$B$3:$C$6,2,FALSE),\"\")","v":""},null,"",null,{"$f":"IFERROR(VLOOKUP(L163,'matriz puntaje'!$B$3:$C$6,2,FALSE),\"\")","v":""},null,"",""]
[162,{"$f":"IFERROR(VLOOKUP(A164,'matriz evaluación'!$A$5:$C$204,2,FALSE),\"\")","v":0},{"$f":"IFERROR(VLOOKUP(A164,'matriz evaluación'!$A$5:$C$204,3,FALSE),\"\")","v":0},null,{"$f":"IFERROR(VLOOKUP(D164,'matriz puntaje'!$B$3:$C$6,2,FALSE),\"\")","v":""},null,"",null,{"$f":"IFERROR(VLOOKUP(H164,'matriz puntaje'!$B$3:$C$6,2,FALSE),\"\")","v":""},null,"",null,{"$f":"IFERROR(VLOOKUP(L164,'matriz puntaje'!$B$3:$C$6,2,FALSE),\"\")","v":""},null,"",""]
[163,{"$f":"IFERROR(VLOOKUP(A165,'matriz evaluación'!$A$5:$C$204,2,FALSE),\"\")","v":0},{"$f":"IFERROR(VLOOKUP(A165,'matriz evaluación'!$A$5:$C$204,3,FALSE),\"\")","v":0},null,{"$f":"IFERROR(VLOOKUP(D165,'matriz puntaje'!$B$3:$C$6,2,FALSE),\"\")","v":""},null,"",null,{"$f":"IFERROR(VLOOKUP(H165,'matriz puntaje'!$B$3:$C$6,2,FALSE),\"\")","v":""},null,"",null,{"$f":"IFERROR(VLOOKUP(L165,'matriz puntaje'!$B$3:$C$6,2,FALSE),\"\")","v":""},null,"",""]
[164,{"$f":"IFERROR(VLOOKUP(A166,'matriz evaluación'!$A$5:$C$204,2,FALSE),\"\")","v":0},{"$f":"IFERROR(VLOOKUP(A166,'matriz evaluación'!$A$5:$C$204,3,FALSE),\"\")","v":0},null,{"$f":"IFERROR(VLOOKUP(D166,'matriz puntaje'!$B$3:$C$6,2,FALSE),\"\")","v":""},null,"",null,{"$f":"IFERROR(VLOOKUP(H166,'matriz puntaje'!$B$3:$C$6,2,FALSE),\"\")","v":""},null,"",null,{"$f":"IFERROR(VLOOKUP(L166,'matriz puntaje'!$B$3:$C$6,2,FALSE),\"\")","v":""},null,"",""]
[165,{"$f":"IFERROR(VLOOKUP(A167,'matriz evaluación'!$A$5:$C$204,2,FALSE),\"\")","v":0},{"$f":"IFERROR(VLOOKUP(A167,'matriz evaluación'!$A$5:$C$204,3,FALSE),\"\")","v":0},null,{"$f":"IFERROR(VLOOKUP(D167,'matriz puntaje'!$B$3:$C$6,2,FALSE),\"\")","v":""},null,"",null,{"$f":"IFERROR(VLOOKUP(H167,'matriz puntaje'!$B$3:$C$6,2,FALSE),\"\")","v":""},null,"",null,{"$f":"IFERROR(VLOOKUP(L167,'matriz puntaje'!$B$3:$C$6,2,FALSE),\"\")","v":""},null,"",""]
[166,{"$f":"IFERROR(VLOOKUP(A168,'matriz evaluación'!$A$5:$C$204,2,FALSE),\"\")","v":0},{"$f":"IFERROR(VLOOKUP(A168,'matriz evaluación'!$A$5:$C$204,3,FALSE),\"\")","v":0},null,{"$f":"IFERROR(VLOOKUP(D168,'matriz puntaje'!$B$3:$C$6,2,FALSE),\"\")","v":""},null,"",null,{"$f":"IFERROR(VLOOKUP(H168,'matriz puntaje'!$B$3:$C$6,2,FALSE),\"\")","v":""},null,"",null,{"$f":"IFERROR(VLOOKUP(L168,'matriz puntaje'!$B$3:$C$6,2,FALSE),\"\")","v":""},null,"",""]
[167,{"$f":"IFERROR(VLOOKUP(A169,'matriz evaluación'!$A$5:$C$204,2,FALSE),\"\")","v":0},{"$f":"IFERROR(VLOOKUP(A169,'matriz evaluación'!$A$5:$C$204,3,FALSE),\"\")","v":0},null,{"$f":"IFERROR(VLOOKUP(D169,'matriz puntaje'!$B$3:$C$6,2,FALSE),\"\")","v":""},null,"",null,{"$f":"IFERROR(VLOOKUP(H169,'matriz puntaje'!$B$3:$C$6,2,FALSE),\"\")","v":""},null,"",null,{"$f":"IFERROR(VLOOKUP(L169,'matriz puntaje'!$B$3:$C$6,2,FALSE),\"\")","v":""},null,"",""]
[168,{"$f":"IFERROR(VLOOKUP(A170,'matriz evaluación'!$A$5:$C$204,2,FALSE),\"\")","v":0},{"$f":"IFERROR(VLOOKUP(A170,'matriz evaluación'!$A$5:$C$204,3,FALSE),\"\")","v":0},null,{"$f":"IFERROR(VLOOKUP(D170,'matriz puntaje'!$B$3:$C$6,2,FALSE),\"\")","v":""},null,"",null,{"$f":"IFERROR(VLOOKUP(H170,'matriz puntaje'!$B$3:$C$6,2,FALSE),\"\")","v":""},null,"",null,{"$f":"IFERROR(VLOOKUP(L170,'matriz puntaje'!$B$3:$C$6,2,FALSE),\"\")","v":""},null,"",""]
[169,{"$f":"IFERROR(VLOOKUP(A171,'matriz evaluación'!$A$5:$C$204,2,FALSE),\"\")","v":0},{"$f":"IFERROR(VLOOKUP(A171,'matriz evaluación'!$A$5:$C$204,3,FALSE),\"\")","v":0},null,{"$f":"IFERROR(VLOOKUP(D171,'matriz puntaje'!$B$3:$C$6,2,FALSE),\"\")","v":""},null,"",null,{"$f":"IFERROR(VLOOKUP(H171,'matriz puntaje'!$B$3:$C$6,2,FALSE),\"\")","v":""},null,"",null,{"$f":"IFERROR(VLOOKUP(L171,'matriz puntaje'!$B$3:$C$6,2,FALSE),\"\")","v":""},null,"",""]
[170,{"$f":"IFERROR(VLOOKUP(A172,'matriz evaluación'!$A$5:$C$204,2,FALSE),\"\")","v":0},{"$f":"IFERROR(VLOOKUP(A172,'matriz evaluación'!$A$5:$C$204,3,FALSE),\"\")","v":0},null,{"$f":"IFERROR(VLOOKUP(D172,'matriz puntaje'!$B$3:$C$6,2,FALSE),\"\")","v":""},null,"",null,{"$f":"IFERROR(VLOOKUP(H172,'matriz puntaje'!$B$3:$C$6,2,FALSE),\"\")","v":""},null,"",null,{"$f":"IFERROR(VLOOKUP(L172,'matriz puntaje'!$B$3:$C$6,2,FALSE),\"\")","v":""},null,"",""]
[171,{"$f":"IFERROR(VLOOKUP(A173,'matriz evaluación'!$A$5:$C$204,2,FALSE),\"\")","v":0},{"$f":"IFERROR(VLOOKUP(A173,'matriz evaluación'!$A$5:$C$204,3,FALSE),\"\")","v":0},null,{"$f":"IFERROR(VLOOKUP(D173,'matriz puntaje'!$B$3:$C$6,2,FALSE),\"\")","v":""},null,"",null,{"$f":"IFERROR(VLOOKUP(H173,'matriz puntaje'!$B$3:$C$6,2,FALSE),\"\")","v":""},null,"",null,{"$f":"IFERROR(VLOOKUP(L173,'matriz puntaje'!$B$3:$C$6,2,FALSE),\"\")","v":""},null,"",""]
[172,{"$f":"IFERROR(VLOOKUP(A174,'matriz evaluación'!$A$5:$C$204,2,FALSE),\"\")","v":0},{"$f":"IFERROR(VLOOKUP(A174,'matriz evaluación'!$A$5:$C$204,3,FALSE),\"\")","v":0},null,{"$f":"IFERROR(VLOOKUP(D174,'matriz puntaje'!$B$3:$C$6,2,FALSE),\"\")","v":""},null,"",null,{"$f":"IFERROR(VLOOKUP(H174,'matriz puntaje'!$B$3:$C$6,2,FALSE),\"\")","v":""},null,"",null,{"$f":"IFERROR(VLOOKUP(L174,'matriz puntaje'!$B$3:$C$6,2,FALSE),\"\")","v":""},null,"",""]
[173,{"$f":"IFERROR(VLOOKUP(A175,'matriz evaluación'!$A$5:$C$204,2,FALSE),\"\")","v":0},{"$f":"IFERROR(VLOOKUP(A175,'matriz evaluación'!$A$5:$C$204,3,FALSE),\"\")","v":0},null,{"$f":"IFERROR(VLOOKUP(D175,'matriz puntaje'!$B$3:$C$6,2,FALSE),\"\")","v":""},null,"",null,{"$f":"IFERROR(VLOOKUP(H175,'matriz puntaje'!$B$3:$C$6,2,FALSE),\"\")","v":""},null,"",null,{"$f":"IFERROR(VLOOKUP(L175,'matriz puntaje'!$B$3:$C$6,2,FALSE),\"\")","v":""},null,"",""]
[174,{"$f":"IFERROR(VLOOKUP(A176,'matriz evaluación'!$A$5:$C$204,2,FALSE),\"\")","v":0},{"$f":"IFERROR(VLOOKUP(A176,'matriz evaluación'!$A$5:$C$204,3,FALSE),\"\")","v":0},null,{"$f":"IFERROR(VLOOKUP(D176,'matriz puntaje'!$B$3:$C$6,2,FALSE),\"\")","v":""},null,"",null,{"$f":"IFERROR(VLOOKUP(H176,'matriz puntaje'!$B$3:$C$6,2,FALSE),\"\")","v":""},null,"",null,{"$f":"IFERROR(VLOOKUP(L176,'matriz puntaje'!$B$3:$C$6,2,FALSE),\"\")","v":""},null,"",""]
[175,{"$f":"IFERROR(VLOOKUP(A177,'matriz evaluación'!$A$5:$C$204,2,FALSE),\"\")","v":0},{"$f":"IFERROR(VLOOKUP(A177,'matriz evaluación'!$A$5:$C$204,3,FALSE),\"\")","v":0},null,{"$f":"IFERROR(VLOOKUP(D177,'matriz puntaje'!$B$3:$C$6,2,FALSE),\"\")","v":""},null,"",null,{"$f":"IFERROR(VLOOKUP(H177,'matriz puntaje'!$B$3:$C$6,2,FALSE),\"\")","v":""},null,"",null,{"$f":"IFERROR(VLOOKUP(L177,'matriz puntaje'!$B$3:$C$6,2,FALSE),\"\")","v":""},null,"",""]
[176,{"$f":"IFERROR(VLOOKUP(A178,'matriz evaluación'!$A$5:$C$204,2,FALSE),\"\")","v":0},{"$f":"IFERROR(VLOOKUP(A178,'matriz evaluación'!$A$5:$C$204,3,FALSE),\"\")","v":0},null,{"$f":"IFERROR(VLOOKUP(D178,'matriz puntaje'!$B$3:$C$6,2,FALSE),\"\")","v":""},null,"",null,{"$f":"IFERROR(VLOOKUP(H178,'matriz puntaje'!$B$3:$C$6,2,FALSE),\"\")","v":""},null,"",null,{"$f":"IFERROR(VLOOKUP(L178,'matriz puntaje'!$B$3:$C$6,2,FALSE),\"\")","v":""},null,"",""]
[177,{"$f":"IFERROR(VLOOKUP(A179,'matriz evaluación'!$A$5:$C$204,2,FALSE),\"\")","v":0},{"$f":"IFERROR(VLOOKUP(A179,'matriz evaluación'!$A$5:$C$204,3,FALSE),\"\")","v":0},null,{"$f":"IFERROR(VLOOKUP(D179,'matriz puntaje'!$B$3:$C$6,2,FALSE),\"\")","v":""},null,"",null,{"$f":"IFERROR(VLOOKUP(H179,'matriz puntaje'!$B$3:$C$6,2,FALSE),\"\")","v":""},null,"",null,{"$f":"IFERROR(VLOOKUP(L179,'matriz puntaje'!$B$3:$C$6,2,FALSE),\"\")","v":""},null,"",""]
[178,{"$f":"IFERROR(VLOOKUP(A180,'matriz evaluación'!$A$5:$C$204,2,FALSE),\"\")","v":0},{"$f":"IFERROR(VLOOKUP(A180,'matriz evaluación'!$A$5:$C$204,3,FALSE),\"\")","v":0},null,{"$f":"IFERROR(VLOOKUP(D180,'matriz puntaje'!$B$3:$C$6,2,FALSE),\"\")","v":""},null,"",null,{"$f":"IFERROR(VLOOKUP(H180,'matriz puntaje'!$B$3:$C$6,2,FALSE),\"\")","v":""},null,"",null,{"$f":"IFERROR(VLOOKUP(L180,'matriz puntaje'!$B$3:$C$6,2,FALSE),\"\")","v":""},null,"",""]
[179,{"$f":"IFERROR(VLOOKUP(A181,'matriz evaluación'!$A$5:$C$204,2,FALSE),\"\")","v":0},{"$f":"IFERROR(VLOOKUP(A181,'matriz evaluación'!$A$5:$C$204,3,FALSE),\"\")","v":0},null,{"$f":"IFERROR(VLOOKUP(D181,'matriz puntaje'!$B$3:$C$6,2,FALSE),\"\")","v":""},null,"",null,{"$f":"IFERROR(VLOOKUP(H181,'matriz puntaje'!$B$3:$C$6,2,FALSE),\"\")","v":""},null,"",null,{"$f":"IFERROR(VLOOKUP(L181,'matriz puntaje'!$B$3:$C$6,2,FALSE),\"\")","v":""},null,"",""]
[180,{"$f":"IFERROR(VLOOKUP(A182,'matriz evaluación'!$A$5:$C$204,2,FALSE),\"\")","v":0},{"$f":"IFERROR(VLOOKUP(A182,'matriz evaluación'!$A$5:$C$204,3,FALSE),\"\")","v":0},null,{"$f":"IFERROR(VLOOKUP(D182,'matriz puntaje'!$B$3:$C$6,2,FALSE),\"\")","v":""},null,"",null,{"$f":"IFERROR(VLOOKUP(H182,'matriz puntaje'!$B$3:$C$6,2,FALSE),\"\")","v":""},null,"",null,{"$f":"IFERROR(VLOOKUP(L182,'matriz puntaje'!$B$3:$C$6,2,FALSE),\"\")","v":""},null,"",""]
[181,{"$f":"IFERROR(VLOOKUP(A183,'matriz evaluación'!$A$5:$C$204,2,FALSE),\"\")","v":0},{"$f":"IFERROR(VLOOKUP(A183,'matriz evaluación'!$A$5:$C$204,3,FALSE),\"\")","v":0},null,{"$f":"IFERROR(VLOOKUP(D183,'matriz puntaje'!$B$3:$C$6,2,FALSE),\"\")","v":""},null,"",null,{"$f":"IFERROR(VLOOKUP(H183,'matriz puntaje'!$B$3:$C$6,2,FALSE),\"\")","v":""},null,"",null,{"$f":"IFERROR(VLOOKUP(L183,'matriz puntaje'!$B$3:$C$6,2,FALSE),\"\")","v":""},null,"",""]
[182,{"$f":"IFERROR(VLOOKUP(A184,'matriz evaluación'!$A$5:$C$204,2,FALSE),\"\")","v":0},{"$f":"IFERROR(VLOOKUP(A184,'matriz evaluación'!$A$5:$C$204,3,FALSE),\"\")","v":0},null,{"$f":"IFERROR(VLOOKUP(D184,'matriz puntaje'!$B$3:$C$6,2,FALSE),\"\")","v":""},null,"",null,{"$f":"IFERROR(VLOOKUP(H184,'matriz puntaje'!$B$3:$C$6,2,FALSE),\"\")","v":""},null,"",null,{"$f":"IFERROR(VLOOKUP(L184,'matriz puntaje'!$B$3:$C$6,2,FALSE),\"\")","v":""},null,"",""]
[183,{"$f":"IFERROR(VLOOKUP(A185,'matriz evaluación'!$A$5:$C$204,2,FALSE),\"\")","v":0},{"$f":"IFERROR(VLOOKUP(A185,'matriz evaluación'!$A$5:$C$204,3,FALSE),\"\")","v":0},null,{"$f":"IFERROR(VLOOKUP(D185,'matriz puntaje'!$B$3:$C$6,2,FALSE),\"\")","v":""},null,"",null,{"$f":"IFERROR(VLOOKUP(H185,'matriz puntaje'!$B$3:$C$6,2,FALSE),\"\")","v":""},null,"",null,{"$f":"IFERROR(VLOOKUP(L185,'matriz puntaje'!$B$3:$C$6,2,FALSE),\"\")","v":""},null,"",""]
[184,{"$f":"IFERROR(VLOOKUP(A186,'matriz evaluación'!$A$5:$C$204,2,FALSE),\"\")","v":0},{"$f":"IFERROR(VLOOKUP(A186,'matriz evaluación'!$A$5:$C$204,3,FALSE),\"\")","v":0},null,{"$f":"IFERROR(VLOOKUP(D186,'matriz puntaje'!$B$3:$C$6,2,FALSE),\"\")","v":""},null,"",null,{"$f":"IFERROR(VLOOKUP(H186,'matriz puntaje'!$B$3:$C$6,2,FALSE),\"\")","v":""},null,"",null,{"$f":"IFERROR(VLOOKUP(L186,'matriz puntaje'!$B$3:$C$6,2,FALSE),\"\")","v":""},null,"",""]
[185,{"$f":"IFERROR(VLOOKUP(A187,'matriz evaluación'!$A$5:$C$204,2,FALSE),\"\")","v":0},{"$f":"IFERROR(VLOOKUP(A187,'matriz evaluación'!$A$5:$C$204,3,FALSE),\"\")","v":0},null,{"$f":"IFERROR(VLOOKUP(D187,'matriz puntaje'!$B$3:$C$6,2,FALSE),\"\")","v":""},null,"",null,{"$f":"IFERROR(VLOOKUP(H187,'matriz puntaje'!$B$3:$C$6,2,FALSE),\"\")","v":""},null,"",null,{"$f":"IFERROR(VLOOKUP(L187,'matriz puntaje'!$B$3:$C$6,2,FALSE),\"\")","v":""},null,"",""]
[186,{"$f":"IFERROR(VLOOKUP(A188,'matriz evaluación'!$A$5:$C$204,2,FALSE),\"\")","v":0},{"$f":"IFERROR(VLOOKUP(A188,'matriz evaluación'!$A$5:$C$204,3,FALSE),\"\")","v":0},null,{"$f":"IFERROR(VLOOKUP(D188,'matriz puntaje'!$B$3:$C$6,2,FALSE),\"\")","v":""},null,"",null,{"$f":"IFERROR(VLOOKUP(H188,'matriz puntaje'!$B$3:$C$6,2,FALSE),\"\")","v":""},null,"",null,{"$f":"IFERROR(VLOOKUP(L188,'matriz puntaje'!$B$3:$C$6,2,FALSE),\"\")","v":""},null,"",""]
[187,{"$f":"IFERROR(VLOOKUP(A189,'matriz evaluación'!$A$5:$C$204,2,FALSE),\"\")","v":0},{"$f":"IFERROR(VLOOKUP(A189,'matriz evaluación'!$A$5:$C$204,3,FALSE),\"\")","v":0},null,{"$f":"IFERROR(VLOOKUP(D189,'matriz puntaje'!$B$3:$C$6,2,FALSE),\"\")","v":""},null,"",null,{"$f":"IFERROR(VLOOKUP(H189,'matriz puntaje'!$B$3:$C$6,2,FALSE),\"\")","v":""},null,"",null,{"$f":"IFERROR(VLOOKUP(L189,'matriz puntaje'!$B$3:$C$6,2,FALSE),\"\")","v":""},null,"",""]
[188,{"$f":"IFERROR(VLOOKUP(A190,'matriz evaluación'!$A$5:$C$204,2,FALSE),\"\")","v":0},{"$f":"IFERROR(VLOOKUP(A190,'matriz evaluación'!$A$5:$C$204,3,FALSE),\"\")","v":0},null,{"$f":"IFERROR(VLOOKUP(D190,'matriz puntaje'!$B$3:$C$6,2,FALSE),\"\")","v":""},null,"",null,{"$f":"IFERROR(VLOOKUP(H190,'matriz puntaje'!$B$3:$C$6,2,FALSE),\"\")","v":""},null,"",null,{"$f":"IFERROR(VLOOKUP(L190,'matriz puntaje'!$B$3:$C$6,2,FALSE),\"\")","v":""},null,"",""]
[189,{"$f":"IFERROR(VLOOKUP(A191,'matriz evaluación'!$A$5:$C$204,2,FALSE),\"\")","v":0},{"$f":"IFERROR(VLOOKUP(A191,'matriz evaluación'!$A$5:$C$204,3,FALSE),\"\")","v":0},null,{"$f":"IFERROR(VLOOKUP(D191,'matriz puntaje'!$B$3:$C$6,2,FALSE),\"\")","v":""},null,"",null,{"$f":"IFERROR(VLOOKUP(H191,'matriz puntaje'!$B$3:$C$6,2,FALSE),\"\")","v":""},null,"",null,{"$f":"IFERROR(VLOOKUP(L191,'matriz puntaje'!$B$3:$C$6,2,FALSE),\"\")","v":""},null,"",""]
[190,{"$f":"IFERROR(VLOOKUP(A192,'matriz evaluación'!$A$5:$C$204,2,FALSE),\"\")","v":0},{"$f":"IFERROR(VLOOKUP(A192,'matriz evaluación'!$A$5:$C$204,3,FALSE),\"\")","v":0},null,{"$f":"IFERROR(VLOOKUP(D192,'matriz puntaje'!$B$3:$C$6,2,FALSE),\"\")","v":""},null,"",null,{"$f":"IFERROR(VLOOKUP(H192,'matriz puntaje'!$B$3:$C$6,2,FALSE),\"\")","v":""},null,"",null,{"$f":"IFERROR(VLOOKUP(L192,'matriz puntaje'!$B$3:$C$6,2,FALSE),\"\")","v":""},null,"",""]
[191,{"$f":"IFERROR(VLOOKUP(A193,'matriz evaluación'!$A$5:$C$204,2,FALSE),\"\")","v":0},{"$f":"IFERROR(VLOOKUP(A193,'matriz evaluación'!$A$5:$C$204,3,FALSE),\"\")","v":0},null,{"$f":"IFERROR(VLOOKUP(D193,'matriz puntaje'!$B$3:$C$6,2,FALSE),\"\")","v":""},null,"",null,{"$f":"IFERROR(VLOOKUP(H193,'matriz puntaje'!$B$3:$C$6,2,FALSE),\"\")","v":""},null,"",null,{"$f":"IFERROR(VLOOKUP(L193,'matriz puntaje'!$B$3:$C$6,2,FALSE),\"\")","v":""},null,"",""]
[192,{"$f":"IFERROR(VLOOKUP(A194,'matriz evaluación'!$A$5:$C$204,2,FALSE),\"\")","v":0},{"$f":"IFERROR(VLOOKUP(A194,'matriz evaluación'!$A$5:$C$204,3,FALSE),\"\")","v":0},null,{"$f":"IFERROR(VLOOKUP(D194,'matriz puntaje'!$B$3:$C$6,2,FALSE),\"\")","v":""},null,"",null,{"$f":"IFERROR(VLOOKUP(H194,'matriz puntaje'!$B$3:$C$6,2,FALSE),\"\")","v":""},null,"",null,{"$f":"IFERROR(VLOOKUP(L194,'matriz puntaje'!$B$3:$C$6,2,FALSE),\"\")","v":""},null,"",""]
[193,{"$f":"IFERROR(VLOOKUP(A195,'matriz evaluación'!$A$5:$C$204,2,FALSE),\"\")","v":0},{"$f":"IFERROR(VLOOKUP(A195,'matriz evaluación'!$A$5:$C$204,3,FALSE),\"\")","v":0},null,{"$f":"IFERROR(VLOOKUP(D195,'matriz puntaje'!$B$3:$C$6,2,FALSE),\"\")","v":""},null,"",null,{"$f":"IFERROR(VLOOKUP(H195,'matriz puntaje'!$B$3:$C$6,2,FALSE),\"\")","v":""},null,"",null,{"$f":"IFERROR(VLOOKUP(L195,'matriz puntaje'!$B$3:$C$6,2,FALSE),\"\")","v":""},null,"",{"$f":"IFERROR(AVERAGE(G195,K195,O195),\"\")","v":""}]
[194,{"$f":"IFERROR(VLOOKUP(A196,'matriz evaluación'!$A$5:$C$204,2,FALSE),\"\")","v":0},{"$f":"IFERROR(VLOOKUP(A196,'matriz evaluación'!$A$5:$C$204,3,FALSE),\"\")","v":0},null,{"$f":"IFERROR(VLOOKUP(D196,'matriz puntaje'!$B$3:$C$6,2,FALSE),\"\")","v":""},null,{"$f":"E196","v":""},null,{"$f":"IFERROR(VLOOKUP(H196,'matriz puntaje'!$B$3:$C$6,2,FALSE),\"\")","v":""},null,{"$f":"I196","v":""},null,{"$f":"IFERROR(VLOOKUP(L196,'matriz puntaje'!$B$3:$C$6,2,FALSE),\"\")","v":""},null,{"$f":"M196","v":""},""]
[195,{"$f":"IFERROR(VLOOKUP(A197,'matriz evaluación'!$A$5:$C$204,2,FALSE),\"\")","v":0},{"$f":"IFERROR(VLOOKUP(A197,'matriz evaluación'!$A$5:$C$204,3,FALSE),\"\")","v":0},null,{"$f":"IFERROR(VLOOKUP(D197,'matriz puntaje'!$B$3:$C$6,2,FALSE),\"\")","v":""},null,"",null,{"$f":"IFERROR(VLOOKUP(H197,'matriz puntaje'!$B$3:$C$6,2,FALSE),\"\")","v":""},null,"",null,{"$f":"IFERROR(VLOOKUP(L197,'matriz puntaje'!$B$3:$C$6,2,FALSE),\"\")","v":""},null,"",""]
[196,{"$f":"IFERROR(VLOOKUP(A198,'matriz evaluación'!$A$5:$C$204,2,FALSE),\"\")","v":0},{"$f":"IFERROR(VLOOKUP(A198,'matriz evaluación'!$A$5:$C$204,3,FALSE),\"\")","v":0},null,{"$f":"IFERROR(VLOOKUP(D198,'matriz puntaje'!$B$3:$C$6,2,FALSE),\"\")","v":""},null,"",null,{"$f":"IFERROR(VLOOKUP(H198,'matriz puntaje'!$B$3:$C$6,2,FALSE),\"\")","v":""},null,"",null,{"$f":"IFERROR(VLOOKUP(L198,'matriz puntaje'!$B$3:$C$6,2,FALSE),\"\")","v":""},null,"",""]
[197,{"$f":"IFERROR(VLOOKUP(A199,'matriz evaluación'!$A$5:$C$204,2,FALSE),\"\")","v":0},{"$f":"IFERROR(VLOOKUP(A199,'matriz evaluación'!$A$5:$C$204,3,FALSE),\"\")","v":0},null,{"$f":"IFERROR(VLOOKUP(D199,'matriz puntaje'!$B$3:$C$6,2,FALSE),\"\")","v":""},null,"",null,{"$f":"IFERROR(VLOOKUP(H199,'matriz puntaje'!$B$3:$C$6,2,FALSE),\"\")","v":""},null,"",null,{"$f":"IFERROR(VLOOKUP(L199,'matriz puntaje'!$B$3:$C$6,2,FALSE),\"\")","v":""},null,"",""]
[198,{"$f":"IFERROR(VLOOKUP(A200,'matriz evaluación'!$A$5:$C$204,2,FALSE),\"\")","v":0},{"$f":"IFERROR(VLOOKUP(A200,'matriz evaluación'!$A$5:$C$204,3,FALSE),\"\")","v":0},null,{"$f":"IFERROR(VLOOKUP(D200,'matriz puntaje'!$B$3:$C$6,2,FALSE),\"\")","v":""},null,"",null,{"$f":"IFERROR(VLOOKUP(H200,'matriz puntaje'!$B$3:$C$6,2,FALSE),\"\")","v":""},null,"",null,{"$f":"IFERROR(VLOOKUP(L200,'matriz puntaje'!$B$3:$C$6,2,FALSE),\"\")","v":""},null,"",""]
[199,{"$f":"IFERROR(VLOOKUP(A201,'matriz evaluación'!$A$5:$C$204,2,FALSE),\"\")","v":0},{"$f":"IFERROR(VLOOKUP(A201,'matriz evaluación'!$A$5:$C$204,3,FALSE),\"\")","v":0},null,{"$f":"IFERROR(VLOOKUP(D201,'matriz puntaje'!$B$3:$C$6,2,FALSE),\"\")","v":""},null,"",null,{"$f":"IFERROR(VLOOKUP(H201,'matriz puntaje'!$B$3:$C$6,2,FALSE),\"\")","v":""},null,"",null,{"$f":"IFERROR(VLOOKUP(L201,'matriz puntaje'!$B$3:$C$6,2,FALSE),\"\")","v":""},null,"",""]
[200,{"$f":"IFERROR(VLOOKUP(A202,'matriz evaluación'!$A$5:$C$204,2,FALSE),\"\")","v":0},{"$f":"IFERROR(VLOOKUP(A202,'matriz evaluación'!$A$5:$C$204,3,FALSE),\"\")","v":0},null,{"$f":"IFERROR(VLOOKUP(D202,'matriz puntaje'!$B$3:$C$6,2,FALSE),\"\")","v":""},null,"",null,{"$f":"IFERROR(VLOOKUP(H202,'matriz puntaje'!$B$3:$C$6,2,FALSE),\"\")","v":""},null,"",null,{"$f":"IFERROR(VLOOKUP(L202,'matriz puntaje'!$B$3:$C$6,2,FALSE),\"\")","v":""},null,"",""]

{"sheet":"ranking acta","index":3,"n_rows":202,"n_cols":6,"rows_kept":202,"cut":false,"hidden":false,"merged":[[0,0,0,5]]}
["RANKING FINAL DE NOTAS"]
["N°","Puntaje","Postulante","Rut","Fecha de Postulación","Hora de Postulación"]
[1,""]
[2,""]
[3,""]
[4,""]
[5,""]
[6,""]
[7,""]
[8,""]
[9,""]
[10,""]
[11,""]
[12,""]
[13,""]
[14,""]
[15,""]
[16,""]
[17,""]
[18,""]
[19,""]
[20,""]
[21,""]
[22,""]
[23,""]
[24,""]
[25,""]
[26,""]
[27,""]
[28,""]
[29,""]
[30,""]
[31,""]
[32,""]
[33,""]
[34,""]
[35,""]
[36,""]
[37,""]
[38,""]
[39,""]
[40,""]
[41,""]
[42,""]
[43,""]
[44,""]
[45,""]
[46,""]
[47,""]
[48,""]
[49,""]
[50,""]
[51,""]
[52,""]
[53,""]
[54,""]
[55,""]
[56,""]
[57,""]
[58,""]
[59,""]
[60,""]
[61,""]
[62,""]
[63,""]
[64,""]
[65,""]
[66,""]
[67,""]
[68,""]
[69,""]
[70,""]
[71,""]
[72,""]
[73,""]
[74,""]
[75,""]
[76,""]
[77,""]
[78,""]
[79,""]
[80,""]
[81,""]
[82,""]
[83,""]
[84,""]
[85,""]
[86,""]
[87,""]
[88,""]
[89,""]
[90,""]
[91,""]
[92,""]
[93,""]
[94,""]
[95,""]
[96,""]
[97,""]
[98,""]
[99,""]
[100,""]
[101,""]
[102,""]
[103,""]
[104,""]
[105,""]
[106,""]
[107,""]
[108,""]
[109,""]
[110,""]
[111,""]
[112,""]
[113,""]
[114,""]
[115,""]
[116,""]
[117,""]
[118,""]
[119,""]
[120,""]
[121,""]
[122,""]
[123,""]
[124,""]
[125,""]
[126,""]
[127,""]
[128,""]
[129,""]
[130,""]
[131,""]
[132,""]
[133,""]
[134,""]
[135,""]
[136,""]
[137,""]
[138,""]
[139,""]
[140,""]
[141,""]
[142,""]
[143,""]
[144,""]
[145,""]
[146,""]
[147,""]
[148,""]
[149,""]
[150,""]
[151,""]
[152,""]
[153,""]
[154,""]
[155,""]
[156,""]
[157,""]
[158,""]
[159,""]
[160,""]
[161,""]
[162,""]
[163,""]
[164,""]
[165,""]
[166,""]
[167,""]
[168,""]
[169,""]
[170,""]
[171,""]
[172,""]
[173,""]
[174,""]
[175,""]
[176,""]
[177,""]
[178,""]
[179,""]
[180,""]
[181,""]
[182,""]
[183,""]
[184,""]
[185,""]
[186,""]
[187,""]
[188,""]
[189,""]
[190,""]
[191,""]
[192,""]
[193,""]
[194,""]
[195,""]
[196,""]
[197,""]
[198,""]
[199,""]
[200,""]